BEGIN:VCALENDAR
VERSION:2.0
PRODID:-//bc magazine - ECPv6.15.20//NONSGML v1.0//EN
CALSCALE:GREGORIAN
METHOD:PUBLISH
X-ORIGINAL-URL:https://www.bcmagazine.net
X-WR-CALDESC:Events for bc magazine
REFRESH-INTERVAL;VALUE=DURATION:PT1H
X-Robots-Tag:noindex
X-PUBLISHED-TTL:PT1H
BEGIN:VTIMEZONE
TZID:Asia/Hong_Kong
BEGIN:STANDARD
TZOFFSETFROM:+0800
TZOFFSETTO:+0800
TZNAME:HKT
DTSTART:20160101T000000
END:STANDARD
END:VTIMEZONE
BEGIN:VEVENT
DTSTART;TZID=Asia/Hong_Kong:20170101T093000
DTEND;TZID=Asia/Hong_Kong:20170101T093000
DTSTAMP:20260423T111001
CREATED:20160919T104237Z
LAST-MODIFIED:20160919T104237Z
UID:10006170-1483263000-1483263000@www.bcmagazine.net
SUMMARY:PACC v DLSWCC
DESCRIPTION:Premier League 1-Day A: PACC v DLSWCC
URL:https://www.bcmagazine.net/event/pacc-v-dlswcc/
LOCATION:Tin Kwong Road Recreation Ground\, Tin Kwong Road\, Mong Kok\, Hong Kong
CATEGORIES:2017,Cricket,Free,Sport
GEO:22.3219997;114.1847986
X-APPLE-STRUCTURED-LOCATION;VALUE=URI;X-ADDRESS=Tin Kwong Road Recreation Ground Tin Kwong Road Mong Kok Hong Kong;X-APPLE-RADIUS=500;X-TITLE=Tin Kwong Road:geo:114.1847986,22.3219997
END:VEVENT
BEGIN:VEVENT
DTSTART;TZID=Asia/Hong_Kong:20170107T130000
DTEND;TZID=Asia/Hong_Kong:20170107T130000
DTSTAMP:20260423T111001
CREATED:20160919T104237Z
LAST-MODIFIED:20160919T104237Z
UID:10006174-1483794000-1483794000@www.bcmagazine.net
SUMMARY:HKCC Willow Wielders v KCC Maidens
DESCRIPTION:Women’s League A: HKCC Willow Wielders v KCC Maidens
URL:https://www.bcmagazine.net/event/hkcc-willow-wielders-v-kcc-maidens-2/
LOCATION:Po Kong Village Road Reservoir Ground\, Po Kong Village Road\, Tsz Wan Shan\, Hong Kong
CATEGORIES:2017,Cricket,Free,Sport
GEO:22.346522;114.204203
X-APPLE-STRUCTURED-LOCATION;VALUE=URI;X-ADDRESS=Po Kong Village Road Reservoir Ground Po Kong Village Road Tsz Wan Shan Hong Kong;X-APPLE-RADIUS=500;X-TITLE=Po Kong Village Road:geo:114.204203,22.346522
END:VEVENT
BEGIN:VEVENT
DTSTART;TZID=Asia/Hong_Kong:20170107T130000
DTEND;TZID=Asia/Hong_Kong:20170107T130000
DTSTAMP:20260423T111001
CREATED:20160919T104237Z
LAST-MODIFIED:20160919T104237Z
UID:10006173-1483794000-1483794000@www.bcmagazine.net
SUMMARY:Laguna Gully v Kai Tak
DESCRIPTION:Championship League B: Laguna Gully v Kai Tak
URL:https://www.bcmagazine.net/event/laguna-gully-v-kai-tak/
LOCATION:Tin Kwong Road Recreation Ground\, Tin Kwong Road\, Mong Kok\, Hong Kong
CATEGORIES:2017,Cricket,Free,Sport
GEO:22.3219997;114.1847986
X-APPLE-STRUCTURED-LOCATION;VALUE=URI;X-ADDRESS=Tin Kwong Road Recreation Ground Tin Kwong Road Mong Kok Hong Kong;X-APPLE-RADIUS=500;X-TITLE=Tin Kwong Road:geo:114.1847986,22.3219997
END:VEVENT
BEGIN:VEVENT
DTSTART;TZID=Asia/Hong_Kong:20170107T130000
DTEND;TZID=Asia/Hong_Kong:20170107T130000
DTSTAMP:20260423T111001
CREATED:20160919T104237Z
LAST-MODIFIED:20160919T104237Z
UID:10006171-1483794000-1483794000@www.bcmagazine.net
SUMMARY:HKCC Nomads v KCC Crusaders
DESCRIPTION:Championship League A: HKCC Nomads v KCC Crusaders
URL:https://www.bcmagazine.net/event/hkcc-nomads-v-kcc-crusaders/
LOCATION:Hong Kong Cricket Club\, 137 Wong Ngai Chung Gap Road\, Hong Kong
CATEGORIES:2017,Cricket,Free,Sport
GEO:22.258574;114.1934009
X-APPLE-STRUCTURED-LOCATION;VALUE=URI;X-ADDRESS=Hong Kong Cricket Club 137 Wong Ngai Chung Gap Road Hong Kong;X-APPLE-RADIUS=500;X-TITLE=137 Wong Ngai Chung Gap Road:geo:114.1934009,22.258574
END:VEVENT
BEGIN:VEVENT
DTSTART;TZID=Asia/Hong_Kong:20170107T130000
DTEND;TZID=Asia/Hong_Kong:20170107T130000
DTSTAMP:20260423T111001
CREATED:20160919T104237Z
LAST-MODIFIED:20160919T104237Z
UID:10006172-1483794000-1483794000@www.bcmagazine.net
SUMMARY:HKCC Gap Ramblers v KCC Tartars
DESCRIPTION:Championship League A: HKCC Gap Ramblers v KCC Tartars
URL:https://www.bcmagazine.net/event/hkcc-gap-ramblers-v-kcc-tartars/
LOCATION:Kowloon Cricket Club\, 10 Cox's Road\, Jordan\, Hong Kong
CATEGORIES:2017,Cricket,Free,Sport
GEO:22.3048927;114.1737401
X-APPLE-STRUCTURED-LOCATION;VALUE=URI;X-ADDRESS=Kowloon Cricket Club 10 Cox's Road Jordan Hong Kong;X-APPLE-RADIUS=500;X-TITLE=10 Cox's Road:geo:114.1737401,22.3048927
END:VEVENT
BEGIN:VEVENT
DTSTART;TZID=Asia/Hong_Kong:20170108T100000
DTEND;TZID=Asia/Hong_Kong:20170108T100000
DTSTAMP:20260423T111001
CREATED:20160919T104236Z
LAST-MODIFIED:20160919T104236Z
UID:10006164-1483869600-1483869600@www.bcmagazine.net
SUMMARY:HKCC v CHK XI
DESCRIPTION:Premier League 1-Day A: HKCC v CHK XI
URL:https://www.bcmagazine.net/event/hkcc-v-chk-xi/
LOCATION:Hong Kong Cricket Club\, 137 Wong Ngai Chung Gap Road\, Hong Kong
CATEGORIES:2017,Cricket,Free,Sport
GEO:22.258574;114.1934009
X-APPLE-STRUCTURED-LOCATION;VALUE=URI;X-ADDRESS=Hong Kong Cricket Club 137 Wong Ngai Chung Gap Road Hong Kong;X-APPLE-RADIUS=500;X-TITLE=137 Wong Ngai Chung Gap Road:geo:114.1934009,22.258574
END:VEVENT
BEGIN:VEVENT
DTSTART;TZID=Asia/Hong_Kong:20170108T100000
DTEND;TZID=Asia/Hong_Kong:20170108T100000
DTSTAMP:20260423T111001
CREATED:20160919T104236Z
LAST-MODIFIED:20160919T104236Z
UID:10006165-1483869600-1483869600@www.bcmagazine.net
SUMMARY:PACC v KCC
DESCRIPTION:Premier League 1-Day A: PACC v KCC
URL:https://www.bcmagazine.net/event/pacc-v-kcc-2/
LOCATION:Kowloon Cricket Club\, 10 Cox's Road\, Jordan\, Hong Kong
CATEGORIES:2017,Cricket,Free,Sport
GEO:22.3048927;114.1737401
X-APPLE-STRUCTURED-LOCATION;VALUE=URI;X-ADDRESS=Kowloon Cricket Club 10 Cox's Road Jordan Hong Kong;X-APPLE-RADIUS=500;X-TITLE=10 Cox's Road:geo:114.1737401,22.3048927
END:VEVENT
BEGIN:VEVENT
DTSTART;TZID=Asia/Hong_Kong:20170108T130000
DTEND;TZID=Asia/Hong_Kong:20170108T130000
DTSTAMP:20260423T111001
CREATED:20160919T104236Z
LAST-MODIFIED:20160919T104236Z
UID:10006167-1483880400-1483880400@www.bcmagazine.net
SUMMARY:HKCC Cavaliers v CCC Fung Wong
DESCRIPTION:Women’s League A: HKCC Cavaliers v CCC Fung Wong
URL:https://www.bcmagazine.net/event/hkcc-cavaliers-v-ccc-fung-wong/
LOCATION:Po Kong Village Road Reservoir Ground\, Po Kong Village Road\, Tsz Wan Shan\, Hong Kong
CATEGORIES:2017,Cricket,Free,Sport
GEO:22.346522;114.204203
X-APPLE-STRUCTURED-LOCATION;VALUE=URI;X-ADDRESS=Po Kong Village Road Reservoir Ground Po Kong Village Road Tsz Wan Shan Hong Kong;X-APPLE-RADIUS=500;X-TITLE=Po Kong Village Road:geo:114.204203,22.346522
END:VEVENT
BEGIN:VEVENT
DTSTART;TZID=Asia/Hong_Kong:20170108T130000
DTEND;TZID=Asia/Hong_Kong:20170108T130000
DTSTAMP:20260423T111001
CREATED:20160919T104236Z
LAST-MODIFIED:20160919T104236Z
UID:10006166-1483880400-1483880400@www.bcmagazine.net
SUMMARY:DLSWCC Sarjan v Pioneers CC
DESCRIPTION:Championship League B: DLSWCC Sarjan v Pioneers CC
URL:https://www.bcmagazine.net/event/dlswcc-sarjan-v-pioneers-cc/
LOCATION:Tin Kwong Road Recreation Ground\, Tin Kwong Road\, Mong Kok\, Hong Kong
CATEGORIES:2017,Cricket,Free,Sport
GEO:22.3219997;114.1847986
X-APPLE-STRUCTURED-LOCATION;VALUE=URI;X-ADDRESS=Tin Kwong Road Recreation Ground Tin Kwong Road Mong Kok Hong Kong;X-APPLE-RADIUS=500;X-TITLE=Tin Kwong Road:geo:114.1847986,22.3219997
END:VEVENT
BEGIN:VEVENT
DTSTART;TZID=Asia/Hong_Kong:20170114T123000
DTEND;TZID=Asia/Hong_Kong:20170114T123000
DTSTAMP:20260423T111001
CREATED:20160919T104236Z
LAST-MODIFIED:20160919T104236Z
UID:10006168-1484397000-1484397000@www.bcmagazine.net
SUMMARY:KCC Saracens v CCC Jing Sun
DESCRIPTION:Championship League A: KCC Saracens v CCC Jing Sun
URL:https://www.bcmagazine.net/event/kcc-saracens-v-ccc-jing-sun/
LOCATION:Po Kong Village Road Park\, 140 Po Kong Village Road\, Diamond Hill\, Hong Kong
CATEGORIES:2017,Cricket,Free,Sport
GEO:22.3435827;114.2044989
X-APPLE-STRUCTURED-LOCATION;VALUE=URI;X-ADDRESS=Po Kong Village Road Park 140 Po Kong Village Road Diamond Hill Hong Kong;X-APPLE-RADIUS=500;X-TITLE=140 Po Kong Village Road:geo:114.2044989,22.3435827
END:VEVENT
BEGIN:VEVENT
DTSTART;TZID=Asia/Hong_Kong:20170114T130000
DTEND;TZID=Asia/Hong_Kong:20170114T130000
DTSTAMP:20260423T111001
CREATED:20160919T104235Z
LAST-MODIFIED:20160919T104235Z
UID:10006159-1484398800-1484398800@www.bcmagazine.net
SUMMARY:HKCC Witherers v HKCC Gap Ramblers
DESCRIPTION:Championship League A: HKCC Witherers v HKCC Gap Ramblers
URL:https://www.bcmagazine.net/event/hkcc-witherers-v-hkcc-gap-ramblers/
LOCATION:Hong Kong Cricket Club\, 137 Wong Ngai Chung Gap Road\, Hong Kong
CATEGORIES:2017,Cricket,Free,Sport
GEO:22.258574;114.1934009
X-APPLE-STRUCTURED-LOCATION;VALUE=URI;X-ADDRESS=Hong Kong Cricket Club 137 Wong Ngai Chung Gap Road Hong Kong;X-APPLE-RADIUS=500;X-TITLE=137 Wong Ngai Chung Gap Road:geo:114.1934009,22.258574
END:VEVENT
BEGIN:VEVENT
DTSTART;TZID=Asia/Hong_Kong:20170114T130000
DTEND;TZID=Asia/Hong_Kong:20170114T130000
DTSTAMP:20260423T111001
CREATED:20160919T104235Z
LAST-MODIFIED:20160919T104235Z
UID:10006160-1484398800-1484398800@www.bcmagazine.net
SUMMARY:KCC Crusaders v Pakistan Association
DESCRIPTION:Championship League A: KCC Crusaders v Pakistan Association
URL:https://www.bcmagazine.net/event/kcc-crusaders-v-pakistan-association/
LOCATION:Kowloon Cricket Club\, 10 Cox's Road\, Jordan\, Hong Kong
CATEGORIES:2017,Cricket,Free,Sport
GEO:22.3048927;114.1737401
X-APPLE-STRUCTURED-LOCATION;VALUE=URI;X-ADDRESS=Kowloon Cricket Club 10 Cox's Road Jordan Hong Kong;X-APPLE-RADIUS=500;X-TITLE=10 Cox's Road:geo:114.1737401,22.3048927
END:VEVENT
BEGIN:VEVENT
DTSTART;TZID=Asia/Hong_Kong:20170114T130000
DTEND;TZID=Asia/Hong_Kong:20170114T130000
DTSTAMP:20260423T111001
CREATED:20160919T104235Z
LAST-MODIFIED:20160919T104235Z
UID:10006161-1484398800-1484398800@www.bcmagazine.net
SUMMARY:CCC Hung See v Lamma
DESCRIPTION:Championship League B: CCC Hung See v Lamma
URL:https://www.bcmagazine.net/event/ccc-hung-see-v-lamma/
LOCATION:Tin Kwong Road Recreation Ground\, Tin Kwong Road\, Mong Kok\, Hong Kong
CATEGORIES:2017,Cricket,Free,Sport
GEO:22.3219997;114.1847986
X-APPLE-STRUCTURED-LOCATION;VALUE=URI;X-ADDRESS=Tin Kwong Road Recreation Ground Tin Kwong Road Mong Kok Hong Kong;X-APPLE-RADIUS=500;X-TITLE=Tin Kwong Road:geo:114.1847986,22.3219997
END:VEVENT
BEGIN:VEVENT
DTSTART;TZID=Asia/Hong_Kong:20170114T130000
DTEND;TZID=Asia/Hong_Kong:20170114T130000
DTSTAMP:20260423T111001
CREATED:20160919T104236Z
LAST-MODIFIED:20160919T104236Z
UID:10006169-1484398800-1484398800@www.bcmagazine.net
SUMMARY:CCC Fung Wong v HKCC Willow Wielders
DESCRIPTION:Women’s League A: CCC Fung Wong v HKCC Willow Wielders
URL:https://www.bcmagazine.net/event/ccc-fung-wong-v-hkcc-willow-wielders/
LOCATION:Po Kong Village Road Reservoir Ground\, Po Kong Village Road\, Tsz Wan Shan\, Hong Kong
CATEGORIES:2017,Cricket,Free,Sport
GEO:22.346522;114.204203
X-APPLE-STRUCTURED-LOCATION;VALUE=URI;X-ADDRESS=Po Kong Village Road Reservoir Ground Po Kong Village Road Tsz Wan Shan Hong Kong;X-APPLE-RADIUS=500;X-TITLE=Po Kong Village Road:geo:114.204203,22.346522
END:VEVENT
BEGIN:VEVENT
DTSTART;TZID=Asia/Hong_Kong:20170115T080000
DTEND;TZID=Asia/Hong_Kong:20170115T080000
DTSTAMP:20260423T111001
CREATED:20160919T104235Z
LAST-MODIFIED:20160919T104235Z
UID:10006163-1484467200-1484467200@www.bcmagazine.net
SUMMARY:CHK XI v Sky Warriors
DESCRIPTION:Women’s Development League B: CHK XI v Sky Warriors
URL:https://www.bcmagazine.net/event/chk-xi-v-sky-warriors/
LOCATION:Po Kong Village Road Reservoir Ground\, Po Kong Village Road\, Tsz Wan Shan\, Hong Kong
CATEGORIES:2017,Cricket,Free,Sport
GEO:22.346522;114.204203
X-APPLE-STRUCTURED-LOCATION;VALUE=URI;X-ADDRESS=Po Kong Village Road Reservoir Ground Po Kong Village Road Tsz Wan Shan Hong Kong;X-APPLE-RADIUS=500;X-TITLE=Po Kong Village Road:geo:114.204203,22.346522
END:VEVENT
BEGIN:VEVENT
DTSTART;TZID=Asia/Hong_Kong:20170115T093000
DTEND;TZID=Asia/Hong_Kong:20170115T093000
DTSTAMP:20260423T111001
CREATED:20160919T104235Z
LAST-MODIFIED:20160919T104235Z
UID:10006162-1484472600-1484472600@www.bcmagazine.net
SUMMARY:DLSWCC v CHK XI
DESCRIPTION:Premier League 1-Day A: DLSWCC v CHK XI
URL:https://www.bcmagazine.net/event/dlswcc-v-chk-xi/
LOCATION:Tin Kwong Road Recreation Ground\, Tin Kwong Road\, Mong Kok\, Hong Kong
CATEGORIES:2017,Cricket,Free,Sport
GEO:22.3219997;114.1847986
X-APPLE-STRUCTURED-LOCATION;VALUE=URI;X-ADDRESS=Tin Kwong Road Recreation Ground Tin Kwong Road Mong Kok Hong Kong;X-APPLE-RADIUS=500;X-TITLE=Tin Kwong Road:geo:114.1847986,22.3219997
END:VEVENT
BEGIN:VEVENT
DTSTART;TZID=Asia/Hong_Kong:20170115T100000
DTEND;TZID=Asia/Hong_Kong:20170115T100000
DTSTAMP:20260423T111001
CREATED:20160919T104234Z
LAST-MODIFIED:20160919T104234Z
UID:10006154-1484474400-1484474400@www.bcmagazine.net
SUMMARY:PACC v KCC
DESCRIPTION:Premier League 1-Day A: PACC v KCC
URL:https://www.bcmagazine.net/event/pacc-v-kcc/
LOCATION:Kowloon Cricket Club\, 10 Cox's Road\, Jordan\, Hong Kong
CATEGORIES:2017,Cricket,Free,Sport
GEO:22.3048927;114.1737401
X-APPLE-STRUCTURED-LOCATION;VALUE=URI;X-ADDRESS=Kowloon Cricket Club 10 Cox's Road Jordan Hong Kong;X-APPLE-RADIUS=500;X-TITLE=10 Cox's Road:geo:114.1737401,22.3048927
END:VEVENT
BEGIN:VEVENT
DTSTART;TZID=Asia/Hong_Kong:20170115T103000
DTEND;TZID=Asia/Hong_Kong:20170115T103000
DTSTAMP:20260423T111001
CREATED:20160919T104234Z
LAST-MODIFIED:20160919T104234Z
UID:10006155-1484476200-1484476200@www.bcmagazine.net
SUMMARY:USRC v HKCC XI
DESCRIPTION:Women’s Development League B: USRC v HKCC XI
URL:https://www.bcmagazine.net/event/usrc-v-hkcc-xi/
LOCATION:Po Kong Village Road Reservoir Ground\, Po Kong Village Road\, Tsz Wan Shan\, Hong Kong
CATEGORIES:2017,Cricket,Free,Sport
GEO:22.346522;114.204203
X-APPLE-STRUCTURED-LOCATION;VALUE=URI;X-ADDRESS=Po Kong Village Road Reservoir Ground Po Kong Village Road Tsz Wan Shan Hong Kong;X-APPLE-RADIUS=500;X-TITLE=Po Kong Village Road:geo:114.204203,22.346522
END:VEVENT
BEGIN:VEVENT
DTSTART;TZID=Asia/Hong_Kong:20170115T130000
DTEND;TZID=Asia/Hong_Kong:20170115T130000
DTSTAMP:20260423T111001
CREATED:20160919T104234Z
LAST-MODIFIED:20160919T104234Z
UID:10006156-1484485200-1484485200@www.bcmagazine.net
SUMMARY:United CC v PACC
DESCRIPTION:Women’s Development League B: United CC v PACC
URL:https://www.bcmagazine.net/event/united-cc-v-pacc/
LOCATION:Po Kong Village Road Reservoir Ground\, Po Kong Village Road\, Tsz Wan Shan\, Hong Kong
CATEGORIES:2017,Cricket,Free,Sport
GEO:22.346522;114.204203
X-APPLE-STRUCTURED-LOCATION;VALUE=URI;X-ADDRESS=Po Kong Village Road Reservoir Ground Po Kong Village Road Tsz Wan Shan Hong Kong;X-APPLE-RADIUS=500;X-TITLE=Po Kong Village Road:geo:114.204203,22.346522
END:VEVENT
BEGIN:VEVENT
DTSTART;TZID=Asia/Hong_Kong:20170115T153000
DTEND;TZID=Asia/Hong_Kong:20170115T153000
DTSTAMP:20260423T111001
CREATED:20160919T104234Z
LAST-MODIFIED:20160919T104234Z
UID:10006157-1484494200-1484494200@www.bcmagazine.net
SUMMARY:PACC v CCC XI
DESCRIPTION:Women’s Development League B: PACC v CCC XI
URL:https://www.bcmagazine.net/event/pacc-v-ccc-xi/
LOCATION:Po Kong Village Road Reservoir Ground\, Po Kong Village Road\, Tsz Wan Shan\, Hong Kong
CATEGORIES:2017,Cricket,Free,Sport
GEO:22.346522;114.204203
X-APPLE-STRUCTURED-LOCATION;VALUE=URI;X-ADDRESS=Po Kong Village Road Reservoir Ground Po Kong Village Road Tsz Wan Shan Hong Kong;X-APPLE-RADIUS=500;X-TITLE=Po Kong Village Road:geo:114.204203,22.346522
END:VEVENT
BEGIN:VEVENT
DTSTART;VALUE=DATE:20170121
DTEND;VALUE=DATE:20170123
DTSTAMP:20260423T111001
CREATED:20170104T022929Z
LAST-MODIFIED:20170104T041913Z
UID:10006359-1484956800-1485129599@www.bcmagazine.net
SUMMARY:DB Pirates All Girls Beach Festival
DESCRIPTION:Beach Festival Rugby and Netball\nDate: 21-22 January\, 2017\nVenue: Tai Pak Beach\nTickets: Free\nMore info: www.facebook.com/events/1040810012713717/
URL:https://www.bcmagazine.net/event/db-pirates-all-girls-beach-festival-2017/
LOCATION:Tai Pak Beach\, Discovery Bay\, Hong Kong
CATEGORIES:2017,Rugby,Sport
GEO:22.396428;114.109497
END:VEVENT
BEGIN:VEVENT
DTSTART;TZID=Asia/Hong_Kong:20170121T130000
DTEND;TZID=Asia/Hong_Kong:20170121T130000
DTSTAMP:20260423T111001
CREATED:20160919T104233Z
LAST-MODIFIED:20160919T104233Z
UID:10006148-1485003600-1485003600@www.bcmagazine.net
SUMMARY:USRC/MCC v HKCC Nomads
DESCRIPTION:Championship League A: USRC/MCC v HKCC Nomads
URL:https://www.bcmagazine.net/event/usrcmcc-v-hkcc-nomads/
LOCATION:Hong Kong Cricket Club\, 137 Wong Ngai Chung Gap Road\, Hong Kong
CATEGORIES:2017,Cricket,Free,Sport
GEO:22.258574;114.1934009
X-APPLE-STRUCTURED-LOCATION;VALUE=URI;X-ADDRESS=Hong Kong Cricket Club 137 Wong Ngai Chung Gap Road Hong Kong;X-APPLE-RADIUS=500;X-TITLE=137 Wong Ngai Chung Gap Road:geo:114.1934009,22.258574
END:VEVENT
BEGIN:VEVENT
DTSTART;TZID=Asia/Hong_Kong:20170121T130000
DTEND;TZID=Asia/Hong_Kong:20170121T130000
DTSTAMP:20260423T111001
CREATED:20160919T104233Z
LAST-MODIFIED:20160919T104233Z
UID:10006149-1485003600-1485003600@www.bcmagazine.net
SUMMARY:KCC Tartars v Pakistan Association
DESCRIPTION:Championship League A: KCC Tartars v Pakistan Association
URL:https://www.bcmagazine.net/event/kcc-tartars-v-pakistan-association/
LOCATION:Kowloon Cricket Club\, 10 Cox's Road\, Jordan\, Hong Kong
CATEGORIES:2017,Cricket,Free,Sport
GEO:22.3048927;114.1737401
X-APPLE-STRUCTURED-LOCATION;VALUE=URI;X-ADDRESS=Kowloon Cricket Club 10 Cox's Road Jordan Hong Kong;X-APPLE-RADIUS=500;X-TITLE=10 Cox's Road:geo:114.1737401,22.3048927
END:VEVENT
BEGIN:VEVENT
DTSTART;TZID=Asia/Hong_Kong:20170121T130000
DTEND;TZID=Asia/Hong_Kong:20170121T130000
DTSTAMP:20260423T111001
CREATED:20160919T104234Z
LAST-MODIFIED:20160919T104234Z
UID:10006158-1485003600-1485003600@www.bcmagazine.net
SUMMARY:Laguna Gully v HKU CC
DESCRIPTION:Championship League B: Laguna Gully v HKU CC
URL:https://www.bcmagazine.net/event/laguna-gully-v-hku-cc/
LOCATION:Tin Kwong Road Recreation Ground\, Tin Kwong Road\, Mong Kok\, Hong Kong
CATEGORIES:2017,Cricket,Free,Sport
GEO:22.3219997;114.1847986
X-APPLE-STRUCTURED-LOCATION;VALUE=URI;X-ADDRESS=Tin Kwong Road Recreation Ground Tin Kwong Road Mong Kok Hong Kong;X-APPLE-RADIUS=500;X-TITLE=Tin Kwong Road:geo:114.1847986,22.3219997
END:VEVENT
BEGIN:VEVENT
DTSTART;TZID=Asia/Hong_Kong:20170121T133000
DTEND;TZID=Asia/Hong_Kong:20170121T133000
DTSTAMP:20260423T111001
CREATED:20160919T104233Z
LAST-MODIFIED:20160919T104233Z
UID:10006150-1485005400-1485005400@www.bcmagazine.net
SUMMARY:HKCC Willow Wielders v HKCC Cavaliers
DESCRIPTION:Women’s T20 A: HKCC Willow Wielders v HKCC Cavaliers
URL:https://www.bcmagazine.net/event/hkcc-willow-wielders-v-hkcc-cavaliers/
LOCATION:Po Kong Village Road Reservoir Ground\, Po Kong Village Road\, Tsz Wan Shan\, Hong Kong
CATEGORIES:2017,Cricket,Free,Sport
GEO:22.346522;114.204203
X-APPLE-STRUCTURED-LOCATION;VALUE=URI;X-ADDRESS=Po Kong Village Road Reservoir Ground Po Kong Village Road Tsz Wan Shan Hong Kong;X-APPLE-RADIUS=500;X-TITLE=Po Kong Village Road:geo:114.204203,22.346522
END:VEVENT
BEGIN:VEVENT
DTSTART;TZID=Asia/Hong_Kong:20170122T080000
DTEND;TZID=Asia/Hong_Kong:20170122T080000
DTSTAMP:20260423T111001
CREATED:20160919T104233Z
LAST-MODIFIED:20160919T104233Z
UID:10006153-1485072000-1485072000@www.bcmagazine.net
SUMMARY:Sky Warriors v HKCC XI
DESCRIPTION:Women’s Development League B: Sky Warriors v HKCC XI
URL:https://www.bcmagazine.net/event/sky-warriors-v-hkcc-xi/
LOCATION:Po Kong Village Road Reservoir Ground\, Po Kong Village Road\, Tsz Wan Shan\, Hong Kong
CATEGORIES:2017,Cricket,Free,Sport
GEO:22.346522;114.204203
X-APPLE-STRUCTURED-LOCATION;VALUE=URI;X-ADDRESS=Po Kong Village Road Reservoir Ground Po Kong Village Road Tsz Wan Shan Hong Kong;X-APPLE-RADIUS=500;X-TITLE=Po Kong Village Road:geo:114.204203,22.346522
END:VEVENT
BEGIN:VEVENT
DTSTART;TZID=Asia/Hong_Kong:20170122T090000
DTEND;TZID=Asia/Hong_Kong:20170122T130000
DTSTAMP:20260423T111001
CREATED:19161101T125335Z
LAST-MODIFIED:20161101T130252Z
UID:10000934-1485075600-1485090000@www.bcmagazine.net
SUMMARY:Resolution Run
DESCRIPTION:Resolution Run\nDate: 9am\, 22 January\, 2017\nVenue: Hong Kong Science Park\, Pak Shek Kok\, Shatin\, N.T.\nTickets: free\nMore info: \n10km\, 5km\, 3km kid’s race\, 1km family race\nregister here 
URL:https://www.bcmagazine.net/event/resolution-run-2017/
LOCATION:Hong Kong Science Park\, Pak Shek Kok\, Hong Kong
CATEGORIES:2017,Sport
GEO:22.396428;114.109497
END:VEVENT
BEGIN:VEVENT
DTSTART;TZID=Asia/Hong_Kong:20170122T100000
DTEND;TZID=Asia/Hong_Kong:20170122T100000
DTSTAMP:20260423T111001
CREATED:20160919T104233Z
LAST-MODIFIED:20160919T104233Z
UID:10006152-1485079200-1485079200@www.bcmagazine.net
SUMMARY:KCC v DLSWCC
DESCRIPTION:Premier League 1-Day A: KCC v DLSWCC
URL:https://www.bcmagazine.net/event/kcc-v-dlswcc/
LOCATION:Kowloon Cricket Club\, 10 Cox's Road\, Jordan\, Hong Kong
CATEGORIES:2017,Cricket,Free,Sport
GEO:22.3048927;114.1737401
X-APPLE-STRUCTURED-LOCATION;VALUE=URI;X-ADDRESS=Kowloon Cricket Club 10 Cox's Road Jordan Hong Kong;X-APPLE-RADIUS=500;X-TITLE=10 Cox's Road:geo:114.1737401,22.3048927
END:VEVENT
BEGIN:VEVENT
DTSTART;TZID=Asia/Hong_Kong:20170122T100000
DTEND;TZID=Asia/Hong_Kong:20170122T100000
DTSTAMP:20260423T111001
CREATED:20160919T104233Z
LAST-MODIFIED:20160919T104233Z
UID:10006151-1485079200-1485079200@www.bcmagazine.net
SUMMARY:CHK XI v HKCC
DESCRIPTION:Premier League 1-Day A: CHK XI v HKCC
URL:https://www.bcmagazine.net/event/chk-xi-v-hkcc/
LOCATION:Hong Kong Cricket Club\, 137 Wong Ngai Chung Gap Road\, Hong Kong
CATEGORIES:2017,Cricket,Free,Sport
GEO:22.258574;114.1934009
X-APPLE-STRUCTURED-LOCATION;VALUE=URI;X-ADDRESS=Hong Kong Cricket Club 137 Wong Ngai Chung Gap Road Hong Kong;X-APPLE-RADIUS=500;X-TITLE=137 Wong Ngai Chung Gap Road:geo:114.1934009,22.258574
END:VEVENT
BEGIN:VEVENT
DTSTART;TZID=Asia/Hong_Kong:20170122T103000
DTEND;TZID=Asia/Hong_Kong:20170122T103000
DTSTAMP:20260423T111001
CREATED:20160919T104232Z
LAST-MODIFIED:20160919T104232Z
UID:10006145-1485081000-1485081000@www.bcmagazine.net
SUMMARY:CCC XI v USRC
DESCRIPTION:Women’s Development League B: CCC XI v USRC
URL:https://www.bcmagazine.net/event/ccc-xi-v-usrc/
LOCATION:Po Kong Village Road Reservoir Ground\, Po Kong Village Road\, Tsz Wan Shan\, Hong Kong
CATEGORIES:2017,Cricket,Free,Sport
GEO:22.346522;114.204203
X-APPLE-STRUCTURED-LOCATION;VALUE=URI;X-ADDRESS=Po Kong Village Road Reservoir Ground Po Kong Village Road Tsz Wan Shan Hong Kong;X-APPLE-RADIUS=500;X-TITLE=Po Kong Village Road:geo:114.204203,22.346522
END:VEVENT
END:VCALENDAR