BEGIN:VCALENDAR
VERSION:2.0
PRODID:-//bc magazine - ECPv6.15.20//NONSGML v1.0//EN
CALSCALE:GREGORIAN
METHOD:PUBLISH
X-WR-CALNAME:bc magazine
X-ORIGINAL-URL:https://www.bcmagazine.net
X-WR-CALDESC:Events for bc magazine
REFRESH-INTERVAL;VALUE=DURATION:PT1H
X-Robots-Tag:noindex
X-PUBLISHED-TTL:PT1H
BEGIN:VTIMEZONE
TZID:Asia/Hong_Kong
BEGIN:STANDARD
TZOFFSETFROM:+0800
TZOFFSETTO:+0800
TZNAME:HKT
DTSTART:20160101T000000
END:STANDARD
END:VTIMEZONE
BEGIN:VEVENT
DTSTART;VALUE=DATE:20170501
DTEND;VALUE=DATE:20170507
DTSTAMP:20260423T090047
CREATED:19170423T012344Z
LAST-MODIFIED:20170423T152828Z
UID:10002589-1493596800-1494115199@www.bcmagazine.net
SUMMARY:Ice Hockey 5s
DESCRIPTION:Ice Hockey 5s\nDate: 1-6 May\, 2017\nVenue: MegaIce\nTickets: free
URL:https://www.bcmagazine.net/event/ice-hockey-5s-2017/
LOCATION:Mega Ice\, MegaBox\, 38 Wang Chiu Road\, Kowloon Bay\, Hong Kong
CATEGORIES:2017,Sport
GEO:22.3196372;114.2084863
X-APPLE-STRUCTURED-LOCATION;VALUE=URI;X-ADDRESS=Mega Ice MegaBox 38 Wang Chiu Road Kowloon Bay Hong Kong;X-APPLE-RADIUS=500;X-TITLE=MegaBox\, 38 Wang Chiu Road:geo:114.2084863,22.3196372
END:VEVENT
BEGIN:VEVENT
DTSTART;VALUE=DATE:20170507
DTEND;VALUE=DATE:20170508
DTSTAMP:20260423T090047
CREATED:19160827T033221Z
LAST-MODIFIED:20160827T033609Z
UID:10001964-1494115200-1494201599@www.bcmagazine.net
SUMMARY:Lamma 500
DESCRIPTION:Lamma 500 International Dragon Boat Festival\nDate: 7 May\, 2017\nVenue: Tai Wan To Beach\nTickets: free to watch
URL:https://www.bcmagazine.net/event/lamma-500-2017/
LOCATION:Hong Kong
CATEGORIES:2017,Sport
END:VEVENT
BEGIN:VEVENT
DTSTART;TZID=Asia/Hong_Kong:20170513T133000
DTEND;TZID=Asia/Hong_Kong:20170513T133000
DTSTAMP:20260423T090047
CREATED:20170512T005607Z
LAST-MODIFIED:20170513T060333Z
UID:10006396-1494682200-1494682200@www.bcmagazine.net
SUMMARY:Dragons v Lions
DESCRIPTION:Dragons v Lions\nDate: 1:30pm\, 13 May\, 2017\nVenue: HK Football Club\nTickets: Free
URL:https://www.bcmagazine.net/event/dragons-v-lions-may-2017/
LOCATION:Hong Kong Football Club\, 3 Sports Road\, Causeway Bay\, Hong Kong
CATEGORIES:2017,Rugby,Sport
GEO:22.275374;114.1822239
X-APPLE-STRUCTURED-LOCATION;VALUE=URI;X-ADDRESS=Hong Kong Football Club 3 Sports Road Causeway Bay Hong Kong;X-APPLE-RADIUS=500;X-TITLE=3 Sports Road:geo:114.1822239,22.275374
END:VEVENT
BEGIN:VEVENT
DTSTART;TZID=Asia/Hong_Kong:20170513T160000
DTEND;TZID=Asia/Hong_Kong:20170513T170000
DTSTAMP:20260423T090047
CREATED:19170427T093827Z
LAST-MODIFIED:20170427T094329Z
UID:10002590-1494691200-1494694800@www.bcmagazine.net
SUMMARY:Hong Kong v Japan
DESCRIPTION:Hong Kong v Japan\nAsian Rugby Championship 2017\nDate: 4pm\, 13 May\, 2017\nVenue: HK Football Club\nTickets: Free
URL:https://www.bcmagazine.net/event/hong-kong-v-japan-arc-2017/
LOCATION:Hong Kong Football Club\, 3 Sports Road\, Causeway Bay\, Hong Kong
CATEGORIES:2017,Rugby,Sport
GEO:22.275374;114.1822239
X-APPLE-STRUCTURED-LOCATION;VALUE=URI;X-ADDRESS=Hong Kong Football Club 3 Sports Road Causeway Bay Hong Kong;X-APPLE-RADIUS=500;X-TITLE=3 Sports Road:geo:114.1822239,22.275374
END:VEVENT
BEGIN:VEVENT
DTSTART;TZID=Asia/Hong_Kong:20170519T210000
DTEND;TZID=Asia/Hong_Kong:20170519T210000
DTSTAMP:20260423T090047
CREATED:19170512T005607Z
LAST-MODIFIED:20170513T062236Z
UID:10002616-1495227600-1495227600@www.bcmagazine.net
SUMMARY:Johnny Osbourne
DESCRIPTION:Johnny Osbourne\nSupport: The Red Stripes\nDate: 9pm\, 19 May\, 2017\nVenue: XXX Gallery\nTickets: $250
URL:https://www.bcmagazine.net/event/johnny-osbourne-2017/
LOCATION:XXX Gallery\, 89-91 Larch Street\, Tai Kok Tsui\, Hong Kong
CATEGORIES:2017,Rugby,Sport
GEO:22.3232044;114.1623778
X-APPLE-STRUCTURED-LOCATION;VALUE=URI;X-ADDRESS=XXX Gallery 89-91 Larch Street Tai Kok Tsui Hong Kong;X-APPLE-RADIUS=500;X-TITLE=89-91 Larch Street:geo:114.1623778,22.3232044
END:VEVENT
BEGIN:VEVENT
DTSTART;VALUE=DATE:20170526
DTEND;VALUE=DATE:20170529
DTSTAMP:20260423T090047
CREATED:19170412T084257Z
LAST-MODIFIED:20170412T084837Z
UID:10002513-1495756800-1496015999@www.bcmagazine.net
SUMMARY:Soccer Sevens
DESCRIPTION:Soccer Sevens\nDate: 26-28 May\, 2017\nVenue: HK Football Club\nTickets: $300 (Weekend pass)\, $160 (Day ticket)\, Free (Friday night) from Ticketflap\nMore info:\n26 May (Fri): 6 – 9pm; exhibition youth matches start at 4.45pm\n27 May (Sat): 9am – 7.40pm\n28 May (Sun): 9am – 6pm
URL:https://www.bcmagazine.net/event/soccer-sevens-2017/
LOCATION:Hong Kong Football Club\, 3 Sports Road\, Causeway Bay\, Hong Kong
CATEGORIES:2017,Football,Sport
GEO:22.275374;114.1822239
X-APPLE-STRUCTURED-LOCATION;VALUE=URI;X-ADDRESS=Hong Kong Football Club 3 Sports Road Causeway Bay Hong Kong;X-APPLE-RADIUS=500;X-TITLE=3 Sports Road:geo:114.1822239,22.275374
END:VEVENT
BEGIN:VEVENT
DTSTART;TZID=Asia/Hong_Kong:20170526T200000
DTEND;TZID=Asia/Hong_Kong:20170526T200000
DTSTAMP:20260423T090047
CREATED:19170508T093526Z
LAST-MODIFIED:20170516T050453Z
UID:10001208-1495828800-1495828800@www.bcmagazine.net
SUMMARY:Tottenham Hotspurs v Kitchee SC
DESCRIPTION:Tottenham Hotspurs v Kitchee SC\nDate: 8pm\, 26 May\, 2017\nVenue: HK Stadium\nTickets: $680\, $480\, $330 from Cityline
URL:https://www.bcmagazine.net/event/tottenham-hotspurs-v-kitchee-sc/
LOCATION:HK Stadium\, 55 Eastern Hospital Road\, So Kon Po\, Hong Kong
CATEGORIES:2017,Football,Sport
GEO:22.2730073;114.1885121
X-APPLE-STRUCTURED-LOCATION;VALUE=URI;X-ADDRESS=HK Stadium 55 Eastern Hospital Road So Kon Po Hong Kong;X-APPLE-RADIUS=500;X-TITLE=55 Eastern Hospital Road:geo:114.1885121,22.2730073
END:VEVENT
BEGIN:VEVENT
DTSTART;VALUE=DATE:20170530
DTEND;VALUE=DATE:20170531
DTSTAMP:20260423T090047
CREATED:19170512T093526Z
LAST-MODIFIED:20170512T095244Z
UID:10002617-1496102400-1496188799@www.bcmagazine.net
SUMMARY:Stanley International Dragon Boat Championships 2017
DESCRIPTION:Stanley International Dragon Boat Championships 2017\nDate: 10am\, 30 May 2017\nVenue: Stanley Main Beach\nTickets: Free
URL:https://www.bcmagazine.net/event/stanley-international-dragon-boat-championships-2017/
LOCATION:Stanley Main Beach\, Stanley Beach Rd\, Stanley\, Hong Kong
CATEGORIES:2018,Sport
GEO:22.2217985;114.2138349
X-APPLE-STRUCTURED-LOCATION;VALUE=URI;X-ADDRESS=Stanley Main Beach Stanley Beach Rd Stanley Hong Kong;X-APPLE-RADIUS=500;X-TITLE=Stanley Beach Rd:geo:114.2138349,22.2217985
END:VEVENT
BEGIN:VEVENT
DTSTART;TZID=Asia/Hong_Kong:20170531T190000
DTEND;TZID=Asia/Hong_Kong:20170531T190000
DTSTAMP:20260423T090047
CREATED:19170503T075608Z
LAST-MODIFIED:20170503T084923Z
UID:10001193-1496257200-1496257200@www.bcmagazine.net
SUMMARY:E-1 World Championship
DESCRIPTION:E-1 World Championship\nDate: 7pm\, 31 May\, 2017\nVenue: Star Hall\nTickets: $2\,500\, $2\,000\, $1\,500\, $1\,200\, $1\,000 from HKTicketing
URL:https://www.bcmagazine.net/event/e-1-world-championship-2017/
LOCATION:KITEC\, Star Hall\, KITEC\, 1 Trademart Drive\, Kowloon Bay\, Hong Kong
CATEGORIES:2017,Sport
GEO:22.3239575;114.2037608
X-APPLE-STRUCTURED-LOCATION;VALUE=URI;X-ADDRESS=KITEC Star Hall KITEC 1 Trademart Drive Kowloon Bay Hong Kong;X-APPLE-RADIUS=500;X-TITLE=KITEC\, 1 Trademart Drive:geo:114.2037608,22.3239575
END:VEVENT
END:VCALENDAR