BEGIN:VCALENDAR
VERSION:2.0
PRODID:-//bc magazine - ECPv6.15.20//NONSGML v1.0//EN
CALSCALE:GREGORIAN
METHOD:PUBLISH
X-ORIGINAL-URL:https://www.bcmagazine.net
X-WR-CALDESC:Events for bc magazine
REFRESH-INTERVAL;VALUE=DURATION:PT1H
X-Robots-Tag:noindex
X-PUBLISHED-TTL:PT1H
BEGIN:VTIMEZONE
TZID:Asia/Hong_Kong
BEGIN:STANDARD
TZOFFSETFROM:+0800
TZOFFSETTO:+0800
TZNAME:HKT
DTSTART:20160101T000000
END:STANDARD
END:VTIMEZONE
BEGIN:VEVENT
DTSTART;VALUE=DATE:20170602
DTEND;VALUE=DATE:20170605
DTSTAMP:20260423T111112
CREATED:19170530T034649Z
LAST-MODIFIED:20170530T035037Z
UID:10002762-1496361600-1496620799@www.bcmagazine.net
SUMMARY:Hong Kong International Dragon Boat Races
DESCRIPTION:Hong Kong International Dragon Boat Races\nDate: 2-4 June\, 2017\nVenue: Central Harbourfront\nTickets: Free
URL:https://www.bcmagazine.net/event/hong-kong-international-dragon-boat-races-2017/
LOCATION:Central Harbourfront\,  9 Lung Wo Road\, Central\, Hong Kong
CATEGORIES:2017,Cultural Festival,Free,Sport
GEO:22.2826223;114.164346
X-APPLE-STRUCTURED-LOCATION;VALUE=URI;X-ADDRESS=Central Harbourfront  9 Lung Wo Road Central Hong Kong;X-APPLE-RADIUS=500;X-TITLE=9 Lung Wo Road:geo:114.164346,22.2826223
END:VEVENT
BEGIN:VEVENT
DTSTART;TZID=Asia/Hong_Kong:20170603T160000
DTEND;TZID=Asia/Hong_Kong:20170603T170000
DTSTAMP:20260423T111112
CREATED:19170427T093827Z
LAST-MODIFIED:20180508T132420Z
UID:10002591-1496505600-1496509200@www.bcmagazine.net
SUMMARY:Hong Kong v South Korea
DESCRIPTION:Hong Kong v South Korea\nAsian Rugby Championship 2017\nDate: 4pm\, 3 June\, 2017\nVenue: HK Football Club\nTickets: Free
URL:https://www.bcmagazine.net/event/hong-kong-v-korea-arc-2017/
LOCATION:Hong Kong Football Club\, 3 Sports Road\, Causeway Bay\, Hong Kong
CATEGORIES:2017,Rugby,Sport
GEO:22.275374;114.1822239
X-APPLE-STRUCTURED-LOCATION;VALUE=URI;X-ADDRESS=Hong Kong Football Club 3 Sports Road Causeway Bay Hong Kong;X-APPLE-RADIUS=500;X-TITLE=3 Sports Road:geo:114.1822239,22.275374
END:VEVENT
BEGIN:VEVENT
DTSTART;TZID=Asia/Hong_Kong:20170607T200000
DTEND;TZID=Asia/Hong_Kong:20170607T200000
DTSTAMP:20260423T111112
CREATED:19170530T034649Z
LAST-MODIFIED:20170530T041304Z
UID:10002763-1496865600-1496865600@www.bcmagazine.net
SUMMARY:Hong Kong v Japan
DESCRIPTION:Hong Kong v Japan\nDate: 8pm\, 7 June\, 2017\nVenue: Mongkok Stadium\nTickets: $150 from Cityline
URL:https://www.bcmagazine.net/event/hong-kong-v-japan-2017/
LOCATION:Mongkok Stadium\, 37 Flower Street\, Yau Ma Tai\, Prince Edward (Exit A)\, United States
CATEGORIES:2017,Football,Sport
END:VEVENT
BEGIN:VEVENT
DTSTART;VALUE=DATE:20170610
DTEND;VALUE=DATE:20170611
DTSTAMP:20260423T111112
CREATED:19170505T081942Z
LAST-MODIFIED:20170516T025733Z
UID:10002601-1497052800-1497139199@www.bcmagazine.net
SUMMARY:Dragon Boat Carnival
DESCRIPTION:Dragon Boat Carnival\nDate: 2-4 June\, 2017\nVenue: Central Harbourfront\nTickets: Free
URL:https://www.bcmagazine.net/event/dragon-boat-carnival-2017/
LOCATION:Central Harbourfront\,  9 Lung Wo Road\, Central\, Hong Kong
CATEGORIES:2017,Cultural Festival,Free,Sport
GEO:22.2826223;114.164346
X-APPLE-STRUCTURED-LOCATION;VALUE=URI;X-ADDRESS=Central Harbourfront  9 Lung Wo Road Central Hong Kong;X-APPLE-RADIUS=500;X-TITLE=9 Lung Wo Road:geo:114.164346,22.2826223
END:VEVENT
BEGIN:VEVENT
DTSTART;TZID=Asia/Hong_Kong:20170613T200000
DTEND;TZID=Asia/Hong_Kong:20170613T220000
DTSTAMP:20260423T111113
CREATED:19170530T034649Z
LAST-MODIFIED:20170530T042705Z
UID:10002766-1497384000-1497391200@www.bcmagazine.net
SUMMARY:Hong Kong v North Korea
DESCRIPTION:Hong Kong v North Korea\nAFC Asian Cup 2019\nDate: 8pm\, 13 June\, 2017\nVenue: HK Stadium\nTickets: $200 from Cityline
URL:https://www.bcmagazine.net/event/hong-kong-v-north-korea-afc-asian-cup-2019/
LOCATION:HK Stadium\, 55 Eastern Hospital Road\, So Kon Po\, Hong Kong
CATEGORIES:2017,Football,Sport
GEO:22.2730073;114.1885121
X-APPLE-STRUCTURED-LOCATION;VALUE=URI;X-ADDRESS=HK Stadium 55 Eastern Hospital Road So Kon Po Hong Kong;X-APPLE-RADIUS=500;X-TITLE=55 Eastern Hospital Road:geo:114.1885121,22.2730073
END:VEVENT
BEGIN:VEVENT
DTSTART;TZID=Asia/Hong_Kong:20170616T201500
DTEND;TZID=Asia/Hong_Kong:20170616T201500
DTSTAMP:20260423T111113
CREATED:19170420T043631Z
LAST-MODIFIED:20170420T043913Z
UID:10002524-1497644100-1497644100@www.bcmagazine.net
SUMMARY:The Great Yoga
DESCRIPTION:The Great Yoga\nDate: 8:15pm\, 16-17 June\, 2017\nVenue: HK Coliseum\nTickets: $980\, $500\, $300 from Urbtix
URL:https://www.bcmagazine.net/event/the-great-yoga-2017/2017-06-16/
LOCATION:HK Coliseum\, 9 Cheong Wan Road\, Hung Hom\, Hong Kong
CATEGORIES:2017,Sport
GEO:22.3014169;114.1820305
X-APPLE-STRUCTURED-LOCATION;VALUE=URI;X-ADDRESS=HK Coliseum 9 Cheong Wan Road Hung Hom Hong Kong;X-APPLE-RADIUS=500;X-TITLE=9 Cheong Wan Road:geo:114.1820305,22.3014169
END:VEVENT
BEGIN:VEVENT
DTSTART;TZID=Asia/Hong_Kong:20170617T201500
DTEND;TZID=Asia/Hong_Kong:20170617T201500
DTSTAMP:20260423T111113
CREATED:19170420T043631Z
LAST-MODIFIED:20170420T043913Z
UID:10002525-1497730500-1497730500@www.bcmagazine.net
SUMMARY:The Great Yoga
DESCRIPTION:The Great Yoga\nDate: 8:15pm\, 16-17 June\, 2017\nVenue: HK Coliseum\nTickets: $980\, $500\, $300 from Urbtix
URL:https://www.bcmagazine.net/event/the-great-yoga-2017/2017-06-17/
LOCATION:HK Coliseum\, 9 Cheong Wan Road\, Hung Hom\, Hong Kong
CATEGORIES:2017,Sport
GEO:22.3014169;114.1820305
X-APPLE-STRUCTURED-LOCATION;VALUE=URI;X-ADDRESS=HK Coliseum 9 Cheong Wan Road Hung Hom Hong Kong;X-APPLE-RADIUS=500;X-TITLE=9 Cheong Wan Road:geo:114.1820305,22.3014169
END:VEVENT
END:VCALENDAR