BEGIN:VCALENDAR
VERSION:2.0
PRODID:-//bc magazine - ECPv6.15.20//NONSGML v1.0//EN
CALSCALE:GREGORIAN
METHOD:PUBLISH
X-WR-CALNAME:bc magazine
X-ORIGINAL-URL:https://www.bcmagazine.net
X-WR-CALDESC:Events for bc magazine
REFRESH-INTERVAL;VALUE=DURATION:PT1H
X-Robots-Tag:noindex
X-PUBLISHED-TTL:PT1H
BEGIN:VTIMEZONE
TZID:Asia/Hong_Kong
BEGIN:STANDARD
TZOFFSETFROM:+0800
TZOFFSETTO:+0800
TZNAME:HKT
DTSTART:20160101T000000
END:STANDARD
END:VTIMEZONE
BEGIN:VEVENT
DTSTART;VALUE=DATE:20170701
DTEND;VALUE=DATE:20170702
DTSTAMP:20260424T031928
CREATED:19170624T020808Z
LAST-MODIFIED:20170624T021014Z
UID:10002904-1498867200-1498953599@www.bcmagazine.net
SUMMARY:Leisure Facilities Free Use Day
DESCRIPTION:Leisure Facilities Free Use Day For HKSAR’s 20th Anniversary\nDate: 1 July\, 2017\nVenue: LCSD Sports Facilities\nTickets: Free\nMore info: Bookings from 24 June. www.lcsd.gov.hk/en/freeuseday/index.html.
URL:https://www.bcmagazine.net/event/leisure-facilities-free-use-day-2017/
CATEGORIES:2017,Free,Sport
END:VEVENT
BEGIN:VEVENT
DTSTART;TZID=Asia/Hong_Kong:20170701T110000
DTEND;TZID=Asia/Hong_Kong:20170701T180000
DTSTAMP:20260424T031928
CREATED:19170615T081433Z
LAST-MODIFIED:20170615T083940Z
UID:10002901-1498906800-1498932000@www.bcmagazine.net
SUMMARY:My Sweet Home Carnival
DESCRIPTION:My Sweet Home Carnival\nDate: 11am\, 1 July\, 2017\nVenue: Nina Tower Offices\, Tsuen Wan\nTickets: Free
URL:https://www.bcmagazine.net/event/my-sweet-home-carnival-2017/
LOCATION:Nina Tower Offices\, Tsuen Wan\, Hong Kong
CATEGORIES:2017,Free,Other,Sport
GEO:22.396428;114.109497
END:VEVENT
BEGIN:VEVENT
DTSTART;TZID=Asia/Hong_Kong:20170708T200000
DTEND;TZID=Asia/Hong_Kong:20170708T200000
DTSTAMP:20260424T031928
CREATED:19170702T035650Z
LAST-MODIFIED:20170702T052548Z
UID:10002937-1499544000-1499544000@www.bcmagazine.net
SUMMARY:A Tribute to Bruce Lee JKD "Be Water my Friend"
DESCRIPTION:A Tribute to Bruce Lee JKD “Be Water my Friend”\nDate: 8pm\, 8 July\, 2017\nVenue: Cotai Arena\nTickets: $1\,680\, $1\,280\, $380\, $280 from HKTicketing
URL:https://www.bcmagazine.net/event/a-tribute-to-bruce-lee-jkd-be-water-my-friend-2017/
LOCATION:CotaiArena\, Venetian Macao\, Taipa\, Macau
CATEGORIES:2017,Macau,Performing Arts,Sport
GEO:22.1483528;113.5602019
X-APPLE-STRUCTURED-LOCATION;VALUE=URI;X-ADDRESS=CotaiArena Venetian Macao Taipa Macau;X-APPLE-RADIUS=500;X-TITLE=Venetian Macao:geo:113.5602019,22.1483528
END:VEVENT
BEGIN:VEVENT
DTSTART;VALUE=DATE:20170714
DTEND;VALUE=DATE:20170716
DTSTAMP:20260424T031928
CREATED:19170702T035650Z
LAST-MODIFIED:20170702T043222Z
UID:10002925-1499990400-1500163199@www.bcmagazine.net
SUMMARY:Hong Kong International Darts Festival
DESCRIPTION:Hong Kong International Darts Festival\nDate: 14-15 July\, 2017\nVenue: Kitec\, Star Hall\nTickets: $680\, $480\, $280 from HK Ticketing
URL:https://www.bcmagazine.net/event/hong-kong-international-darts-festival-2017/
LOCATION:KITEC\, Star Hall\, KITEC\, 1 Trademart Drive\, Kowloon Bay\, Hong Kong
CATEGORIES:2017,Sport
GEO:22.3239575;114.2037608
X-APPLE-STRUCTURED-LOCATION;VALUE=URI;X-ADDRESS=KITEC Star Hall KITEC 1 Trademart Drive Kowloon Bay Hong Kong;X-APPLE-RADIUS=500;X-TITLE=KITEC\, 1 Trademart Drive:geo:114.2037608,22.3239575
END:VEVENT
BEGIN:VEVENT
DTSTART;VALUE=DATE:20170714
DTEND;VALUE=DATE:20170723
DTSTAMP:20260424T031928
CREATED:19170722T041457Z
LAST-MODIFIED:20170722T052055Z
UID:10003057-1499990400-1500767999@www.bcmagazine.net
SUMMARY:Summerfest
DESCRIPTION:Summerfest\nDate: 14-22 July\, 12-20\, 25-27 August\, 2017\nVenue: Central Harbourfront\nTickets: Free
URL:https://www.bcmagazine.net/event/summerfest-july-2017/
LOCATION:Central Harbourfront\,  9 Lung Wo Road\, Central\, Hong Kong
CATEGORIES:2017,Lifestyle,Other,Sport
GEO:22.2826223;114.164346
X-APPLE-STRUCTURED-LOCATION;VALUE=URI;X-ADDRESS=Central Harbourfront  9 Lung Wo Road Central Hong Kong;X-APPLE-RADIUS=500;X-TITLE=9 Lung Wo Road:geo:114.164346,22.2826223
END:VEVENT
BEGIN:VEVENT
DTSTART;TZID=Asia/Hong_Kong:20170715T180000
DTEND;TZID=Asia/Hong_Kong:20170715T180000
DTSTAMP:20260424T031928
CREATED:19170615T035518Z
LAST-MODIFIED:20170715T035958Z
UID:10002898-1500141600-1500141600@www.bcmagazine.net
SUMMARY:Hong Kong v Japan
DESCRIPTION:Hong Kong v Japan\nWomens Asia Rugby Championship\nDate: 6pm\, 15 July\, 2017\nVenue: King’s Park\nTickets: Free
URL:https://www.bcmagazine.net/event/hong-kong-v-japan-awrc-2017/
LOCATION:King’s Park Sports Ground\, 11 Wylie Path\, Ho Man Tin\, Jordan\, Hong Kong
CATEGORIES:2017,Free,Rugby,Sport
END:VEVENT
BEGIN:VEVENT
DTSTART;TZID=Asia/Hong_Kong:20170716T193000
DTEND;TZID=Asia/Hong_Kong:20170716T193000
DTSTAMP:20260424T031928
CREATED:19170702T035650Z
LAST-MODIFIED:20170702T044355Z
UID:10002927-1500233400-1500233400@www.bcmagazine.net
SUMMARY:GFriend
DESCRIPTION:GFriend\nDate: 7:30pm\, 16 July\, 2017\nVenue: AsiaWorld Expo\, Hall 10\nTickets: $1\,480\, $1080\, $680 from HKTicketing
URL:https://www.bcmagazine.net/event/gfriend-2017/
LOCATION:AsiaWorld-Expo\, Hall 10\, Cheong Wing Road\, Chek Lap Kok\, Lantau\, Hong Kong
CATEGORIES:2017,Concert,Music,Performing Arts,Sport
GEO:22.3217383;113.9402012
X-APPLE-STRUCTURED-LOCATION;VALUE=URI;X-ADDRESS=AsiaWorld-Expo Hall 10 Cheong Wing Road Chek Lap Kok Lantau Hong Kong;X-APPLE-RADIUS=500;X-TITLE=Cheong Wing Road\, Chek Lap Kok:geo:113.9402012,22.3217383
END:VEVENT
BEGIN:VEVENT
DTSTART;VALUE=DATE:20170720
DTEND;VALUE=DATE:20170724
DTSTAMP:20260424T031928
CREATED:19170615T064338Z
LAST-MODIFIED:20170616T082645Z
UID:10002899-1500508800-1500854399@www.bcmagazine.net
SUMMARY:Hong Kong Masters
DESCRIPTION:Hong Kong Masters\nDate: 20-23 July\, 2017\nVenue: Queen Elizabeth Stadium\nTickets: tbc
URL:https://www.bcmagazine.net/event/hong-kong-masters-2017/
LOCATION:Queen Elizabeth Stadium\, 18 Oi Kwan Road\, Wanchai\, Hong Kong
CATEGORIES:2017,Sport
GEO:22.2751271;114.1789682
X-APPLE-STRUCTURED-LOCATION;VALUE=URI;X-ADDRESS=Queen Elizabeth Stadium 18 Oi Kwan Road Wanchai Hong Kong;X-APPLE-RADIUS=500;X-TITLE=18 Oi Kwan Road:geo:114.1789682,22.2751271
END:VEVENT
BEGIN:VEVENT
DTSTART;VALUE=DATE:20170721
DTEND;VALUE=DATE:20170724
DTSTAMP:20260424T031928
CREATED:20170530T051029Z
LAST-MODIFIED:20170530T055504Z
UID:10006398-1500595200-1500854399@www.bcmagazine.net
SUMMARY:FIVB Volleyball World Grand Prix
DESCRIPTION:FIVB Volleyball World Grand Prix – Hong Kong 2017\nDate: 21-23 July\, 2017\nVenue: HK Coliseum\nTickets: tbc
URL:https://www.bcmagazine.net/event/fivb-volleyball-world-grand-prix-2017/
LOCATION:HK Coliseum\, 9 Cheong Wan Road\, Hung Hom\, Hong Kong
CATEGORIES:2017,Sport,Volleyball
GEO:22.3014169;114.1820305
X-APPLE-STRUCTURED-LOCATION;VALUE=URI;X-ADDRESS=HK Coliseum 9 Cheong Wan Road Hung Hom Hong Kong;X-APPLE-RADIUS=500;X-TITLE=9 Cheong Wan Road:geo:114.1820305,22.3014169
END:VEVENT
BEGIN:VEVENT
DTSTART;TZID=Asia/Hong_Kong:20170722T190000
DTEND;TZID=Asia/Hong_Kong:20170722T190000
DTSTAMP:20260424T031928
CREATED:19170613T025351Z
LAST-MODIFIED:20170613T041800Z
UID:10002875-1500750000-1500750000@www.bcmagazine.net
SUMMARY:King of Wrestling 2017
DESCRIPTION:King of Wrestling 2017\nDate: 7pm\, 22-23 July\, 2017\nVenue: Youth Square\, Y Studio\nTickets: $190\, $160 from Urbtix
URL:https://www.bcmagazine.net/event/king-of-wrestling-2017/2017-07-22/
LOCATION:Youth Square\, Y Studio\, 238 Chai Wan Road\, Chaiwan\, Hong Kong
CATEGORIES:2017,Sport
GEO:22.26301;114.2366034
X-APPLE-STRUCTURED-LOCATION;VALUE=URI;X-ADDRESS=Youth Square Y Studio 238 Chai Wan Road Chaiwan Hong Kong;X-APPLE-RADIUS=500;X-TITLE=238 Chai Wan Road:geo:114.2366034,22.26301
END:VEVENT
BEGIN:VEVENT
DTSTART;TZID=Asia/Hong_Kong:20170723T080000
DTEND;TZID=Asia/Hong_Kong:20170723T130000
DTSTAMP:20260424T031928
CREATED:19170515T064143Z
LAST-MODIFIED:20170515T094055Z
UID:10001230-1500796800-1500814800@www.bcmagazine.net
SUMMARY:Charity Family Run
DESCRIPTION:Charity Family Run\nDate: 8am-1pm\, 23 July\, 2017\nVenue: Central Harbourfront\nTickets: $200
URL:https://www.bcmagazine.net/event/charity-family-run-2017/
LOCATION:Central Harbourfront\,  9 Lung Wo Road\, Central\, Hong Kong
CATEGORIES:2017,Charity,Sport
GEO:22.2826223;114.164346
X-APPLE-STRUCTURED-LOCATION;VALUE=URI;X-ADDRESS=Central Harbourfront  9 Lung Wo Road Central Hong Kong;X-APPLE-RADIUS=500;X-TITLE=9 Lung Wo Road:geo:114.164346,22.2826223
END:VEVENT
BEGIN:VEVENT
DTSTART;TZID=Asia/Hong_Kong:20170723T190000
DTEND;TZID=Asia/Hong_Kong:20170723T190000
DTSTAMP:20260424T031928
CREATED:19170613T025351Z
LAST-MODIFIED:20170613T041800Z
UID:10002876-1500836400-1500836400@www.bcmagazine.net
SUMMARY:King of Wrestling 2017
DESCRIPTION:King of Wrestling 2017\nDate: 7pm\, 22-23 July\, 2017\nVenue: Youth Square\, Y Studio\nTickets: $190\, $160 from Urbtix
URL:https://www.bcmagazine.net/event/king-of-wrestling-2017/2017-07-23/
LOCATION:Youth Square\, Y Studio\, 238 Chai Wan Road\, Chaiwan\, Hong Kong
CATEGORIES:2017,Sport
GEO:22.26301;114.2366034
X-APPLE-STRUCTURED-LOCATION;VALUE=URI;X-ADDRESS=Youth Square Y Studio 238 Chai Wan Road Chaiwan Hong Kong;X-APPLE-RADIUS=500;X-TITLE=238 Chai Wan Road:geo:114.2366034,22.26301
END:VEVENT
BEGIN:VEVENT
DTSTART;TZID=Asia/Hong_Kong:20170730T173000
DTEND;TZID=Asia/Hong_Kong:20170730T173000
DTSTAMP:20260424T031928
CREATED:19170708T025200Z
LAST-MODIFIED:20170708T033815Z
UID:10002940-1501435800-1501435800@www.bcmagazine.net
SUMMARY:NBA Nike Stars vs CBA Stars
DESCRIPTION:NBA Nike Stars vs CBA Stars\nDate: 5:30pm\, 30 July\, 2017\nVenue: HK Colliseum\nTickets: $7\,800\, $1\,980\, $1\,380\, $680\, $380 from Urbtix
URL:https://www.bcmagazine.net/event/nba-nike-stars-vs-cba-stars-2017/
LOCATION:HK Coliseum\, 9 Cheong Wan Road\, Hung Hom\, Hong Kong
CATEGORIES:2017,Basketball,Sport
GEO:22.3014169;114.1820305
X-APPLE-STRUCTURED-LOCATION;VALUE=URI;X-ADDRESS=HK Coliseum 9 Cheong Wan Road Hung Hom Hong Kong;X-APPLE-RADIUS=500;X-TITLE=9 Cheong Wan Road:geo:114.1820305,22.3014169
END:VEVENT
END:VCALENDAR