BEGIN:VCALENDAR
VERSION:2.0
PRODID:-//bc magazine - ECPv6.15.20//NONSGML v1.0//EN
CALSCALE:GREGORIAN
METHOD:PUBLISH
X-WR-CALNAME:bc magazine
X-ORIGINAL-URL:https://www.bcmagazine.net
X-WR-CALDESC:Events for bc magazine
REFRESH-INTERVAL;VALUE=DURATION:PT1H
X-Robots-Tag:noindex
X-PUBLISHED-TTL:PT1H
BEGIN:VTIMEZONE
TZID:Asia/Hong_Kong
BEGIN:STANDARD
TZOFFSETFROM:+0800
TZOFFSETTO:+0800
TZNAME:HKT
DTSTART:20160101T000000
END:STANDARD
END:VTIMEZONE
BEGIN:VEVENT
DTSTART;VALUE=DATE:20171001
DTEND;VALUE=DATE:20171203
DTSTAMP:20260424T231801
CREATED:19171016T115818Z
LAST-MODIFIED:20171207T084030Z
UID:10003567-1506816000-1512259199@www.bcmagazine.net
SUMMARY:Wrestle Mania Macau
DESCRIPTION:Wrestle Mania Macau\nMacau Wrestling Culture Association\nDate: 4:30pm\, 8pm\, daily until 31 December\, 2017\nVenue: Hotel Golden Dragon\nTickets: $380 from MacauTicket
URL:https://www.bcmagazine.net/event/wrestle-mania-macau/
LOCATION:Hotel Golden Dragon\, Macau
CATEGORIES:2017,Macau,Sport
END:VEVENT
BEGIN:VEVENT
DTSTART;TZID=Asia/Hong_Kong:20171201T150000
DTEND;TZID=Asia/Hong_Kong:20171201T150000
DTSTAMP:20260424T231801
CREATED:19170725T035817Z
LAST-MODIFIED:20170725T044215Z
UID:10003084-1512140400-1512140400@www.bcmagazine.net
SUMMARY:Lantau VK
DESCRIPTION:Lantau VK 2017\nDate: 3pm\, 1 December\, 2017\nVenue: Tong Fuk Beach\nTickets: $400
URL:https://www.bcmagazine.net/event/lantau-vk-2107/
LOCATION:Tong Fuk Beach\, Lantau Island\, Hong Kong
CATEGORIES:2017,Sport
GEO:22.2664984;113.941751
END:VEVENT
BEGIN:VEVENT
DTSTART;VALUE=DATE:20171202
DTEND;VALUE=DATE:20171204
DTSTAMP:20260424T231801
CREATED:19170804T064513Z
LAST-MODIFIED:20170804T081256Z
UID:10003106-1512172800-1512345599@www.bcmagazine.net
SUMMARY:FIA Formula E Hong Kong E-Prix
DESCRIPTION:FIA Formula E Hong Kong E-Prix\nDate: 2-3 December\, 2017\nVenue: Central Harbourfront\nTickets: $4\,780\, $4\,280\, $2\,880\, $2\,390\, $2\,380\, $2\,140 $1\,140\, $1\,190 from Ticketflap
URL:https://www.bcmagazine.net/event/fia-formula-e-hong-kong-e-prix-2017/
LOCATION:Central Harbourfront\,  9 Lung Wo Road\, Central\, Hong Kong
CATEGORIES:2017,Sport
GEO:22.2826223;114.164346
X-APPLE-STRUCTURED-LOCATION;VALUE=URI;X-ADDRESS=Central Harbourfront  9 Lung Wo Road Central Hong Kong;X-APPLE-RADIUS=500;X-TITLE=9 Lung Wo Road:geo:114.164346,22.2826223
END:VEVENT
BEGIN:VEVENT
DTSTART;TZID=Asia/Hong_Kong:20171203T063000
DTEND;TZID=Asia/Hong_Kong:20171203T063000
DTSTAMP:20260424T231801
CREATED:19170725T035817Z
LAST-MODIFIED:20170725T044543Z
UID:10003085-1512282600-1512282600@www.bcmagazine.net
SUMMARY:Lantau 50
DESCRIPTION:Lantau 50\nDate: 6:30\, 3 December\, 2017\nVenue: Lantau\nTickets: $598\, $490\, $440
URL:https://www.bcmagazine.net/event/lantau-50-2017/
LOCATION:Lantau\, Lantau\, Hong Kong
CATEGORIES:2017,Sport
END:VEVENT
BEGIN:VEVENT
DTSTART;VALUE=DATE:20171209
DTEND;VALUE=DATE:20171210
DTSTAMP:20260424T231801
CREATED:19170915T095820Z
LAST-MODIFIED:20170915T100246Z
UID:10003475-1512777600-1512863999@www.bcmagazine.net
SUMMARY:HK Vertical 1000
DESCRIPTION:HK Vertical 1000\nDate: 9 December\, 2017\nVenue: One Island East\, Taikoo\nTickets: $50\,000\, Free
URL:https://www.bcmagazine.net/event/hk-vertical-1000-2017/
CATEGORIES:2017,Charity,Sport
END:VEVENT
BEGIN:VEVENT
DTSTART;TZID=Asia/Hong_Kong:20171209T130000
DTEND;TZID=Asia/Hong_Kong:20171209T130000
DTSTAMP:20260424T231801
CREATED:20171125T042231Z
LAST-MODIFIED:20171125T050033Z
UID:10006461-1512824400-1512824400@www.bcmagazine.net
SUMMARY:KCC Ladies Day
DESCRIPTION:KCC’s first ever ‘Ladies Day’ will be held on Saturday 9th December during the Hancock Shield match when Kowloon Cricket Club play Hong Kong Cricket Club. \nKCC Ladies Day\nDate: 1pm\, 9 December\, 2017\nVenue: Kowloon Cricket Club\nTickets: $200
URL:https://www.bcmagazine.net/event/sportkcc-ladies-day-2017/
LOCATION:Kowloon Cricket Club\, 10 Cox's Road\, Jordan\, Hong Kong
CATEGORIES:2017,Concert,Cricket,Music,Performing Arts,Sport
ATTACH;FMTTYPE=image/jpeg:https://www.bcmagazine.net/wp-content/uploads/2017/11/kcc-ladies-day-2017.jpg
GEO:22.3048927;114.1737401
X-APPLE-STRUCTURED-LOCATION;VALUE=URI;X-ADDRESS=Kowloon Cricket Club 10 Cox's Road Jordan Hong Kong;X-APPLE-RADIUS=500;X-TITLE=10 Cox's Road:geo:114.1737401,22.3048927
END:VEVENT
BEGIN:VEVENT
DTSTART;VALUE=DATE:20171214
DTEND;VALUE=DATE:20171218
DTSTAMP:20260424T231801
CREATED:19171207T080341Z
LAST-MODIFIED:20171207T081305Z
UID:10003642-1513209600-1513555199@www.bcmagazine.net
SUMMARY:Hong Kong International Baseball Open 2017
DESCRIPTION:Hong Kong International Baseball Open 2017\nDate: 14-17 December\, 2017\nVenue: Sai Tso Wan Recreation Ground\nTickets: Free
URL:https://www.bcmagazine.net/event/hong-kong-international-baseball-open-2017/
LOCATION:Sai Tso Wan Recreation Ground\, Sin Fat Road\, Lam Tin\, Hong Kong
CATEGORIES:2017,Free,Sport
GEO:22.305686;114.230515
X-APPLE-STRUCTURED-LOCATION;VALUE=URI;X-ADDRESS=Sai Tso Wan Recreation Ground Sin Fat Road Lam Tin Hong Kong;X-APPLE-RADIUS=500;X-TITLE=Sin Fat Road:geo:114.230515,22.305686
END:VEVENT
BEGIN:VEVENT
DTSTART;TZID=Asia/Hong_Kong:20171216T110000
DTEND;TZID=Asia/Hong_Kong:20171216T110000
DTSTAMP:20260424T231801
CREATED:20171202T085256Z
LAST-MODIFIED:20171202T085256Z
UID:10006463-1513422000-1513422000@www.bcmagazine.net
SUMMARY:Santa Soccer
DESCRIPTION:Santa Soccer\nDate: 11am\, 16 December\, 2017\nVenue: Kowloon Cricket Club\nTickets: Free to watch
URL:https://www.bcmagazine.net/event/santa-soccer-kcc-2017/
LOCATION:Kowloon Cricket Club\, 10 Cox's Road\, Jordan\, Hong Kong
CATEGORIES:2017,Football,Sport
ATTACH;FMTTYPE=image/jpeg:https://www.bcmagazine.net/wp-content/uploads/2017/12/KCC-santa-soccer-2017.jpg
GEO:22.3048927;114.1737401
X-APPLE-STRUCTURED-LOCATION;VALUE=URI;X-ADDRESS=Kowloon Cricket Club 10 Cox's Road Jordan Hong Kong;X-APPLE-RADIUS=500;X-TITLE=10 Cox's Road:geo:114.1737401,22.3048927
END:VEVENT
BEGIN:VEVENT
DTSTART;VALUE=DATE:20171223
DTEND;VALUE=DATE:20171227
DTSTAMP:20260424T231801
CREATED:20171217T075358Z
LAST-MODIFIED:20171217T111122Z
UID:10006468-1513987200-1514332799@www.bcmagazine.net
SUMMARY:HK4in4 Challenge
DESCRIPTION:Run all four Hong Kong long-distance trails (Lantau\, Wilson\, Hong Kong\, Maclehose) in four consecutive days (four stage challenge). \nSat\, 23 Dec 2017 – 5am Lantau Trail\, 70km\nSun\, 24 Dec 2017 – 5am Wilson Trail\, 78km\nMon\, 25 Dec 2017 – 5am Hong Kong Trail\, 50km\nTue\, 26 Dec 2017 – 5am Maclehose Trail\, 100km \nTotal: 298km in 4 stages (one trail per day) \nHK4in4 Challenge\n  Date: 23-26 December\, 2017\nVenue: Hong Kong\nTickets: Free\nMore info: www.facebook.com/HK4in4
URL:https://www.bcmagazine.net/event/hk4in4-challenge-2017/
CATEGORIES:2017,Lifestyle,Sport
ATTACH;FMTTYPE=image/jpeg:https://www.bcmagazine.net/wp-content/uploads/2017/12/HK4in4-Challenge-2017.jpg
END:VEVENT
END:VCALENDAR