BEGIN:VCALENDAR
VERSION:2.0
PRODID:-//bc magazine - ECPv6.15.20//NONSGML v1.0//EN
CALSCALE:GREGORIAN
METHOD:PUBLISH
X-WR-CALNAME:bc magazine
X-ORIGINAL-URL:https://www.bcmagazine.net
X-WR-CALDESC:Events for bc magazine
REFRESH-INTERVAL;VALUE=DURATION:PT1H
X-Robots-Tag:noindex
X-PUBLISHED-TTL:PT1H
BEGIN:VTIMEZONE
TZID:Asia/Hong_Kong
BEGIN:STANDARD
TZOFFSETFROM:+0800
TZOFFSETTO:+0800
TZNAME:HKT
DTSTART:20170101T000000
END:STANDARD
END:VTIMEZONE
BEGIN:VEVENT
DTSTART;TZID=Asia/Hong_Kong:20180106T080000
DTEND;TZID=Asia/Hong_Kong:20180106T080000
DTSTAMP:20260424T171500
CREATED:19171217T065358Z
LAST-MODIFIED:20171217T102552Z
UID:10003680-1515225600-1515225600@www.bcmagazine.net
SUMMARY:The GreenRace Braemar Hill 2018
DESCRIPTION:The GreenRace Braemar Hill 2018\n Date: 8am\, 6 January\, 2018\nVenue: Braemar Hill Road\nTickets: $600\, $550\, $500\, $400\, Free to watch
URL:https://www.bcmagazine.net/event/the-greenrace-braemar-hill-2018/
CATEGORIES:2018,Lifestyle,Sport
END:VEVENT
BEGIN:VEVENT
DTSTART;TZID=Asia/Hong_Kong:20180111T193000
DTEND;TZID=Asia/Hong_Kong:20180111T193000
DTSTAMP:20260424T171500
CREATED:20180105T065539Z
LAST-MODIFIED:20180105T092905Z
UID:10006470-1515699000-1515699000@www.bcmagazine.net
SUMMARY:Winter Fever 7
DESCRIPTION:Billed as the biggest wrestling festival ever in Hong Kong\, the Winter Fever 7 tournament features top names from Japan and China and takes place at Chai Wan’s Youth Square on the 11 January 2018. \nThis is the first time that wrestlers from Dragon Gate\, Japan’s top wrestling league\, will appear in Hong Kong. Stars scheduled to be appear include the former Dream Gate Champion Masato Yoshino and two female heavyweights Meiko Satomura and former Stardom World Women Champion  Emi Sakura. \nChinese WWE superstar Ho Ho Lun returns to Hong Kong after his successful USA tour to lead Team Outer Space against the Foreign Invaders. \nWinter Fever 7\nDate: 7:30pm\, 11 January\, 2018\nVenue: Youth Square\, Y Studio\nTickets: $230 $180 from Urbtix
URL:https://www.bcmagazine.net/event/winter-fever-7-2018/
LOCATION:Youth Square\, Y Studio\, 238 Chai Wan Road\, Chaiwan\, Hong Kong
CATEGORIES:2018,Performing Arts,Sport
ATTACH;FMTTYPE=image/jpeg:https://www.bcmagazine.net/wp-content/uploads/2018/01/Meiko-Satomura-2017.jpg
GEO:22.26301;114.2366034
X-APPLE-STRUCTURED-LOCATION;VALUE=URI;X-ADDRESS=Youth Square Y Studio 238 Chai Wan Road Chaiwan Hong Kong;X-APPLE-RADIUS=500;X-TITLE=238 Chai Wan Road:geo:114.2366034,22.26301
END:VEVENT
BEGIN:VEVENT
DTSTART;TZID=Asia/Hong_Kong:20180113T080000
DTEND;TZID=Asia/Hong_Kong:20180113T080000
DTSTAMP:20260424T171500
CREATED:19171217T065358Z
LAST-MODIFIED:20171217T104506Z
UID:10003684-1515830400-1515830400@www.bcmagazine.net
SUMMARY:TransNT
DESCRIPTION:TransNT\n Date: 8am\, 13 January\, 2018\nVenue: New Territories\nTickets: $1\,960\, $1\,230\, $620\, $580
URL:https://www.bcmagazine.net/event/transnt-2018/
CATEGORIES:2018,Lifestyle,Sport
END:VEVENT
BEGIN:VEVENT
DTSTART;TZID=Asia/Hong_Kong:20180113T091500
DTEND;TZID=Asia/Hong_Kong:20180113T091500
DTSTAMP:20260424T171500
CREATED:19171217T065358Z
LAST-MODIFIED:20171217T102145Z
UID:10003679-1515834900-1515834900@www.bcmagazine.net
SUMMARY:HKAF Aids-Free Charity Trail Run
DESCRIPTION:HKAF Aids-Free Charity Trail Run\nDate: 9:15am\, 13 January\, 2018\nVenue: Mui Wo Silver Garden\nTickets: Free to watch
URL:https://www.bcmagazine.net/event/hkaf-aids-free-charity-trail-run-2018/
CATEGORIES:2018,Lifestyle,Sport
END:VEVENT
BEGIN:VEVENT
DTSTART;TZID=Asia/Hong_Kong:20180114T080000
DTEND;TZID=Asia/Hong_Kong:20180114T080000
DTSTAMP:20260424T171500
CREATED:19171217T065358Z
LAST-MODIFIED:20171217T105529Z
UID:10003687-1515916800-1515916800@www.bcmagazine.net
SUMMARY:Community Chest Walk for Millions
DESCRIPTION:Community Chest Walk for Millions\n Date: 8am\, 14 January\, 2018\nVenue: HK Stadium\nTickets: donation
URL:https://www.bcmagazine.net/event/community-chest-walk-for-millions-2018/
LOCATION:HK Stadium\, 55 Eastern Hospital Road\, So Kon Po\, Hong Kong
CATEGORIES:2018,Charity,Lifestyle,Sport
GEO:22.2730073;114.1885121
X-APPLE-STRUCTURED-LOCATION;VALUE=URI;X-ADDRESS=HK Stadium 55 Eastern Hospital Road So Kon Po Hong Kong;X-APPLE-RADIUS=500;X-TITLE=55 Eastern Hospital Road:geo:114.1885121,22.2730073
END:VEVENT
BEGIN:VEVENT
DTSTART;TZID=Asia/Hong_Kong:20180120T090000
DTEND;TZID=Asia/Hong_Kong:20180120T090000
DTSTAMP:20260424T171500
CREATED:19171217T065358Z
LAST-MODIFIED:20171217T101915Z
UID:10003678-1516438800-1516438800@www.bcmagazine.net
SUMMARY:Lantau Ladies Trail Running Race
DESCRIPTION:Lantau Ladies Trail Running Race\nDate: 9am\, 20 January\, 2018\nVenue: Mui Wo Ferry Pier Road\nTickets: Free to watch
URL:https://www.bcmagazine.net/event/lantau-ladies-trail-running-race-2018/
CATEGORIES:2018,Lifestyle,Sport
END:VEVENT
BEGIN:VEVENT
DTSTART;TZID=Asia/Hong_Kong:20180121T050000
DTEND;TZID=Asia/Hong_Kong:20180121T050000
DTSTAMP:20260424T171500
CREATED:19171217T065358Z
LAST-MODIFIED:20171217T101657Z
UID:10003677-1516510800-1516510800@www.bcmagazine.net
SUMMARY:Hong Kong Marathon
DESCRIPTION:Hong Kong Marathon\nDate: 5am\, 21 January\, 2018\nVenue: Tsim Sha Tsui to Tsing Ma Bridge to Victoria Park\nTickets: Free to watch
URL:https://www.bcmagazine.net/event/hong-kong-marathon-2018/
CATEGORIES:2018,Lifestyle,Sport
END:VEVENT
BEGIN:VEVENT
DTSTART;VALUE=DATE:20180127
DTEND;VALUE=DATE:20180129
DTSTAMP:20260424T171500
CREATED:20171207T021819Z
LAST-MODIFIED:20171207T093239Z
UID:10006465-1517011200-1517183999@www.bcmagazine.net
SUMMARY:DB Pirates All Girls Beach Festival
DESCRIPTION:DB Pirates International All Girls Beach Festival 2018\nDate: 27-28 January\, 2018\nVenue: Tai Pak Beach\, Discovery Bay\nTickets: Free
URL:https://www.bcmagazine.net/event/db-pirates-all-girls-beach-festival-2018/
LOCATION:Tai Pak Beach\, Discovery Bay\, Hong Kong
CATEGORIES:2018,Rugby,Sport
ATTACH;FMTTYPE=image/jpeg:https://www.bcmagazine.net/wp-content/uploads/2017/12/DB-Beachfest-flyer-2018.jpg
GEO:22.396428;114.109497
END:VEVENT
BEGIN:VEVENT
DTSTART;TZID=Asia/Hong_Kong:20180127T170000
DTEND;TZID=Asia/Hong_Kong:20180127T200000
DTSTAMP:20260424T171500
CREATED:20171217T065358Z
LAST-MODIFIED:20171217T101150Z
UID:10006467-1517072400-1517083200@www.bcmagazine.net
SUMMARY:Hong Kong Roller Derby v Pan-Asian Spring Rollers
DESCRIPTION:Hong Kong Roller Derby v Pan-Asian Spring Rollers\nDate: 5pm\, 27 January\, 2018\nVenue: Victoria Park\nTickets: Free (?)
URL:https://www.bcmagazine.net/event/hong-kong-roller-derby-v-pan-asian-spring-rollers/
LOCATION:Victoria Park\, Causeway Bay\, Hong Kong
CATEGORIES:2018,Sport
END:VEVENT
END:VCALENDAR