BEGIN:VCALENDAR
VERSION:2.0
PRODID:-//bc magazine - ECPv6.15.20//NONSGML v1.0//EN
CALSCALE:GREGORIAN
METHOD:PUBLISH
X-ORIGINAL-URL:https://www.bcmagazine.net
X-WR-CALDESC:Events for bc magazine
REFRESH-INTERVAL;VALUE=DURATION:PT1H
X-Robots-Tag:noindex
X-PUBLISHED-TTL:PT1H
BEGIN:VTIMEZONE
TZID:Asia/Hong_Kong
BEGIN:STANDARD
TZOFFSETFROM:+0800
TZOFFSETTO:+0800
TZNAME:HKT
DTSTART:20170101T000000
END:STANDARD
END:VTIMEZONE
BEGIN:VEVENT
DTSTART;VALUE=DATE:20180331
DTEND;VALUE=DATE:20180402
DTSTAMP:20260423T235521
CREATED:19171217T065358Z
LAST-MODIFIED:20171217T103037Z
UID:10003681-1522454400-1522627199@www.bcmagazine.net
SUMMARY:Ultra Hong Kong
DESCRIPTION:The GreenRace Ultra Hong Kong 2018\n Date: 31 March – 1 April\, 2018\nVenue: Hong Lok Yuen\nTickets: $1\,100\, $600 Free to watch
URL:https://www.bcmagazine.net/event/ultra-hong-kong/
LOCATION:Hong Lok Yuen
CATEGORIES:2018,Lifestyle,Sport
END:VEVENT
BEGIN:VEVENT
DTSTART;TZID=Asia/Hong_Kong:20180402T090000
DTEND;TZID=Asia/Hong_Kong:20180403T043000
DTSTAMP:20260423T235521
CREATED:19171217T065358Z
LAST-MODIFIED:20171217T103701Z
UID:10003682-1522659600-1522729800@www.bcmagazine.net
SUMMARY:Plover Community Challenge
DESCRIPTION:Plover Community Challenge\n  Date: 2 April\, 2018\nVenue: Bride’s Pool Nature Trail\nTickets: Free (?)
URL:https://www.bcmagazine.net/event/plover-community-challenge-2018/
LOCATION:Bride’s Pool Nature Trail\, Hong Kong
CATEGORIES:2018,Lifestyle,Sport
GEO:22.396428;114.109497
END:VEVENT
BEGIN:VEVENT
DTSTART;VALUE=DATE:20180404
DTEND;VALUE=DATE:20180405
DTSTAMP:20260423T235521
CREATED:19170724T031400Z
LAST-MODIFIED:20170724T033008Z
UID:10003071-1522800000-1522886399@www.bcmagazine.net
SUMMARY:Kowloon Rugbyfest
DESCRIPTION:Kowloon Rugbyfest\nDate: 4 April\, 2018\nVenue: Kong’s Park\nTickets: Free
URL:https://www.bcmagazine.net/event/kowloon-rugbyfest-2018/
LOCATION:King’s Park Sports Ground\, 11 Wylie Path\, Ho Man Tin\, Jordan\, Hong Kong
CATEGORIES:2018,Free,Rugby,Sport
END:VEVENT
BEGIN:VEVENT
DTSTART;VALUE=DATE:20180404
DTEND;VALUE=DATE:20180406
DTSTAMP:20260423T235521
CREATED:19170724T031400Z
LAST-MODIFIED:20180319T102348Z
UID:10003070-1522800000-1522972799@www.bcmagazine.net
SUMMARY:Hong Kong Tens
DESCRIPTION:Hong Kong Tens\nDate: 4-5 April\, 2018\nVenue: HK Football Club\nTickets: $125\, $100 (advance)
URL:https://www.bcmagazine.net/event/hong-kong-tens-2018/
LOCATION:Hong Kong Football Club\, 3 Sports Road\, Causeway Bay\, Hong Kong
CATEGORIES:2018,Rugby,Sport
GEO:22.275374;114.1822239
X-APPLE-STRUCTURED-LOCATION;VALUE=URI;X-ADDRESS=Hong Kong Football Club 3 Sports Road Causeway Bay Hong Kong;X-APPLE-RADIUS=500;X-TITLE=3 Sports Road:geo:114.1822239,22.275374
END:VEVENT
BEGIN:VEVENT
DTSTART;VALUE=DATE:20180405
DTEND;VALUE=DATE:20180407
DTSTAMP:20260423T235521
CREATED:19170724T031400Z
LAST-MODIFIED:20180319T102420Z
UID:10003069-1522886400-1523059199@www.bcmagazine.net
SUMMARY:HK Women's Sevens
DESCRIPTION:HK Women’s Sevens\nDate: 5-6 April\, 2018\nVenue: So Kon Po\nTickets: Free
URL:https://www.bcmagazine.net/event/hk-womens-sevens-2018/
LOCATION:So Kon Po Sports Ground\, 55 Caroline Hill Road\, So Kon Po\, Hong Kong
CATEGORIES:2018,Rugby,Sport
GEO:22.2765622;114.1878279
X-APPLE-STRUCTURED-LOCATION;VALUE=URI;X-ADDRESS=So Kon Po Sports Ground 55 Caroline Hill Road So Kon Po Hong Kong;X-APPLE-RADIUS=500;X-TITLE=55 Caroline Hill Road:geo:114.1878279,22.2765622
END:VEVENT
BEGIN:VEVENT
DTSTART;VALUE=DATE:20180406
DTEND;VALUE=DATE:20180409
DTSTAMP:20260423T235521
CREATED:19170724T031400Z
LAST-MODIFIED:20170724T032142Z
UID:10003068-1522972800-1523231999@www.bcmagazine.net
SUMMARY:HK Sevens
DESCRIPTION:HK Sevens\nDate: 6-8 April\, 2018\nVenue: HK Stadium\nTickets: $1\,950
URL:https://www.bcmagazine.net/event/hk-sevens-2018/
LOCATION:HK Stadium\, 55 Eastern Hospital Road\, So Kon Po\, Hong Kong
CATEGORIES:2018,Rugby,Sport
GEO:22.2730073;114.1885121
X-APPLE-STRUCTURED-LOCATION;VALUE=URI;X-ADDRESS=HK Stadium 55 Eastern Hospital Road So Kon Po Hong Kong;X-APPLE-RADIUS=500;X-TITLE=55 Eastern Hospital Road:geo:114.1885121,22.2730073
END:VEVENT
BEGIN:VEVENT
DTSTART;VALUE=DATE:20180407
DTEND;VALUE=DATE:20180409
DTSTAMP:20260423T235521
CREATED:19171217T065358Z
LAST-MODIFIED:20171217T104010Z
UID:10003683-1523059200-1523231999@www.bcmagazine.net
SUMMARY:Stairmaster Race
DESCRIPTION:Stairmaster Race\n Date: 7-8 April\, 2018\nVenue: Lantau\nTickets: tbc\nMore info:\n7 April – Lantau\n8 April – Twins
URL:https://www.bcmagazine.net/event/stairmaster-race-2018/
LOCATION:Lantau\, Lantau\, Hong Kong
CATEGORIES:2018,Lifestyle,Sport
END:VEVENT
BEGIN:VEVENT
DTSTART;TZID=Asia/Hong_Kong:20180421T080000
DTEND;TZID=Asia/Hong_Kong:20180421T093000
DTSTAMP:20260423T235521
CREATED:19171217T065358Z
LAST-MODIFIED:20171217T105112Z
UID:10003686-1524297600-1524303000@www.bcmagazine.net
SUMMARY:Country of Origin Trail Run
DESCRIPTION:Country of Origin Trail Run\n Date: 8am\, 21 April\, 2018\nVenue: Lantau\nTickets: tbc
URL:https://www.bcmagazine.net/event/country-of-origin-trail-run-2018/
LOCATION:Lantau\, Lantau\, Hong Kong
CATEGORIES:2018,Lifestyle,Sport
END:VEVENT
BEGIN:VEVENT
DTSTART;TZID=Asia/Hong_Kong:20180422T084500
DTEND;TZID=Asia/Hong_Kong:20180422T084500
DTSTAMP:20260423T235521
CREATED:19171217T075358Z
LAST-MODIFIED:20180214T104824Z
UID:10003692-1524386700-1524386700@www.bcmagazine.net
SUMMARY:SwimRun #2: HK Island
DESCRIPTION:SwimRun #2: HK Island\nDate: 8:45am\, 22 April\, 2018\nVenue: South Bay Beach\nTickets: $280
URL:https://www.bcmagazine.net/event/swimrun-2-hk-island-2018/
LOCATION:South Bay Beach\, Hong Kong
CATEGORIES:2018,Lifestyle,Sport,Swimming
GEO:22.396428;114.109497
END:VEVENT
BEGIN:VEVENT
DTSTART;VALUE=DATE:20180428
DTEND;VALUE=DATE:20180502
DTSTAMP:20260423T235521
CREATED:19180418T103647Z
LAST-MODIFIED:20180419T051529Z
UID:10003945-1524873600-1525219199@www.bcmagazine.net
SUMMARY:Hong Kong Lacrosse Open
DESCRIPTION:Hong Kong Lacrosse Open\nDate: 28 April – 1 May\, 2018\nVenue: Stanley Ho Sports Centre; King’s Park\nTickets: Free
URL:https://www.bcmagazine.net/event/hong-kong-lacrosse-open-2018/
LOCATION:King’s Park Sports Ground\, 11 Wylie Path\, Ho Man Tin\, Jordan\, Hong Kong
CATEGORIES:2018,Free,Sport
ATTACH;FMTTYPE=image/png:https://www.bcmagazine.net/wp-content/uploads/1918/04/Hong-Kong-Lacrosse-Open-2018.png
END:VEVENT
BEGIN:VEVENT
DTSTART;TZID=Asia/Hong_Kong:20180428T180000
DTEND;TZID=Asia/Hong_Kong:20180428T180000
DTSTAMP:20260423T235521
CREATED:19180310T104830Z
LAST-MODIFIED:20180310T115744Z
UID:10003902-1524938400-1524938400@www.bcmagazine.net
SUMMARY:Light The Night Run
DESCRIPTION:Light The Night Run\nDate: 28 April\, 2018\nVenue: The Parisian Macao\nTickets: tbc
URL:https://www.bcmagazine.net/event/light-the-night-run-macau-2018/
LOCATION:The Parisian Macao\, Macau
CATEGORIES:2018,Charity,Macau,Sport
GEO:22.198745;113.543873
END:VEVENT
END:VCALENDAR