BEGIN:VCALENDAR
VERSION:2.0
PRODID:-//bc magazine - ECPv6.15.20//NONSGML v1.0//EN
CALSCALE:GREGORIAN
METHOD:PUBLISH
X-ORIGINAL-URL:https://www.bcmagazine.net
X-WR-CALDESC:Events for bc magazine
REFRESH-INTERVAL;VALUE=DURATION:PT1H
X-Robots-Tag:noindex
X-PUBLISHED-TTL:PT1H
BEGIN:VTIMEZONE
TZID:Asia/Hong_Kong
BEGIN:STANDARD
TZOFFSETFROM:+0800
TZOFFSETTO:+0800
TZNAME:HKT
DTSTART:20170101T000000
END:STANDARD
END:VTIMEZONE
BEGIN:VEVENT
DTSTART;TZID=Asia/Hong_Kong:20180602T160000
DTEND;TZID=Asia/Hong_Kong:20180602T160000
DTSTAMP:20260424T041008
CREATED:19180427T093827Z
LAST-MODIFIED:20180508T132406Z
UID:10003968-1527955200-1527955200@www.bcmagazine.net
SUMMARY:Hong Kong v South Korea
DESCRIPTION:Hong Kong v South Korea\nAsian Rugby Championship 2018\nDate: 4pm\, 2 June\, 2018\nVenue: HK Football Club\nTickets: $50
URL:https://www.bcmagazine.net/event/hong-kong-v-south-korea-2018/
LOCATION:Hong Kong Football Club\, 3 Sports Road\, Causeway Bay\, Hong Kong
CATEGORIES:2018,Rugby,Sport
GEO:22.275374;114.1822239
X-APPLE-STRUCTURED-LOCATION;VALUE=URI;X-ADDRESS=Hong Kong Football Club 3 Sports Road Causeway Bay Hong Kong;X-APPLE-RADIUS=500;X-TITLE=3 Sports Road:geo:114.1822239,22.275374
END:VEVENT
BEGIN:VEVENT
DTSTART;TZID=Asia/Hong_Kong:20180603T084500
DTEND;TZID=Asia/Hong_Kong:20180603T084500
DTSTAMP:20260424T041008
CREATED:19171217T075358Z
LAST-MODIFIED:20180214T105016Z
UID:10003694-1528015500-1528015500@www.bcmagazine.net
SUMMARY:SwimRun #4: Lantau
DESCRIPTION:SwimRun #4: Lantau\nDate: 8:45am\, 3 June\, 2018\nVenue: Lantau\nTickets: $280
URL:https://www.bcmagazine.net/event/swimrun-4-lantau-2018/
LOCATION:Lantau\, Lantau\, Hong Kong
CATEGORIES:2018,Lifestyle,Sport,Swimming
END:VEVENT
BEGIN:VEVENT
DTSTART;VALUE=DATE:20180622
DTEND;VALUE=DATE:20180625
DTSTAMP:20260424T041008
CREATED:19180405T081942Z
LAST-MODIFIED:20230315T085111Z
UID:10006787-1529625600-1529884799@www.bcmagazine.net
SUMMARY:Dragon Boat Carnival
DESCRIPTION:Dragon Boat Carnival\nDate: 24-25 June\, 2023\nVenue: Off Tsim Sha Tsui East Promenade\nTickets: Free
URL:https://www.bcmagazine.net/event/dragon-boat-carnival-2023/
LOCATION:Central Harbourfront\,  9 Lung Wo Road\, Central\, Hong Kong
CATEGORIES:2023,Cultural Festival,Free,Sport
ATTACH;FMTTYPE=image/jpeg:https://www.bcmagazine.net/wp-content/uploads/2018/04/Dragon-Boat-Carnival.jpg
GEO:22.2826223;114.164346
X-APPLE-STRUCTURED-LOCATION;VALUE=URI;X-ADDRESS=Central Harbourfront  9 Lung Wo Road Central Hong Kong;X-APPLE-RADIUS=500;X-TITLE=9 Lung Wo Road:geo:114.164346,22.2826223
END:VEVENT
BEGIN:VEVENT
DTSTART;VALUE=DATE:20180622
DTEND;VALUE=DATE:20180625
DTSTAMP:20260424T041008
CREATED:20180405T081942Z
LAST-MODIFIED:20180412T081358Z
UID:10006486-1529625600-1529884799@www.bcmagazine.net
SUMMARY:Dragon Boat Carnival
DESCRIPTION:Dragon Boat Carnival\nDate: 22-24 June\, 2018\nVenue: Central Harbourfront\nTickets: Free
URL:https://www.bcmagazine.net/event/dragon-boat-carnival-2018/
LOCATION:Central Harbourfront\,  9 Lung Wo Road\, Central\, Hong Kong
CATEGORIES:2018,Cultural Festival,Free,Sport
ATTACH;FMTTYPE=image/jpeg:https://www.bcmagazine.net/wp-content/uploads/2018/04/Dragon-Boat-Carnival.jpg
GEO:22.2826223;114.164346
X-APPLE-STRUCTURED-LOCATION;VALUE=URI;X-ADDRESS=Central Harbourfront  9 Lung Wo Road Central Hong Kong;X-APPLE-RADIUS=500;X-TITLE=9 Lung Wo Road:geo:114.164346,22.2826223
END:VEVENT
END:VCALENDAR