BEGIN:VCALENDAR
VERSION:2.0
PRODID:-//bc magazine - ECPv6.15.20//NONSGML v1.0//EN
CALSCALE:GREGORIAN
METHOD:PUBLISH
X-WR-CALNAME:bc magazine
X-ORIGINAL-URL:https://www.bcmagazine.net
X-WR-CALDESC:Events for bc magazine
REFRESH-INTERVAL;VALUE=DURATION:PT1H
X-Robots-Tag:noindex
X-PUBLISHED-TTL:PT1H
BEGIN:VTIMEZONE
TZID:Asia/Hong_Kong
BEGIN:STANDARD
TZOFFSETFROM:+0800
TZOFFSETTO:+0800
TZNAME:HKT
DTSTART:20170101T000000
END:STANDARD
END:VTIMEZONE
BEGIN:VEVENT
DTSTART;VALUE=DATE:20181006
DTEND;VALUE=DATE:20181015
DTSTAMP:20260421T184213
CREATED:19170722T041457Z
LAST-MODIFIED:20180728T031240Z
UID:10003066-1538784000-1539561599@www.bcmagazine.net
SUMMARY:Hong Kong Tennis Open
DESCRIPTION:Hong Kong Tennis Open\nDate: 6-14 October\, 2018\nVenue: Victoria Park\nTickets: $220\, $160 from Cityline
URL:https://www.bcmagazine.net/event/hong-kong-tennis-open-2018/
LOCATION:Victoria Park\, Causeway Bay\, Hong Kong
CATEGORIES:2018,Sport
END:VEVENT
BEGIN:VEVENT
DTSTART;TZID=Asia/Hong_Kong:20181014T053000
DTEND;TZID=Asia/Hong_Kong:20181014T053000
DTSTAMP:20260421T184213
CREATED:19180721T074637Z
LAST-MODIFIED:20181003T101104Z
UID:10004346-1539495000-1539495000@www.bcmagazine.net
SUMMARY:Cyclothon
DESCRIPTION:Cyclothon\nDate: 14 October\, 2018\nVenue: Tsing Ma Bridge\nTickets: Free by registration http://register.hongkongcyclothon.com
URL:https://www.bcmagazine.net/event/cyclothon-2018/
CATEGORIES:2018,Cycling,Free,Sport
END:VEVENT
BEGIN:VEVENT
DTSTART;VALUE=DATE:20181021
DTEND;VALUE=DATE:20181022
DTSTAMP:20260421T184213
CREATED:19170608T120614Z
LAST-MODIFIED:20181011T165006Z
UID:10002778-1540080000-1540166399@www.bcmagazine.net
SUMMARY:Cross Harbour Race
DESCRIPTION:Cross Harbour Race 2018\nDate: 21 October\, 2018\nVenue: Victoria Harbour\nTickets:  Free to watch
URL:https://www.bcmagazine.net/event/cross-harbour-race-2018/
LOCATION:Victoria Harbour\, Hong Kong
CATEGORIES:2018,Sport,Swimming
END:VEVENT
BEGIN:VEVENT
DTSTART;VALUE=DATE:20181025
DTEND;VALUE=DATE:20181027
DTSTAMP:20260421T184213
CREATED:19181020T145036Z
LAST-MODIFIED:20181022T144633Z
UID:10004489-1540425600-1540598399@www.bcmagazine.net
SUMMARY:Macau Masters
DESCRIPTION:Eight of the world’s top snooker players will take part in the Macau Masters on the 24 & 25 October at the JW Marriott Hotel in Macau. Ryan Day\, Barry Hawkins\, Joe Perry\, Zhang Anda\, Zhao Xintong\, Marco Fu\, Zhou Yuelong will join the “The Welsh Potting Machine” Mark Williams who is looking forward to the tournament\, “It’s my honour to be invited to the Macau Masters. I am exciting about meeting my fans as well.” \nThe tournament is spread across four sessions of play and features team matches (24 & 25 Oct) and an individual six-red leapfrog challenge (25 Oct). Team Matches will be on 24 October (Wednesday). The afternoon sessions start at 2pm and the evening at 7:30pm \n \n \nMacau Masters\nMark Williams\, Ryan Day\, Barry Hawkins\, Joe Perry\, Zhang Anda\, Zhao Xintong\, Marco Fu and Zhou Yuelong\nDate: 24-25 October\, 2018\nVenue: Ballroom\, JW Marriott Hotel\, Macau\nTickets: $880\, $480\, $380 per session
URL:https://www.bcmagazine.net/event/macau-masters-2018/
LOCATION:JW Marriott Hotel Macau\, Macau
CATEGORIES:2018,Macau,Sport
ATTACH;FMTTYPE=image/jpeg:https://www.bcmagazine.net/wp-content/uploads/1918/10/macau-masters-2018.jpg
END:VEVENT
BEGIN:VEVENT
DTSTART;VALUE=DATE:20181029
DTEND;VALUE=DATE:20181030
DTSTAMP:20260421T184213
CREATED:19181002T010042Z
LAST-MODIFIED:20181003T104956Z
UID:10004447-1540771200-1540857599@www.bcmagazine.net
SUMMARY:Yokkao 33 - 34
DESCRIPTION:Yokkao 33 – 34\nDate: 29 October\, 2018\nVenues: Kitec\, Star Hall\nTickets: tbc
URL:https://www.bcmagazine.net/event/yokkao-33-34/
LOCATION:KITEC\, Star Hall\, KITEC\, 1 Trademart Drive\, Kowloon Bay\, Hong Kong
CATEGORIES:2018,Muay Thai,Sport
ATTACH;FMTTYPE=image/jpeg:https://www.bcmagazine.net/wp-content/uploads/1918/10/yokkao-33-34-2018.jpg
GEO:22.3239575;114.2037608
X-APPLE-STRUCTURED-LOCATION;VALUE=URI;X-ADDRESS=KITEC Star Hall KITEC 1 Trademart Drive Kowloon Bay Hong Kong;X-APPLE-RADIUS=500;X-TITLE=KITEC\, 1 Trademart Drive:geo:114.2037608,22.3239575
END:VEVENT
END:VCALENDAR