BEGIN:VCALENDAR
VERSION:2.0
PRODID:-//bc magazine - ECPv6.15.20//NONSGML v1.0//EN
CALSCALE:GREGORIAN
METHOD:PUBLISH
X-WR-CALNAME:bc magazine
X-ORIGINAL-URL:https://www.bcmagazine.net
X-WR-CALDESC:Events for bc magazine
REFRESH-INTERVAL;VALUE=DURATION:PT1H
X-Robots-Tag:noindex
X-PUBLISHED-TTL:PT1H
BEGIN:VTIMEZONE
TZID:Asia/Hong_Kong
BEGIN:STANDARD
TZOFFSETFROM:+0800
TZOFFSETTO:+0800
TZNAME:HKT
DTSTART:20170101T000000
END:STANDARD
END:VTIMEZONE
BEGIN:VEVENT
DTSTART;VALUE=DATE:20181130
DTEND;VALUE=DATE:20181203
DTSTAMP:20260421T142953
CREATED:19151008T084633Z
LAST-MODIFIED:20181103T074010Z
UID:10000102-1543536000-1543795199@www.bcmagazine.net
SUMMARY:Dartslive Hong Kong Open
DESCRIPTION:Hong Kong Super League\, Dartslive Season 15\nDate: 30 November – 2 December\, 2018\nVenue: Star Hall\nTickets: $300
URL:https://www.bcmagazine.net/event/dartslive-hong-kong-open-2018/
LOCATION:KITEC\, Star Hall\, KITEC\, 1 Trademart Drive\, Kowloon Bay\, Hong Kong
CATEGORIES:2018,Sport
ATTACH;FMTTYPE=image/jpeg:https://www.bcmagazine.net/wp-content/uploads/2015/05/darts-live-2018.jpg
GEO:22.3239575;114.2037608
X-APPLE-STRUCTURED-LOCATION;VALUE=URI;X-ADDRESS=KITEC Star Hall KITEC 1 Trademart Drive Kowloon Bay Hong Kong;X-APPLE-RADIUS=500;X-TITLE=KITEC\, 1 Trademart Drive:geo:114.2037608,22.3239575
END:VEVENT
BEGIN:VEVENT
DTSTART;VALUE=DATE:20181202
DTEND;VALUE=DATE:20181203
DTSTAMP:20260421T142953
CREATED:19180722T003443Z
LAST-MODIFIED:20181104T161005Z
UID:10004351-1543708800-1543795199@www.bcmagazine.net
SUMMARY:Vertical Run
DESCRIPTION:Vertical Run 2018\nDate: 2 December\, 2018\nVenue: ICC\, 1 Austin Road\, West Kowloon\nTickets: $300\nMore info: 2\,120 steps\nrace registration www.shkpverticalrun.com
URL:https://www.bcmagazine.net/event/vertical-run-2018/
LOCATION:Hong Kong
CATEGORIES:2018,Sport
END:VEVENT
BEGIN:VEVENT
DTSTART;VALUE=DATE:20181202
DTEND;VALUE=DATE:20181203
DTSTAMP:20260421T142953
CREATED:19181120T072433Z
LAST-MODIFIED:20181128T073320Z
UID:10004584-1543708800-1543795199@www.bcmagazine.net
SUMMARY:Hong Kong Half Marathon Relay 2018
DESCRIPTION:Hong Kong Half Marathon Relay 2018\nDate: 2 December\, 2018\nVenue: Choi Yuen Road\, Sheung Shui\nTickets: Free
URL:https://www.bcmagazine.net/event/hong-kong-half-marathon-relay-2018/
CATEGORIES:2018,Athletics,Sport
END:VEVENT
END:VCALENDAR