BEGIN:VCALENDAR
VERSION:2.0
PRODID:-//bc magazine - ECPv6.15.20//NONSGML v1.0//EN
CALSCALE:GREGORIAN
METHOD:PUBLISH
X-WR-CALNAME:bc magazine
X-ORIGINAL-URL:https://www.bcmagazine.net
X-WR-CALDESC:Events for bc magazine
REFRESH-INTERVAL;VALUE=DURATION:PT1H
X-Robots-Tag:noindex
X-PUBLISHED-TTL:PT1H
BEGIN:VTIMEZONE
TZID:Asia/Hong_Kong
BEGIN:STANDARD
TZOFFSETFROM:+0800
TZOFFSETTO:+0800
TZNAME:HKT
DTSTART:20180101T000000
END:STANDARD
END:VTIMEZONE
BEGIN:VEVENT
DTSTART;VALUE=DATE:20190403
DTEND;VALUE=DATE:20190405
DTSTAMP:20260421T051559
CREATED:19170724T031400Z
LAST-MODIFIED:20180507T060319Z
UID:10003073-1554249600-1554422399@www.bcmagazine.net
SUMMARY:Hong Kong Tens
DESCRIPTION:Hong Kong Tens\nDate: 3-4 April\, 2019\nVenue: HK Football Club\nTickets: $125\, $100 (advance)
URL:https://www.bcmagazine.net/event/hong-kong-tens-2019/
LOCATION:Hong Kong Football Club\, 3 Sports Road\, Causeway Bay\, Hong Kong
CATEGORIES:2019,Rugby,Sport
GEO:22.275374;114.1822239
X-APPLE-STRUCTURED-LOCATION;VALUE=URI;X-ADDRESS=Hong Kong Football Club 3 Sports Road Causeway Bay Hong Kong;X-APPLE-RADIUS=500;X-TITLE=3 Sports Road:geo:114.1822239,22.275374
END:VEVENT
BEGIN:VEVENT
DTSTART;TZID=Asia/Hong_Kong:20190403T090000
DTEND;TZID=Asia/Hong_Kong:20190403T190000
DTSTAMP:20260421T051559
CREATED:19180212T084136Z
LAST-MODIFIED:20180507T060733Z
UID:10003783-1554282000-1554318000@www.bcmagazine.net
SUMMARY:KowloonFest
DESCRIPTION:Kowloon Fest\nWhen: 9am\, 3 April\, 2019\nWhere: Kings Park\nHow much: Free
URL:https://www.bcmagazine.net/event/kowloonfest-2019/
LOCATION:King’s Park Sports Ground\, 11 Wylie Path\, Ho Man Tin\, Jordan\, Hong Kong
CATEGORIES:2019,Free,Rugby,Sport
END:VEVENT
BEGIN:VEVENT
DTSTART;VALUE=DATE:20190404
DTEND;VALUE=DATE:20190406
DTSTAMP:20260421T051559
CREATED:19180724T031400Z
LAST-MODIFIED:20180507T060013Z
UID:10004356-1554336000-1554508799@www.bcmagazine.net
SUMMARY:HK Women's Sevens
DESCRIPTION:HK Women’s Sevens\nDate: 4-5 April\, 2019\nVenue: So Kon Po\nTickets: Free
URL:https://www.bcmagazine.net/event/hk-womens-sevens-2019/
LOCATION:So Kon Po Sports Ground\, 55 Caroline Hill Road\, So Kon Po\, Hong Kong
CATEGORIES:2019,Rugby,Sport
GEO:22.2765622;114.1878279
X-APPLE-STRUCTURED-LOCATION;VALUE=URI;X-ADDRESS=So Kon Po Sports Ground 55 Caroline Hill Road So Kon Po Hong Kong;X-APPLE-RADIUS=500;X-TITLE=55 Caroline Hill Road:geo:114.1878279,22.2765622
END:VEVENT
BEGIN:VEVENT
DTSTART;VALUE=DATE:20190405
DTEND;VALUE=DATE:20190408
DTSTAMP:20260421T051559
CREATED:19180724T031400Z
LAST-MODIFIED:20180507T055548Z
UID:10004355-1554422400-1554681599@www.bcmagazine.net
SUMMARY:HK Sevens
DESCRIPTION:HK Sevens\nDate: 5-7 April\, 2019\nVenue: HK Stadium\nTickets: $1\,950
URL:https://www.bcmagazine.net/event/hk-sevens-2019/
LOCATION:HK Stadium\, 55 Eastern Hospital Road\, So Kon Po\, Hong Kong
CATEGORIES:2019,Rugby,Sport
GEO:22.2730073;114.1885121
X-APPLE-STRUCTURED-LOCATION;VALUE=URI;X-ADDRESS=HK Stadium 55 Eastern Hospital Road So Kon Po Hong Kong;X-APPLE-RADIUS=500;X-TITLE=55 Eastern Hospital Road:geo:114.1885121,22.2730073
END:VEVENT
BEGIN:VEVENT
DTSTART;VALUE=DATE:20190409
DTEND;VALUE=DATE:20190410
DTSTAMP:20260421T051559
CREATED:19190226T025612Z
LAST-MODIFIED:20190225T175348Z
UID:10004733-1554768000-1554854399@www.bcmagazine.net
SUMMARY:I-1 World Muay Thai
DESCRIPTION:I-1 World Muay Thai – Grand Extreme\nDate: 9 April\, 2019\nVenue: Kitec\, Star Hall\nTickets: tbc
URL:https://www.bcmagazine.net/event/i-1-world-muay-thai-04-2019/
LOCATION:KITEC\, Star Hall\, KITEC\, 1 Trademart Drive\, Kowloon Bay\, Hong Kong
CATEGORIES:2019,Muay Thai,Sport
GEO:22.3239575;114.2037608
X-APPLE-STRUCTURED-LOCATION;VALUE=URI;X-ADDRESS=KITEC Star Hall KITEC 1 Trademart Drive Kowloon Bay Hong Kong;X-APPLE-RADIUS=500;X-TITLE=KITEC\, 1 Trademart Drive:geo:114.2037608,22.3239575
END:VEVENT
BEGIN:VEVENT
DTSTART;TZID=Asia/Hong_Kong:20190428T083000
DTEND;TZID=Asia/Hong_Kong:20190428T083000
DTSTAMP:20260421T051559
CREATED:20190313T044512Z
LAST-MODIFIED:20190315T113051Z
UID:10006574-1556440200-1556440200@www.bcmagazine.net
SUMMARY:Mud Race
DESCRIPTION:Mud Race\nDate: 8:30am\, 28 April\, 2019\nVenue: Tai Tong Ecopark\nTickets: $420\, $380 mudrace.com.hk
URL:https://www.bcmagazine.net/event/mud-race-2019/
LOCATION:Tai Tong Ecopark\, 11 Tai Tong Shan Road\, Yuen Long\, Hong Kong
CATEGORIES:2019,Lifestyle,Sport
ATTACH;FMTTYPE=image/jpeg:https://www.bcmagazine.net/wp-content/uploads/1918/12/mud-race-2019.jpg
END:VEVENT
BEGIN:VEVENT
DTSTART;TZID=Asia/Hong_Kong:20190428T093000
DTEND;TZID=Asia/Hong_Kong:20190428T093000
DTSTAMP:20260421T051559
CREATED:19181213T044512Z
LAST-MODIFIED:20190315T111945Z
UID:10004706-1556443800-1556443800@www.bcmagazine.net
SUMMARY:Hong Kong Baseball Fun Day Carnival 2019
DESCRIPTION:Hong Kong Baseball Fun Day Carnival 2019\nDate: 9:30am\, 28 April\, 2019\nVenue: Sai Tso Wan Recreation Ground\nTickets: Free
URL:https://www.bcmagazine.net/event/hong-kong-baseball-fun-day-carnival-2019/
LOCATION:Sai Tso Wan Recreation Ground\, Sin Fat Road\, Lam Tin\, Hong Kong
CATEGORIES:2019,Baseball,Sport
GEO:22.305686;114.230515
X-APPLE-STRUCTURED-LOCATION;VALUE=URI;X-ADDRESS=Sai Tso Wan Recreation Ground Sin Fat Road Lam Tin Hong Kong;X-APPLE-RADIUS=500;X-TITLE=Sin Fat Road:geo:114.230515,22.305686
END:VEVENT
END:VCALENDAR