BEGIN:VCALENDAR
VERSION:2.0
PRODID:-//bc magazine - ECPv6.15.20//NONSGML v1.0//EN
CALSCALE:GREGORIAN
METHOD:PUBLISH
X-WR-CALNAME:bc magazine
X-ORIGINAL-URL:https://www.bcmagazine.net
X-WR-CALDESC:Events for bc magazine
REFRESH-INTERVAL;VALUE=DURATION:PT1H
X-Robots-Tag:noindex
X-PUBLISHED-TTL:PT1H
BEGIN:VTIMEZONE
TZID:Asia/Hong_Kong
BEGIN:STANDARD
TZOFFSETFROM:+0800
TZOFFSETTO:+0800
TZNAME:HKT
DTSTART:20210101T000000
END:STANDARD
END:VTIMEZONE
BEGIN:VEVENT
DTSTART;VALUE=DATE:20220424
DTEND;VALUE=DATE:20220530
DTSTAMP:20260424T051221
CREATED:19180310T104830Z
LAST-MODIFIED:20220422T010330Z
UID:10003908-1650758400-1653868799@www.bcmagazine.net
SUMMARY:8th Hong Kong Games - Cancelled
DESCRIPTION:8th Hong Kong Games\nDate: 24 April – 29 May\, 2022\nVenue: Various\nTickets: tbc\nMore info: \nwww.hongkonggames.hk \n 
URL:https://www.bcmagazine.net/event/8th-hong-kong-games/
CATEGORIES:2022,Athletics,Badminton,Basketball,Cancelled,Fitness,Lifestyle,Sport,Swimming,Volleyball
END:VEVENT
BEGIN:VEVENT
DTSTART;VALUE=DATE:20220501
DTEND;VALUE=DATE:20220516
DTSTAMP:20260424T051221
CREATED:20210907T100800Z
LAST-MODIFIED:20220501T101425Z
UID:10006675-1651363200-1652659199@www.bcmagazine.net
SUMMARY:FairBreak Invitational 2022
DESCRIPTION:FairBreak Invitational 2022\nDate: 1-15 May\, 2022\nVenue: Dubai\nMore info:\nOriginally planned for Hong Kong\, relocated to Dubai due to Covid travel restrictions
URL:https://www.bcmagazine.net/event/fairbreak-invitational-2022/
CATEGORIES:2022,Cricket,Lifestyle,Sport
ATTACH;FMTTYPE=image/jpeg:https://www.bcmagazine.net/wp-content/uploads/2021/05/fairbreak-2022.jpg
END:VEVENT
BEGIN:VEVENT
DTSTART;VALUE=DATE:20220507
DTEND;VALUE=DATE:20220509
DTSTAMP:20260424T051221
CREATED:19211104T034537Z
LAST-MODIFIED:20220505T040709Z
UID:10005338-1651881600-1652054399@www.bcmagazine.net
SUMMARY:Hong Kong Athletics Series 2022 – Series 1
DESCRIPTION:Hong Kong Athletics Series 2022 – Series 1\nDate: 7-8 May\, 2022\nVenue: Tseung Kwan O Sports Ground\nTickets: Free\nMore info:\nHong Kong Association of Athletics Affiliates
URL:https://www.bcmagazine.net/event/hong-kong-athletics-series-2022-series-1/
LOCATION:Tseung Kwan O Sports Ground\, 109 Po Hong Road\, Hang Hau\, Hong Kong
CATEGORIES:2022,Athletics,Free,Sport
ATTACH;FMTTYPE=image/png:https://www.bcmagazine.net/wp-content/uploads/1921/11/Hong-Kong-Athletics-Series-2022-–-Series-1.png
END:VEVENT
BEGIN:VEVENT
DTSTART;VALUE=DATE:20220518
DTEND;VALUE=DATE:20220521
DTSTAMP:20260424T051221
CREATED:19210903T110850Z
LAST-MODIFIED:20220518T114750Z
UID:10005210-1652832000-1653091199@www.bcmagazine.net
SUMMARY:Ride of Silence 2022
DESCRIPTION:Ride of Silence 2022\nDate: 7pm\, 18 May\, 2022\nVenue: Hong Kong\nTickets: Free
URL:https://www.bcmagazine.net/event/ride-of-silence-2022/
CATEGORIES:2022,Cycling,Exhibition,Free,Lifestyle
ATTACH;FMTTYPE=image/jpeg:https://www.bcmagazine.net/wp-content/uploads/2022/05/hk-ride-of-silence-2022.jpg
END:VEVENT
BEGIN:VEVENT
DTSTART;VALUE=DATE:20220521
DTEND;VALUE=DATE:20220523
DTSTAMP:20260424T051221
CREATED:19211104T034537Z
LAST-MODIFIED:20220505T040954Z
UID:10005339-1653091200-1653263999@www.bcmagazine.net
SUMMARY:Hong Kong Athletics Series 2022 – Series 2
DESCRIPTION:Hong Kong Athletics Series 2022 – Series 2\nDate: 21-22 May\, 2022\nVenue: Tseung Kwan O Sports Ground\nTickets: Free\nMore info:\nHong Kong Association of Athletics Affiliates
URL:https://www.bcmagazine.net/event/hong-kong-athletics-series-2022-series-2/
LOCATION:Tseung Kwan O Sports Ground\, 109 Po Hong Road\, Hang Hau\, Hong Kong
CATEGORIES:2022,Athletics,Free,Sport
END:VEVENT
BEGIN:VEVENT
DTSTART;VALUE=DATE:20220528
DTEND;VALUE=DATE:20220530
DTSTAMP:20260424T051221
CREATED:19211104T034537Z
LAST-MODIFIED:20220505T041223Z
UID:10005340-1653696000-1653868799@www.bcmagazine.net
SUMMARY:Hong Kong Athletics Series 2022 – Series 3
DESCRIPTION:Hong Kong Athletics Series 2022 – Series 3\nDate: 28-29 May\, 2022\nVenue: Wan Chai Sports Ground\nTickets: Free\nMore info:\nHong Kong Association of Athletics Affiliates
URL:https://www.bcmagazine.net/event/hong-kong-athletics-series-2022-series-3/
LOCATION:Wanchai Sports Ground\, 20 Tonnochy Road\, Wanchai\, Hong Kong
CATEGORIES:2022,Athletics,Free,Sport
END:VEVENT
END:VCALENDAR