BEGIN:VCALENDAR
VERSION:2.0
PRODID:-//bc magazine - ECPv6.15.20//NONSGML v1.0//EN
CALSCALE:GREGORIAN
METHOD:PUBLISH
X-WR-CALNAME:bc magazine
X-ORIGINAL-URL:https://www.bcmagazine.net
X-WR-CALDESC:Events for bc magazine
REFRESH-INTERVAL;VALUE=DURATION:PT1H
X-Robots-Tag:noindex
X-PUBLISHED-TTL:PT1H
BEGIN:VTIMEZONE
TZID:Asia/Hong_Kong
BEGIN:STANDARD
TZOFFSETFROM:+0800
TZOFFSETTO:+0800
TZNAME:HKT
DTSTART:20220101T000000
END:STANDARD
END:VTIMEZONE
BEGIN:VEVENT
DTSTART;VALUE=DATE:20230323
DTEND;VALUE=DATE:20230327
DTSTAMP:20260422T031535
CREATED:20230202T041438Z
LAST-MODIFIED:20230327T212103Z
UID:10006794-1679529600-1679875199@www.bcmagazine.net
SUMMARY:World City Championship
DESCRIPTION:World City Championship\nWhen: 23-26 March\, 2023\nWhere: Hong Kong Golf Club\nTickets: tbc 
URL:https://www.bcmagazine.net/event/world-city-championship-2023/
LOCATION:Hong Kong Golf Club\, 19 Island Road\, Deep Water Bay\, Hong Kong
CATEGORIES:2023,Golf,Sport
ATTACH;FMTTYPE=image/jpeg:https://www.bcmagazine.net/wp-content/uploads/2015/02/world-city-championship-hong-kong-2023.jpeg
END:VEVENT
BEGIN:VEVENT
DTSTART;VALUE=DATE:20230329
DTEND;VALUE=DATE:20230331
DTSTAMP:20260422T031535
CREATED:20230217T062832Z
LAST-MODIFIED:20230221T002013Z
UID:10006733-1680048000-1680220799@www.bcmagazine.net
SUMMARY:Hong Kong Tens
DESCRIPTION:Hong Kong Tens\nWhen: 29-30 March\, 2023\nWhere: Hong Kong Football Club\nHow much: $120\nMore info: www.hkfc10s.com
URL:https://www.bcmagazine.net/event/hong-kong-tens-2023/
LOCATION:Hong Kong Football Club\, 3 Sports Road\, Causeway Bay\, Hong Kong
CATEGORIES:2023,Rugby,Sport
ATTACH;FMTTYPE=image/jpeg:https://www.bcmagazine.net/wp-content/uploads/2015/01/HK10s-2023.jpeg
GEO:22.275374;114.1822239
X-APPLE-STRUCTURED-LOCATION;VALUE=URI;X-ADDRESS=Hong Kong Football Club 3 Sports Road Causeway Bay Hong Kong;X-APPLE-RADIUS=500;X-TITLE=3 Sports Road:geo:114.1822239,22.275374
END:VEVENT
BEGIN:VEVENT
DTSTART;VALUE=DATE:20230329
DTEND;VALUE=DATE:20230403
DTSTAMP:20260422T031535
CREATED:19220918T111400Z
LAST-MODIFIED:20230221T010958Z
UID:10006735-1680048000-1680479999@www.bcmagazine.net
SUMMARY:Hong Kong Rugby Week
DESCRIPTION:Hong Kong Rugby Week\nDate: 29 March – 2 April\, 2023\nVenue: HK Stadium\, HK Football Club\nTickets: $1\,950\, $120\nMore info: www.HKsevens.com\, www.hkfc10s.com
URL:https://www.bcmagazine.net/event/hong-kong-rugby-week-2023/
LOCATION:HK Stadium\, 55 Eastern Hospital Road\, So Kon Po\, Hong Kong
CATEGORIES:2023,Rugby,Sport
ATTACH;FMTTYPE=image/jpeg:https://www.bcmagazine.net/wp-content/uploads/2023/02/HKRU-HK-sevens-2023.jpeg
GEO:22.2730073;114.1885121
X-APPLE-STRUCTURED-LOCATION;VALUE=URI;X-ADDRESS=HK Stadium 55 Eastern Hospital Road So Kon Po Hong Kong;X-APPLE-RADIUS=500;X-TITLE=55 Eastern Hospital Road:geo:114.1885121,22.2730073
END:VEVENT
BEGIN:VEVENT
DTSTART;VALUE=DATE:20230331
DTEND;VALUE=DATE:20230403
DTSTAMP:20260422T031535
CREATED:20220918T111400Z
LAST-MODIFIED:20230221T003424Z
UID:10006734-1680220800-1680479999@www.bcmagazine.net
SUMMARY:HK Sevens
DESCRIPTION:HK Sevens\nDate: 31 March – 2 April\, 2023\nVenue: HK Stadium\nTickets: $1\,950\nMore info: www.HKsevens.com \n 
URL:https://www.bcmagazine.net/event/hk-sevens-2023/
LOCATION:HK Stadium\, 55 Eastern Hospital Road\, So Kon Po\, Hong Kong
CATEGORIES:2023,Rugby,Sport
ATTACH;FMTTYPE=image/jpeg:https://www.bcmagazine.net/wp-content/uploads/2022/09/HK7s-2023.jpeg
GEO:22.2730073;114.1885121
X-APPLE-STRUCTURED-LOCATION;VALUE=URI;X-ADDRESS=HK Stadium 55 Eastern Hospital Road So Kon Po Hong Kong;X-APPLE-RADIUS=500;X-TITLE=55 Eastern Hospital Road:geo:114.1885121,22.2730073
END:VEVENT
END:VCALENDAR