BEGIN:VCALENDAR
VERSION:2.0
PRODID:-//bc magazine - ECPv6.15.20//NONSGML v1.0//EN
CALSCALE:GREGORIAN
METHOD:PUBLISH
X-WR-CALNAME:bc magazine
X-ORIGINAL-URL:https://www.bcmagazine.net
X-WR-CALDESC:Events for bc magazine
REFRESH-INTERVAL;VALUE=DURATION:PT1H
X-Robots-Tag:noindex
X-PUBLISHED-TTL:PT1H
BEGIN:VTIMEZONE
TZID:Asia/Hong_Kong
BEGIN:STANDARD
TZOFFSETFROM:+0800
TZOFFSETTO:+0800
TZNAME:HKT
DTSTART:20140101T000000
END:STANDARD
END:VTIMEZONE
BEGIN:VEVENT
DTSTART;TZID=Asia/Hong_Kong:20150124T163000
DTEND;TZID=Asia/Hong_Kong:20150124T163000
DTSTAMP:20260424T134445
CREATED:20150102T040303Z
LAST-MODIFIED:20150105T231154Z
UID:10005443-1422117000-1422117000@www.bcmagazine.net
SUMMARY:Natixis HKFC Ice v Police Sirens
DESCRIPTION:Women’s National League 1
URL:https://www.bcmagazine.net/event/natixis-hkfc-ice-v-police-sirens-3/
LOCATION:Hong Kong Football Club\, 3 Sports Road\, Causeway Bay\, Hong Kong
CATEGORIES:Rugby,Sport
GEO:22.275374;114.1822239
X-APPLE-STRUCTURED-LOCATION;VALUE=URI;X-ADDRESS=Hong Kong Football Club 3 Sports Road Causeway Bay Hong Kong;X-APPLE-RADIUS=500;X-TITLE=3 Sports Road:geo:114.1822239,22.275374
END:VEVENT
BEGIN:VEVENT
DTSTART;TZID=Asia/Hong_Kong:20150124T180000
DTEND;TZID=Asia/Hong_Kong:20150124T180000
DTSTAMP:20260424T134445
CREATED:20150102T040303Z
LAST-MODIFIED:20150105T231153Z
UID:10005444-1422122400-1422122400@www.bcmagazine.net
SUMMARY:Leighton Asia HKCC Ladies v SCAA CWB Phoenix 2ndXV
DESCRIPTION:Women’s National League 1
URL:https://www.bcmagazine.net/event/leighton-asia-hkcc-ladies-v-scaa-cwb-phoenix-2ndxv-3/
LOCATION:Aberdeen Sports Ground\, 108 Wong Chuk Hang Road\, Aberdeen\, Hong Kong
CATEGORIES:Rugby,Sport
END:VEVENT
BEGIN:VEVENT
DTSTART;TZID=Asia/Hong_Kong:20150124T180000
DTEND;TZID=Asia/Hong_Kong:20150124T180000
DTSTAMP:20260424T134445
CREATED:20150102T040303Z
LAST-MODIFIED:20150105T231153Z
UID:10005420-1422122400-1422122400@www.bcmagazine.net
SUMMARY:Bloomberg HK Scottish Kukris v Comvita City Sparkles
DESCRIPTION:Women’s National League 1
URL:https://www.bcmagazine.net/event/bloomberg-hk-scottish-kukris-v-comvita-city-sparkles/
LOCATION:Tai Hang Tung Recreation Ground\, 50 Boundary Street & Tai Hang Tung Road\, Kowloon\, Prince Edward (Exit A)\, Hong Kong
CATEGORIES:Rugby,Sport
GEO:22.396428;114.109497
X-APPLE-STRUCTURED-LOCATION;VALUE=URI;X-ADDRESS=Tai Hang Tung Recreation Ground 50 Boundary Street & Tai Hang Tung Road Kowloon Prince Edward (Exit A) Hong Kong;X-APPLE-RADIUS=500;X-TITLE=50 Boundary Street & Tai Hang Tung Road:geo:114.109497,22.396428
END:VEVENT
BEGIN:VEVENT
DTSTART;TZID=Asia/Hong_Kong:20150124T180000
DTEND;TZID=Asia/Hong_Kong:20150124T180000
DTSTAMP:20260424T134445
CREATED:20150102T040303Z
LAST-MODIFIED:20150105T231153Z
UID:10005445-1422122400-1422122400@www.bcmagazine.net
SUMMARY:Societe Generale Valley Red Ladies XV v Revolution SRC Ladies
DESCRIPTION:Women’s National League 1
URL:https://www.bcmagazine.net/event/societe-generale-valley-red-ladies-xv-v-revolution-src-ladies-2/
LOCATION:Happy Valley Recreation Ground\, 2 Sports Road\, Happy Valley\, Causeway Bay\, Hong Kong
CATEGORIES:Rugby,Sport
GEO:22.2859787;114.1914919
X-APPLE-STRUCTURED-LOCATION;VALUE=URI;X-ADDRESS=Happy Valley Recreation Ground 2 Sports Road Happy Valley Causeway Bay Hong Kong;X-APPLE-RADIUS=500;X-TITLE=2 Sports Road:geo:114.1914919,22.2859787
END:VEVENT
END:VCALENDAR