BEGIN:VCALENDAR
VERSION:2.0
PRODID:-//bc magazine - ECPv6.15.20//NONSGML v1.0//EN
CALSCALE:GREGORIAN
METHOD:PUBLISH
X-WR-CALNAME:bc magazine
X-ORIGINAL-URL:https://www.bcmagazine.net
X-WR-CALDESC:Events for bc magazine
REFRESH-INTERVAL;VALUE=DURATION:PT1H
X-Robots-Tag:noindex
X-PUBLISHED-TTL:PT1H
BEGIN:VTIMEZONE
TZID:Asia/Hong_Kong
BEGIN:STANDARD
TZOFFSETFROM:+0800
TZOFFSETTO:+0800
TZNAME:HKT
DTSTART:20140101T000000
END:STANDARD
END:VTIMEZONE
BEGIN:VEVENT
DTSTART;VALUE=DATE:20150307
DTEND;VALUE=DATE:20150309
DTSTAMP:20260425T191050
CREATED:20150302T223009Z
LAST-MODIFIED:20150303T051502Z
UID:10005630-1425686400-1425859199@www.bcmagazine.net
SUMMARY:Hong Kong International Judo Tournament - 7-8 March\, 2015
DESCRIPTION:Over 200 outstanding judokas from Japan\, Korea\, Mongolia\, Malaysia\, Vietnam\, Indonesia\, Chinese Taipei\, Macau and Hong Kong will compete at the Hong Kong International Judo Tournament 2015 \nHong Kong Team \n領隊 Team Leader 李松泰 Mr. LI Chung Tai 陳雄偉 Mr. CHAN Hung Wai \n教練 Coach 玄承勳 Mr. HYUN Seung Hoon 羅偉強 Mr. LAW Wai Keung 張焯傑 Mr. CHEUNG Cheuk Kit 周志文 Mr. CHOW Chi Man \n男子 Men -55kg 或以下級別 劉通 Mr. LAU Tung 莫耀銘 Mr. MOK Yiu Ming 陳海杰 Mr. CHAN Hoi Kit 劉樂添 Mr. LAU Martin \n男子 Men -60kg 或以下級別 余建霆 Mr. YU Kin Ting 劉家俊 Mr. LAU Ka Chun 李育霆 Mr. LEE Yuk Ting \n男子 Men -66kg 或以下級別 楊啟駿 Mr. YEUNG Kai Chun 徐振聲 Mr. CHUI Chun Sing 羅永健 Mr. LAW Wing Kin 莫梓朗 Mr. MOK Tsz Long \n男子 Men -73kg 或以下級別 張志業 Mr. CHEUNG Chi Yip 崔耀良 Mr. CHUI Yiu Leung 李承謙 Mr. LEE Shing Him \n女子 Women -48kg 或以下級別 莫芷晴 Ms. MOK Tsz Ching 王嘉莉 Ms. WONG Ka Lee 黃楚恩 Ms. WONG Chor Yan \n女子 Women -52kg 或以下級別 徐淑琪 Ms. TSUI Shuk Ki 黃楚穎 Ms. WONG Chor Wing 劉樂兒 Ms. LAU Annie \n女子 Women -57 或以下級別 梁寶心 Ms. LEUNG Po Sum 郭杰芳 Ms. KWOK Kit Fong 列樂怡 Ms. LIN Lok Yee \n女子 Women -70kg 或以下級別 余亦嵐 Ms. YU Yik Lam Nikki \n女子 Women -78kg 或以下級別 曾佩如 Ms. TSANG Pui Yu \n  \n  \n 
URL:https://www.bcmagazine.net/event/hong-kong-international-judo-tournament-7-8-march-2015/
LOCATION:Shek Kip Mei Park Sports Centre\, Hong Kong
CATEGORIES:Sport
END:VEVENT
END:VCALENDAR