BEGIN:VCALENDAR
VERSION:2.0
PRODID:-//bc magazine - ECPv6.15.20//NONSGML v1.0//EN
CALSCALE:GREGORIAN
METHOD:PUBLISH
X-WR-CALNAME:bc magazine
X-ORIGINAL-URL:https://www.bcmagazine.net
X-WR-CALDESC:Events for bc magazine
REFRESH-INTERVAL;VALUE=DURATION:PT1H
X-Robots-Tag:noindex
X-PUBLISHED-TTL:PT1H
BEGIN:VTIMEZONE
TZID:Asia/Hong_Kong
BEGIN:STANDARD
TZOFFSETFROM:+0800
TZOFFSETTO:+0800
TZNAME:HKT
DTSTART:20140101T000000
END:STANDARD
END:VTIMEZONE
BEGIN:VEVENT
DTSTART;VALUE=DATE:20150314
DTEND;VALUE=DATE:20150316
DTSTAMP:20260426T092835
CREATED:20150302T000506Z
LAST-MODIFIED:20150313T001011Z
UID:10005622-1426291200-1426463999@www.bcmagazine.net
SUMMARY:Hong Kong Indoor Rowing Championships & Charity Rowathon 2015
DESCRIPTION:Organized by the Hong Kong\, China Rowing Association the annual Indoor Rowing Championships and Charity Rowathon 2015 takes place at Kowloon Park Sports Centre from 14th to 15th March\, 2015 (Saturday and Sunday) \n\n\n\nCompetition Date:\n14th March\, 2015 (Sat)\n15th March\, 2015 (Sun)\n\n\nCompetition Time:\n12:40 – 16:30\n11:30 – 16:30\n\n\nMedal Presentation Ceremony:\n16:30 – 17:25\n12:45 – 13:30\n\n\n16:30 – 17:25\n\n\n \n \n\n\nEvent\nIndividual Event \nl Junior  Events \nl Para-rowing Events \nTeam Relay Event \nl Secondary Schools (Students) \nl Youth Societies / Organization \nl Para-rowing Mixed Events\nIndividual Event \nl  Open Events \nl  Lightweight Events \nTeam Relay Event \nl  Post-Secondary Institutions (Students) \nl  Government Departments \nl  Professional Bodies \nl  Disciplinary Forces \nl  Corporates \nl  Rowing\, Canoeing & Paddling Clubs \nl  Charity Rowathon \nl  Top of the Tops President Cup
URL:https://www.bcmagazine.net/event/hong-kong-indoor-rowing-championships-charity-rowathon-2015/
LOCATION:Kowloon Park Sports Centre\, 22 Austin Road\, Tsim Sha Tsui\, Hong Kong
CATEGORIES:Sport
GEO:22.3018117;114.1703658
X-APPLE-STRUCTURED-LOCATION;VALUE=URI;X-ADDRESS=Kowloon Park Sports Centre 22 Austin Road Tsim Sha Tsui Hong Kong;X-APPLE-RADIUS=500;X-TITLE=22 Austin Road:geo:114.1703658,22.3018117
END:VEVENT
END:VCALENDAR