BEGIN:VCALENDAR
VERSION:2.0
PRODID:-//bc magazine - ECPv6.15.20//NONSGML v1.0//EN
CALSCALE:GREGORIAN
METHOD:PUBLISH
X-WR-CALNAME:bc magazine
X-ORIGINAL-URL:https://www.bcmagazine.net
X-WR-CALDESC:Events for bc magazine
REFRESH-INTERVAL;VALUE=DURATION:PT1H
X-Robots-Tag:noindex
X-PUBLISHED-TTL:PT1H
BEGIN:VTIMEZONE
TZID:Asia/Hong_Kong
BEGIN:STANDARD
TZOFFSETFROM:+0800
TZOFFSETTO:+0800
TZNAME:HKT
DTSTART:20140101T000000
END:STANDARD
END:VTIMEZONE
BEGIN:VEVENT
DTSTART;TZID=Asia/Hong_Kong:20150504T080000
DTEND;TZID=Asia/Hong_Kong:20150504T170000
DTSTAMP:20260426T053802
CREATED:20150418T022615Z
LAST-MODIFIED:20150411T133804Z
UID:10005757-1430726400-1430758800@www.bcmagazine.net
SUMMARY:I-1 World MuayThai Grand Prix 2015 @ Star Hall - 7pm\, 4 May\, 2015
DESCRIPTION:The I-1 World Muaythai Grand Prix 2015 will be held in Star Hall on 4 May 2015. The 2 main events are the World Title Super-4 Championships of 67kg and 61kg category. \nThe 4 champions from 4 different countries competing for the 67 kg Super-4 are: \nMaycon Oller (Brazil)\, current Muaythai and K-1 Champion of Brazil;\nTony Sor. KeawSuek (Bulgaria)\, IFMA World Champion and 2-time IFMA European Champion;\nSam “The Shank” Hill (New Zealand)\, a.k.a. “The Shank”\, WMC New Zealand Champion and WKBF Champion; and\nMarcin Lepkowski (Poland)\, 4-time Poland Champion\, 2-time I-1 World GP Finalist. \nThe 4 champions competing for the 61 kg Super-4 are:\nYodkumarn MTP 2004 (Thailand)\, a.k.a. “Flying Dragon”\, 3-time Champion of Northern Thailand and 4-time Winner of I-1 International Championships;\nAmir Naseri (Iran)\, Winner of Best Foreign Boxer of Malaysia Award;\nGeorge Ketserov (Cyprus)\, 3-time Cyprus Champion\, and EMC European Champion; and\nNaoufal El Hamchaoui (Netherlands)\, Current Dutch Champion\, and 2-time European Champion. \nOther Fights:\nPavlos Kaponis (Greece)\, a.k.a. “Diamond”\, 4-time Greek Champion and WMC Southern European Champion;\nvs\nYuttajak Kaewsamrit (Thailand)\, former WPMF World Champion\nfor the I-1 Super Fight Belt \nAlexis Barateau (France)\, Current Champion of France\nvs\nArnon Setthanawa (Thailand)\, a.k.a. “Jack the Ripper”\, Thailand National Champion.\nfor the I-1 Super Fight Belt \nChak Kam-Ho (Hong Kong China)\, Former Hong Kong Champion\nvs\nConrado Furlan (Brazil)\, a.k.a. “Pikachu”\, Brazil National Champion and Koh Samui Stadium Champion\nfor the I-1 Super Fight Belt \nTsang Ching-Yee (Hong Kong China)\, Winner of I-1 Best Fighter Award\nvs\nFerial Ameeroedien (South Africa)\, Current Female Champion of South Africa \nWu Hoi-Yan (Hong Kong China)\, Currently ranked No.1 Female Fighter in Hong Kong\nvs\nChuang Kai-Ting (Chinese Taipei)\, a.k.a. “Kill Bee”\, Current Female Champion of Chinese Taipei \nChan Tsz-Tik (Hong Kong China)\nvs\nRoberto Medulla (Philippines)\nin I-1 WKBC Rising Stars Match \nChan Tsz-Yeung (Hong Kong China)\nvs\nRavindra Rajapaksha Devage (Sri Lanka)\nin I-1 Opening Fight \nI-1 World Muay Thai Grand Prix 2015\nWhen: 7pm\, 4 May\, 2015\nWhere: Star Hall\nTickets:  $1000\, $600\, $400\, $300\, $200 from HK Ticketing\nMore info:  www.i-1official.com
URL:https://www.bcmagazine.net/event/i-1-world-muaythai-grand-prix-2015-star-hall-7pm-4-may-2015/
LOCATION:KITEC\, Star Hall\, KITEC\, 1 Trademart Drive\, Kowloon Bay\, Hong Kong
CATEGORIES:Muay Thai,Sport
GEO:22.3239575;114.2037608
X-APPLE-STRUCTURED-LOCATION;VALUE=URI;X-ADDRESS=KITEC Star Hall KITEC 1 Trademart Drive Kowloon Bay Hong Kong;X-APPLE-RADIUS=500;X-TITLE=KITEC\, 1 Trademart Drive:geo:114.2037608,22.3239575
END:VEVENT
END:VCALENDAR