BEGIN:VCALENDAR
VERSION:2.0
PRODID:-//bc magazine - ECPv6.15.20//NONSGML v1.0//EN
CALSCALE:GREGORIAN
METHOD:PUBLISH
X-WR-CALNAME:bc magazine
X-ORIGINAL-URL:https://www.bcmagazine.net
X-WR-CALDESC:Events for bc magazine
REFRESH-INTERVAL;VALUE=DURATION:PT1H
X-Robots-Tag:noindex
X-PUBLISHED-TTL:PT1H
BEGIN:VTIMEZONE
TZID:Asia/Hong_Kong
BEGIN:STANDARD
TZOFFSETFROM:+0800
TZOFFSETTO:+0800
TZNAME:HKT
DTSTART:20140101T000000
END:STANDARD
END:VTIMEZONE
BEGIN:VEVENT
DTSTART;VALUE=DATE:20150522
DTEND;VALUE=DATE:20150524
DTSTAMP:20260425T100139
CREATED:20150204T065403Z
LAST-MODIFIED:20150504T065515Z
UID:10005575-1432252800-1432425599@www.bcmagazine.net
SUMMARY:2015 Inter-school Indoor Rowing Championships (for HK Islands & KLN)
DESCRIPTION:2015 Inter-school Indoor Rowing Championships\n(for HK Islands & KLN)
URL:https://www.bcmagazine.net/event/2015-inter-school-indoor-rowing-championships-for-hk-islands-kln/
LOCATION:Hong Kong
CATEGORIES:2015,Rowing,Sport
END:VEVENT
BEGIN:VEVENT
DTSTART;VALUE=DATE:20150522
DTEND;VALUE=DATE:20150524
DTSTAMP:20260425T100139
CREATED:20150219T045551Z
LAST-MODIFIED:20150519T050117Z
UID:10005599-1432252800-1432425599@www.bcmagazine.net
SUMMARY:Inter‐School Indoor Rowing Competition 2014 ‐ 2015 (HK & KLN)
DESCRIPTION:Inter‐School Indoor Rowing Competition 2014 ‐ 2015 (HK & KLN)\nDate: 22-23 May\, 2015\nVenue: Harbour Road Sports Centre\nTickets: Free\nMore info:\n9 – 18:15 (22/5/2015)\n9 – 14:30 (23/5/2015)
URL:https://www.bcmagazine.net/event/inter%e2%80%90school-indoor-rowing-competition-2014-%e2%80%90-2015-hk-kln/
LOCATION:Harbour Road Sports Centre\, Wanchai\, Hong Kong
CATEGORIES:2015,Rowing,Sport
END:VEVENT
BEGIN:VEVENT
DTSTART;TZID=Asia/Hong_Kong:20150523T130000
DTEND;TZID=Asia/Hong_Kong:20150523T180000
DTSTAMP:20260425T100139
CREATED:20150403T074826Z
LAST-MODIFIED:20150403T074826Z
UID:10005706-1432386000-1432404000@www.bcmagazine.net
SUMMARY:Hong Kong Women v Japan Women @ Aberdeen Sports Ground - 1pm\, 23 May\, 2015
DESCRIPTION:Hong Kong Women v Japan Women\nWhen: 1pm\, 23 May\, 2015\nWhere: Aberdeen Sports Ground\nTickets: Free
URL:https://www.bcmagazine.net/event/hong-kong-women-v-japan-women-aberdeen-sports-ground-1pm-23-may-2015/
LOCATION:Aberdeen Sports Ground\, 108 Wong Chuk Hang Road\, Aberdeen\, Hong Kong
CATEGORIES:Rugby,Sport
END:VEVENT
END:VCALENDAR