BEGIN:VCALENDAR
VERSION:2.0
PRODID:-//bc magazine - ECPv6.15.20//NONSGML v1.0//EN
CALSCALE:GREGORIAN
METHOD:PUBLISH
X-WR-CALNAME:bc magazine
X-ORIGINAL-URL:https://www.bcmagazine.net
X-WR-CALDESC:Events for bc magazine
REFRESH-INTERVAL;VALUE=DURATION:PT1H
X-Robots-Tag:noindex
X-PUBLISHED-TTL:PT1H
BEGIN:VTIMEZONE
TZID:Asia/Hong_Kong
BEGIN:STANDARD
TZOFFSETFROM:+0800
TZOFFSETTO:+0800
TZNAME:HKT
DTSTART:20140101T000000
END:STANDARD
END:VTIMEZONE
BEGIN:VEVENT
DTSTART;TZID=Asia/Hong_Kong:20150731T184500
DTEND;TZID=Asia/Hong_Kong:20150731T230000
DTSTAMP:20260426T120919
CREATED:20150422T060005Z
LAST-MODIFIED:20150711T041630Z
UID:10005765-1438368300-1438383600@www.bcmagazine.net
SUMMARY:IMPI Fighting Championship World Series - 31 July\, 2015
DESCRIPTION:IMPI Fighting Championship World Series\nDate: 6:45pm\, 31 July\, 2015\nVenue: Queen Elizabeth Stadium\, Arena\nTickets: $480\, $380\, $200 from URBTIX
URL:https://www.bcmagazine.net/event/impi-fighting-championship-world-series-31-july-2015/
LOCATION:Queen Elizabeth Stadium\, 18 Oi Kwan Road\, Wanchai\, Hong Kong
CATEGORIES:2015,Muay Thai,Sport
GEO:22.2751271;114.1789682
X-APPLE-STRUCTURED-LOCATION;VALUE=URI;X-ADDRESS=Queen Elizabeth Stadium 18 Oi Kwan Road Wanchai Hong Kong;X-APPLE-RADIUS=500;X-TITLE=18 Oi Kwan Road:geo:114.1789682,22.2751271
END:VEVENT
END:VCALENDAR