BEGIN:VCALENDAR
VERSION:2.0
PRODID:-//bc magazine - ECPv6.15.20//NONSGML v1.0//EN
CALSCALE:GREGORIAN
METHOD:PUBLISH
X-WR-CALNAME:bc magazine
X-ORIGINAL-URL:https://www.bcmagazine.net
X-WR-CALDESC:Events for bc magazine
REFRESH-INTERVAL;VALUE=DURATION:PT1H
X-Robots-Tag:noindex
X-PUBLISHED-TTL:PT1H
BEGIN:VTIMEZONE
TZID:Asia/Hong_Kong
BEGIN:STANDARD
TZOFFSETFROM:+0800
TZOFFSETTO:+0800
TZNAME:HKT
DTSTART:20140101T000000
END:STANDARD
END:VTIMEZONE
BEGIN:VEVENT
DTSTART;VALUE=DATE:20151030
DTEND;VALUE=DATE:20151103
DTSTAMP:20260426T112656
CREATED:19151013T085217Z
LAST-MODIFIED:20151013T091041Z
UID:10000105-1446163200-1446508799@www.bcmagazine.net
SUMMARY:East Asia T20 Series
DESCRIPTION:East Asia T20 Series\nDate: 30 October and 2 November 2015\nVenue: Kowloon Cricket Club and Tin Kwong Road Recreation Ground\nTickets: Free\nMore info:\n30 Oct 2015 (Fri) – HKCA Dragons vs Hong Kong ‘A’\n@ Tin Kwong Road Recreation Ground\, 3pm start \n31 Oct 2015 (Sat) – Japan vs China\n@ Kowloon Cricket Club\, 2pm start \n1 Nov 2015 (Sun) – HKCA Dragons vs Japan\n@ Kowloon Cricket Club\, 10am start \n1 Nov 2015 (Sun) – HKCA Dragons vs China\n@ Kowloon Cricket Club\, 2pm start \n2 Nov 2015 (Mon) – Hong Kong ‘A’ vs Japan\n@ Tin Kwong Road Recreation Ground\, 10am start \n2 Nov 2015 (Mon) – Hong Kong ‘A’ vs China\n@ Tin Kwong Road Recreation Ground\, 2pm start \n \n 
URL:https://www.bcmagazine.net/event/east-asia-t20-series/
CATEGORIES:2015,Cricket,Sport
END:VEVENT
BEGIN:VEVENT
DTSTART;TZID=Asia/Hong_Kong:20151102T190000
DTEND;TZID=Asia/Hong_Kong:20151102T230000
DTSTAMP:20260426T112656
CREATED:20150424T053512Z
LAST-MODIFIED:20150824T053746Z
UID:10005775-1446490800-1446505200@www.bcmagazine.net
SUMMARY:I-1 World MuayThai Grand Extreme 2015
DESCRIPTION:I-1 World MuayThai Grand Extreme 2015\nDate: 7pm\, 2 November\, 2015\nVenue: KITEC\, Star Hall\nTickets: $1\,000\, $600\, $400\, $300\, $200 from HKTicketing
URL:https://www.bcmagazine.net/event/i-1-world-muaythai-grand-extreme-2015/
LOCATION:KITEC\, Star Hall\, KITEC\, 1 Trademart Drive\, Kowloon Bay\, Hong Kong
CATEGORIES:2015,Muay Thai,Sport
GEO:22.3239575;114.2037608
X-APPLE-STRUCTURED-LOCATION;VALUE=URI;X-ADDRESS=KITEC Star Hall KITEC 1 Trademart Drive Kowloon Bay Hong Kong;X-APPLE-RADIUS=500;X-TITLE=KITEC\, 1 Trademart Drive:geo:114.2037608,22.3239575
END:VEVENT
END:VCALENDAR