BEGIN:VCALENDAR
VERSION:2.0
PRODID:-//bc magazine - ECPv6.15.20//NONSGML v1.0//EN
CALSCALE:GREGORIAN
METHOD:PUBLISH
X-WR-CALNAME:bc magazine
X-ORIGINAL-URL:https://www.bcmagazine.net
X-WR-CALDESC:Events for bc magazine
REFRESH-INTERVAL;VALUE=DURATION:PT1H
X-Robots-Tag:noindex
X-PUBLISHED-TTL:PT1H
BEGIN:VTIMEZONE
TZID:Asia/Hong_Kong
BEGIN:STANDARD
TZOFFSETFROM:+0800
TZOFFSETTO:+0800
TZNAME:HKT
DTSTART:20140101T000000
END:STANDARD
END:VTIMEZONE
BEGIN:VEVENT
DTSTART;VALUE=DATE:20151206
DTEND;VALUE=DATE:20151207
DTSTAMP:20260425T055716
CREATED:19150908T034116Z
LAST-MODIFIED:20150908T034446Z
UID:10000342-1449360000-1449446399@www.bcmagazine.net
SUMMARY:Lantau 50
DESCRIPTION:Lantau 50\nHK50 Series\nDate: 6 December\, 2015\nVenue: Lantau\nTickets: $598\, $490\, $440\, $400
URL:https://www.bcmagazine.net/event/lantau-50/
LOCATION:Lantau\, Lantau\, Hong Kong
CATEGORIES:2015,Sport
END:VEVENT
BEGIN:VEVENT
DTSTART;VALUE=DATE:20151206
DTEND;VALUE=DATE:20151207
DTSTAMP:20260425T055716
CREATED:20150722T003443Z
LAST-MODIFIED:20150722T003443Z
UID:10005047-1449360000-1449446399@www.bcmagazine.net
SUMMARY:Vertical Run 2015
DESCRIPTION:Vertical Run 2015\nDate: 6 December\, 2015\nVenue: ICC\, 1 Austin Road\, West Kowloon\nTickets: tbc\nMore info: 2\,120 steps\nrace registration www.shkpverticalrun.com
URL:https://www.bcmagazine.net/event/vertical-run-2015/
LOCATION:Hong Kong
CATEGORIES:2015,Sport
END:VEVENT
END:VCALENDAR