BEGIN:VCALENDAR
VERSION:2.0
PRODID:-//bc magazine - ECPv6.15.20//NONSGML v1.0//EN
CALSCALE:GREGORIAN
METHOD:PUBLISH
X-WR-CALNAME:bc magazine
X-ORIGINAL-URL:https://www.bcmagazine.net
X-WR-CALDESC:Events for bc magazine
REFRESH-INTERVAL;VALUE=DURATION:PT1H
X-Robots-Tag:noindex
X-PUBLISHED-TTL:PT1H
BEGIN:VTIMEZONE
TZID:Asia/Hong_Kong
BEGIN:STANDARD
TZOFFSETFROM:+0800
TZOFFSETTO:+0800
TZNAME:HKT
DTSTART:20150101T000000
END:STANDARD
END:VTIMEZONE
BEGIN:VEVENT
DTSTART;VALUE=DATE:20160406
DTEND;VALUE=DATE:20160407
DTSTAMP:20260425T025103
CREATED:19160212T084614Z
LAST-MODIFIED:20160212T084921Z
UID:10000315-1459900800-1459987199@www.bcmagazine.net
SUMMARY:Hong Kong Tens
DESCRIPTION:Hong Kong Tens\nWhen: 6-7 April\, 2016\nWhere: Hong Kong Football Club\nHow much: tbc
URL:https://www.bcmagazine.net/event/hong-kong-tens/2016-04-06/
LOCATION:Hong Kong Football Club\, 3 Sports Road\, Causeway Bay\, Hong Kong
CATEGORIES:2016,Free,Rugby,Sport
GEO:22.275374;114.1822239
X-APPLE-STRUCTURED-LOCATION;VALUE=URI;X-ADDRESS=Hong Kong Football Club 3 Sports Road Causeway Bay Hong Kong;X-APPLE-RADIUS=500;X-TITLE=3 Sports Road:geo:114.1822239,22.275374
END:VEVENT
BEGIN:VEVENT
DTSTART;TZID=Asia/Hong_Kong:20160406T090000
DTEND;TZID=Asia/Hong_Kong:20160406T190000
DTSTAMP:20260425T025103
CREATED:19160212T084136Z
LAST-MODIFIED:20180507T060551Z
UID:10000316-1459933200-1459969200@www.bcmagazine.net
SUMMARY:KowloonFest
DESCRIPTION:Kowloon Fest\nWhen: 9am\, 6 April\, 2016\nWhere: Kings Park\nHow much: Free
URL:https://www.bcmagazine.net/event/kowloonfest-2016/
LOCATION:King’s Park Sports Ground\, 11 Wylie Path\, Ho Man Tin\, Jordan\, Hong Kong
CATEGORIES:2016,Free,Rugby,Sport
END:VEVENT
BEGIN:VEVENT
DTSTART;TZID=Asia/Hong_Kong:20160406T180000
DTEND;TZID=Asia/Hong_Kong:20160406T180000
DTSTAMP:20260425T025103
CREATED:20160229T034516Z
LAST-MODIFIED:20160301T001223Z
UID:10006091-1459965600-1459965600@www.bcmagazine.net
SUMMARY:HK Sevens Kick-Off Concert
DESCRIPTION:HK Sevens Kick-Off Concert\nThe Proclaimers\, Bjorn Again\, David Hasselhoff\nDate: 6pm\, 6 April\, 2016\nVenue: Sevens Village\nTickets: $199 from Ticketflap
URL:https://www.bcmagazine.net/event/hk-sevens-kick-off-concert-2016/
LOCATION:Sevens Village\, 63 Caroline Hill Road\, Causeway Bay\, Hong Kong
CATEGORIES:2016,Concert,Music,Rugby,Sport
GEO:22.2753192;114.1887315
X-APPLE-STRUCTURED-LOCATION;VALUE=URI;X-ADDRESS=Sevens Village 63 Caroline Hill Road Causeway Bay Hong Kong;X-APPLE-RADIUS=500;X-TITLE=63 Caroline Hill Road:geo:114.1887315,22.2753192
END:VEVENT
END:VCALENDAR