BEGIN:VCALENDAR
VERSION:2.0
PRODID:-//bc magazine - ECPv6.15.20//NONSGML v1.0//EN
CALSCALE:GREGORIAN
METHOD:PUBLISH
X-WR-CALNAME:bc magazine
X-ORIGINAL-URL:https://www.bcmagazine.net
X-WR-CALDESC:Events for bc magazine
REFRESH-INTERVAL;VALUE=DURATION:PT1H
X-Robots-Tag:noindex
X-PUBLISHED-TTL:PT1H
BEGIN:VTIMEZONE
TZID:Asia/Hong_Kong
BEGIN:STANDARD
TZOFFSETFROM:+0800
TZOFFSETTO:+0800
TZNAME:HKT
DTSTART:20150101T000000
END:STANDARD
END:VTIMEZONE
BEGIN:VEVENT
DTSTART;TZID=Asia/Hong_Kong:20160906T200000
DTEND;TZID=Asia/Hong_Kong:20160906T200000
DTSTAMP:20260425T090911
CREATED:19160812T161758Z
LAST-MODIFIED:20160812T162037Z
UID:10000665-1473192000-1473192000@www.bcmagazine.net
SUMMARY:Hong Kong v Turkmenistan
DESCRIPTION:Hong Kong v Turkmenistan\nDate: 8pm\, 6 September\, 2016\nVenue: Mongkok Stadium\nTickets: $150
URL:https://www.bcmagazine.net/event/hong-kong-v-turkmenistan-2016/
LOCATION:Mongkok Stadium\, 37 Flower Street\, Yau Ma Tai\, Prince Edward (Exit A)\, United States
CATEGORIES:2016,Football,Sport
END:VEVENT
END:VCALENDAR