BEGIN:VCALENDAR
VERSION:2.0
PRODID:-//bc magazine - ECPv6.15.20//NONSGML v1.0//EN
CALSCALE:GREGORIAN
METHOD:PUBLISH
X-WR-CALNAME:bc magazine
X-ORIGINAL-URL:https://www.bcmagazine.net
X-WR-CALDESC:Events for bc magazine
REFRESH-INTERVAL;VALUE=DURATION:PT1H
X-Robots-Tag:noindex
X-PUBLISHED-TTL:PT1H
BEGIN:VTIMEZONE
TZID:Asia/Hong_Kong
BEGIN:STANDARD
TZOFFSETFROM:+0800
TZOFFSETTO:+0800
TZNAME:HKT
DTSTART:20150101T000000
END:STANDARD
END:VTIMEZONE
BEGIN:VEVENT
DTSTART;TZID=Asia/Hong_Kong:20160918T090000
DTEND;TZID=Asia/Hong_Kong:20160918T090000
DTSTAMP:20260426T050343
CREATED:20160919T105025Z
LAST-MODIFIED:20160919T105025Z
UID:10006311-1474189200-1474189200@www.bcmagazine.net
SUMMARY:CCC Fung Wong v DLSWCC Wasps
DESCRIPTION:Women’s T20 A: CCC Fung Wong v DLSWCC Wasps
URL:https://www.bcmagazine.net/event/ccc-fung-wong-v-dlswcc-wasps-2/
LOCATION:Po Kong Village Road Reservoir Ground\, Po Kong Village Road\, Tsz Wan Shan\, Hong Kong
CATEGORIES:2016,Cricket,Free,Sport
GEO:22.346522;114.204203
X-APPLE-STRUCTURED-LOCATION;VALUE=URI;X-ADDRESS=Po Kong Village Road Reservoir Ground Po Kong Village Road Tsz Wan Shan Hong Kong;X-APPLE-RADIUS=500;X-TITLE=Po Kong Village Road:geo:114.204203,22.346522
END:VEVENT
BEGIN:VEVENT
DTSTART;TZID=Asia/Hong_Kong:20160918T093000
DTEND;TZID=Asia/Hong_Kong:20160918T093000
DTSTAMP:20260426T050343
CREATED:20160919T105025Z
LAST-MODIFIED:20160919T105025Z
UID:10006310-1474191000-1474191000@www.bcmagazine.net
SUMMARY:DLSWCC v PACC
DESCRIPTION:Premier League 1-Day A: DLSWCC v PACC
URL:https://www.bcmagazine.net/event/dlswcc-v-pacc-3/
LOCATION:Tin Kwong Road Recreation Ground\, Tin Kwong Road\, Mong Kok\, Hong Kong
CATEGORIES:2016,Cricket,Free,Sport
GEO:22.3219997;114.1847986
X-APPLE-STRUCTURED-LOCATION;VALUE=URI;X-ADDRESS=Tin Kwong Road Recreation Ground Tin Kwong Road Mong Kok Hong Kong;X-APPLE-RADIUS=500;X-TITLE=Tin Kwong Road:geo:114.1847986,22.3219997
END:VEVENT
BEGIN:VEVENT
DTSTART;TZID=Asia/Hong_Kong:20160918T100000
DTEND;TZID=Asia/Hong_Kong:20160918T100000
DTSTAMP:20260426T050343
CREATED:20160919T105024Z
LAST-MODIFIED:20160919T105024Z
UID:10006307-1474192800-1474192800@www.bcmagazine.net
SUMMARY:KCC v HKCC
DESCRIPTION:Premier League 1-Day A: KCC v HKCC
URL:https://www.bcmagazine.net/event/kcc-v-hkcc/
LOCATION:Hong Kong Cricket Club\, 137 Wong Ngai Chung Gap Road\, Hong Kong
CATEGORIES:2016,Cricket,Free,Sport
GEO:22.258574;114.1934009
X-APPLE-STRUCTURED-LOCATION;VALUE=URI;X-ADDRESS=Hong Kong Cricket Club 137 Wong Ngai Chung Gap Road Hong Kong;X-APPLE-RADIUS=500;X-TITLE=137 Wong Ngai Chung Gap Road:geo:114.1934009,22.258574
END:VEVENT
BEGIN:VEVENT
DTSTART;TZID=Asia/Hong_Kong:20160918T123000
DTEND;TZID=Asia/Hong_Kong:20160918T123000
DTSTAMP:20260426T050343
CREATED:20160919T105024Z
LAST-MODIFIED:20160919T105024Z
UID:10006309-1474201800-1474201800@www.bcmagazine.net
SUMMARY:PACC v HKCC Cavaliers
DESCRIPTION:Women’s T20 A: PACC v HKCC Cavaliers
URL:https://www.bcmagazine.net/event/pacc-v-hkcc-cavaliers-2/
LOCATION:Po Kong Village Road Reservoir Ground\, Po Kong Village Road\, Tsz Wan Shan\, Hong Kong
CATEGORIES:2016,Cricket,Free,Sport
GEO:22.346522;114.204203
X-APPLE-STRUCTURED-LOCATION;VALUE=URI;X-ADDRESS=Po Kong Village Road Reservoir Ground Po Kong Village Road Tsz Wan Shan Hong Kong;X-APPLE-RADIUS=500;X-TITLE=Po Kong Village Road:geo:114.204203,22.346522
END:VEVENT
BEGIN:VEVENT
DTSTART;TZID=Asia/Hong_Kong:20160918T133000
DTEND;TZID=Asia/Hong_Kong:20160918T133000
DTSTAMP:20260426T050343
CREATED:20160919T105024Z
LAST-MODIFIED:20160919T105024Z
UID:10006308-1474205400-1474205400@www.bcmagazine.net
SUMMARY:USRC v KCC Maidens
DESCRIPTION:Women’s T20 A: USRC v KCC Maidens
URL:https://www.bcmagazine.net/event/usrc-v-kcc-maidens/
LOCATION:Kowloon Cricket Club\, 10 Cox's Road\, Jordan\, Hong Kong
CATEGORIES:2016,Cricket,Free,Sport
GEO:22.3048927;114.1737401
X-APPLE-STRUCTURED-LOCATION;VALUE=URI;X-ADDRESS=Kowloon Cricket Club 10 Cox's Road Jordan Hong Kong;X-APPLE-RADIUS=500;X-TITLE=10 Cox's Road:geo:114.1737401,22.3048927
END:VEVENT
END:VCALENDAR