BEGIN:VCALENDAR
VERSION:2.0
PRODID:-//bc magazine - ECPv6.15.20//NONSGML v1.0//EN
CALSCALE:GREGORIAN
METHOD:PUBLISH
X-WR-CALNAME:bc magazine
X-ORIGINAL-URL:https://www.bcmagazine.net
X-WR-CALDESC:Events for bc magazine
REFRESH-INTERVAL;VALUE=DURATION:PT1H
X-Robots-Tag:noindex
X-PUBLISHED-TTL:PT1H
BEGIN:VTIMEZONE
TZID:Asia/Hong_Kong
BEGIN:STANDARD
TZOFFSETFROM:+0800
TZOFFSETTO:+0800
TZNAME:HKT
DTSTART:20150101T000000
END:STANDARD
END:VTIMEZONE
BEGIN:VEVENT
DTSTART;VALUE=DATE:20161011
DTEND;VALUE=DATE:20161017
DTSTAMP:20260425T001310
CREATED:19160716T141648Z
LAST-MODIFIED:20160716T142241Z
UID:10001900-1476144000-1476662399@www.bcmagazine.net
SUMMARY:HK Tennis Open 2016
DESCRIPTION:HK Tennis Open 2016\nDate: 11-16 October\, 2016\nVenue: Victoria Park\nTickets: $880-$160 from Cityline
URL:https://www.bcmagazine.net/event/hk-tennis-open-2016/
LOCATION:Victoria Park\, Causeway Bay\, Hong Kong
CATEGORIES:2016,Sport
END:VEVENT
BEGIN:VEVENT
DTSTART;TZID=Asia/Hong_Kong:20161015T123000
DTEND;TZID=Asia/Hong_Kong:20161015T123000
DTSTAMP:20260425T001310
CREATED:20160919T105013Z
LAST-MODIFIED:20160919T105013Z
UID:10006282-1476534600-1476534600@www.bcmagazine.net
SUMMARY:DLSWCC Spartans v Kai Tak
DESCRIPTION:Championship League B: DLSWCC Spartans v Kai Tak
URL:https://www.bcmagazine.net/event/dlswcc-spartans-v-kai-tak/
LOCATION:Po Kong Village Road Park\, 140 Po Kong Village Road\, Diamond Hill\, Hong Kong
CATEGORIES:2016,Cricket,Free,Sport
GEO:22.3435827;114.2044989
X-APPLE-STRUCTURED-LOCATION;VALUE=URI;X-ADDRESS=Po Kong Village Road Park 140 Po Kong Village Road Diamond Hill Hong Kong;X-APPLE-RADIUS=500;X-TITLE=140 Po Kong Village Road:geo:114.2044989,22.3435827
END:VEVENT
BEGIN:VEVENT
DTSTART;TZID=Asia/Hong_Kong:20161015T130000
DTEND;TZID=Asia/Hong_Kong:20161015T130000
DTSTAMP:20260425T001310
CREATED:20160919T105012Z
LAST-MODIFIED:20160919T105012Z
UID:10006275-1476536400-1476536400@www.bcmagazine.net
SUMMARY:Lamma v Pioneers CC
DESCRIPTION:Championship League B: Lamma v Pioneers CC
URL:https://www.bcmagazine.net/event/lamma-v-pioneers-cc/
LOCATION:Guangzhou Cricket Stadium\, Guangzhou\, China
CATEGORIES:2016,Cricket,Free,Sport
GEO:23.12911;113.264385
END:VEVENT
BEGIN:VEVENT
DTSTART;TZID=Asia/Hong_Kong:20161015T130000
DTEND;TZID=Asia/Hong_Kong:20161015T130000
DTSTAMP:20260425T001310
CREATED:20160919T105013Z
LAST-MODIFIED:20160919T105013Z
UID:10006283-1476536400-1476536400@www.bcmagazine.net
SUMMARY:DLSWCC Wasps v CCC Fung Wong
DESCRIPTION:Women’s League A: DLSWCC Wasps v CCC Fung Wong
URL:https://www.bcmagazine.net/event/dlswcc-wasps-v-ccc-fung-wong-2/
LOCATION:Po Kong Village Road Reservoir Ground\, Po Kong Village Road\, Tsz Wan Shan\, Hong Kong
CATEGORIES:2016,Cricket,Free,Sport
GEO:22.346522;114.204203
X-APPLE-STRUCTURED-LOCATION;VALUE=URI;X-ADDRESS=Po Kong Village Road Reservoir Ground Po Kong Village Road Tsz Wan Shan Hong Kong;X-APPLE-RADIUS=500;X-TITLE=Po Kong Village Road:geo:114.204203,22.346522
END:VEVENT
BEGIN:VEVENT
DTSTART;TZID=Asia/Hong_Kong:20161015T130000
DTEND;TZID=Asia/Hong_Kong:20161015T130000
DTSTAMP:20260425T001310
CREATED:20160919T105013Z
LAST-MODIFIED:20160919T105013Z
UID:10006280-1476536400-1476536400@www.bcmagazine.net
SUMMARY:Pakistan Association v HKCC Witherers
DESCRIPTION:Championship League A: Pakistan Association v HKCC Witherers
URL:https://www.bcmagazine.net/event/pakistan-association-v-hkcc-witherers/
LOCATION:Hong Kong Cricket Club\, 137 Wong Ngai Chung Gap Road\, Hong Kong
CATEGORIES:2016,Cricket,Free,Sport
GEO:22.258574;114.1934009
X-APPLE-STRUCTURED-LOCATION;VALUE=URI;X-ADDRESS=Hong Kong Cricket Club 137 Wong Ngai Chung Gap Road Hong Kong;X-APPLE-RADIUS=500;X-TITLE=137 Wong Ngai Chung Gap Road:geo:114.1934009,22.258574
END:VEVENT
BEGIN:VEVENT
DTSTART;TZID=Asia/Hong_Kong:20161015T130000
DTEND;TZID=Asia/Hong_Kong:20161015T130000
DTSTAMP:20260425T001310
CREATED:20160919T105013Z
LAST-MODIFIED:20160919T105013Z
UID:10006281-1476536400-1476536400@www.bcmagazine.net
SUMMARY:KCC Crusaders v HKCC Gap Ramblers
DESCRIPTION:Championship League A: KCC Crusaders v HKCC Gap Ramblers
URL:https://www.bcmagazine.net/event/kcc-crusaders-v-hkcc-gap-ramblers/
LOCATION:Kowloon Cricket Club\, 10 Cox's Road\, Jordan\, Hong Kong
CATEGORIES:2016,Cricket,Free,Sport
GEO:22.3048927;114.1737401
X-APPLE-STRUCTURED-LOCATION;VALUE=URI;X-ADDRESS=Kowloon Cricket Club 10 Cox's Road Jordan Hong Kong;X-APPLE-RADIUS=500;X-TITLE=10 Cox's Road:geo:114.1737401,22.3048927
END:VEVENT
END:VCALENDAR