BEGIN:VCALENDAR
VERSION:2.0
PRODID:-//bc magazine - ECPv6.15.20//NONSGML v1.0//EN
CALSCALE:GREGORIAN
METHOD:PUBLISH
X-WR-CALNAME:bc magazine
X-ORIGINAL-URL:https://www.bcmagazine.net
X-WR-CALDESC:Events for bc magazine
REFRESH-INTERVAL;VALUE=DURATION:PT1H
X-Robots-Tag:noindex
X-PUBLISHED-TTL:PT1H
BEGIN:VTIMEZONE
TZID:Asia/Hong_Kong
BEGIN:STANDARD
TZOFFSETFROM:+0800
TZOFFSETTO:+0800
TZNAME:HKT
DTSTART:20150101T000000
END:STANDARD
END:VTIMEZONE
BEGIN:VEVENT
DTSTART;VALUE=DATE:20161119
DTEND;VALUE=DATE:20161128
DTSTAMP:20260426T061504
CREATED:19161116T032014Z
LAST-MODIFIED:20161116T040942Z
UID:10000971-1479513600-1480291199@www.bcmagazine.net
SUMMARY:Men’s Asian Hockey Federation Cup
DESCRIPTION:5th Men’s Asian Hockey Federation Cup\nDate: 19-27 November\, 2016\nVenue: King’s Park Hockey Ground\nTickets: Free
URL:https://www.bcmagazine.net/event/mens-asian-hockey-federation-cup-2016/
LOCATION:King’s Park Hockey Ground\, 2-6 Wylie Road\, Yau Ma Tei\, Hong Kong
CATEGORIES:2016,Free,Hockey,Sport
GEO:22.3069221;114.1770573
X-APPLE-STRUCTURED-LOCATION;VALUE=URI;X-ADDRESS=King’s Park Hockey Ground 2-6 Wylie Road Yau Ma Tei Hong Kong;X-APPLE-RADIUS=500;X-TITLE=2-6 Wylie Road:geo:114.1770573,22.3069221
END:VEVENT
BEGIN:VEVENT
DTSTART;VALUE=DATE:20161119
DTEND;VALUE=DATE:20161128
DTSTAMP:20260426T061504
CREATED:20230315T032014Z
LAST-MODIFIED:20230326T062329Z
UID:10006792-1479513600-1480291199@www.bcmagazine.net
SUMMARY:Hong Kong Quadrangular Hockey Tournament
DESCRIPTION:11th Hong Kong Quadrangular Hockey Tournament\nDate: 23-26 March 2023\nVenue: Hong Kong Football Club\nTickets: Free
URL:https://www.bcmagazine.net/event/hong-kong-quadrangular-hockey-tournament-2023/
LOCATION:Hong Kong Football Club\, 3 Sports Road\, Causeway Bay\, Hong Kong
CATEGORIES:2023,Free,Hockey,Sport
ATTACH;FMTTYPE=image/jpeg:https://www.bcmagazine.net/wp-content/uploads/1916/11/11th-Hong-Kong-Quadrangular-Hockey-Tournament-2023.jpeg
GEO:22.275374;114.1822239
X-APPLE-STRUCTURED-LOCATION;VALUE=URI;X-ADDRESS=Hong Kong Football Club 3 Sports Road Causeway Bay Hong Kong;X-APPLE-RADIUS=500;X-TITLE=3 Sports Road:geo:114.1822239,22.275374
END:VEVENT
BEGIN:VEVENT
DTSTART;VALUE=DATE:20161123
DTEND;VALUE=DATE:20161128
DTSTAMP:20260426T061504
CREATED:19161108T020811Z
LAST-MODIFIED:20161108T021138Z
UID:10000964-1479859200-1480291199@www.bcmagazine.net
SUMMARY:Hong Kong Open Badminton Championships 2016
DESCRIPTION:Hong Kong Open Badminton Championships 2016\nDate: 23-27 November\, 2016\nVenue: HK Coliseum\nTickets: $680-$50 from Urbtix
URL:https://www.bcmagazine.net/event/hong-kong-open-badminton-championships-2016/
LOCATION:HK Coliseum\, 9 Cheong Wan Road\, Hung Hom\, Hong Kong
CATEGORIES:2016,Sport
GEO:22.3014169;114.1820305
X-APPLE-STRUCTURED-LOCATION;VALUE=URI;X-ADDRESS=HK Coliseum 9 Cheong Wan Road Hung Hom Hong Kong;X-APPLE-RADIUS=500;X-TITLE=9 Cheong Wan Road:geo:114.1820305,22.3014169
END:VEVENT
BEGIN:VEVENT
DTSTART;VALUE=DATE:20161126
DTEND;VALUE=DATE:20161128
DTSTAMP:20260426T061504
CREATED:19161017T170835Z
LAST-MODIFIED:20161017T171124Z
UID:10000900-1480118400-1480291199@www.bcmagazine.net
SUMMARY:World MMA Championship
DESCRIPTION:World MMA Championship\nDate: 26-27 November\, 2016\nVenue: Studio City Event Centre\nTickets: $1\,980\, $1\,280\, $880\, $580\, $280
URL:https://www.bcmagazine.net/event/world-mma-championship-macau-2016/
LOCATION:Studio City\, Estrada do Istmo\, Cotai\, Macau
CATEGORIES:2016,Macau,Sport
GEO:22.1397693;113.5632663
X-APPLE-STRUCTURED-LOCATION;VALUE=URI;X-ADDRESS=Studio City Estrada do Istmo Cotai Macau;X-APPLE-RADIUS=500;X-TITLE=Estrada do Istmo:geo:113.5632663,22.1397693
END:VEVENT
BEGIN:VEVENT
DTSTART;TZID=Asia/Hong_Kong:20161127T093000
DTEND;TZID=Asia/Hong_Kong:20161127T093000
DTSTAMP:20260426T061504
CREATED:20160919T104416Z
LAST-MODIFIED:20160919T104416Z
UID:10006216-1480239000-1480239000@www.bcmagazine.net
SUMMARY:CHK XI v PACC
DESCRIPTION:Premier League 1-Day A: CHK XI v PACC
URL:https://www.bcmagazine.net/event/chk-xi-v-pacc-2/
LOCATION:Tin Kwong Road Recreation Ground\, Tin Kwong Road\, Mong Kok\, Hong Kong
CATEGORIES:2016,Cricket,Free,Sport
GEO:22.3219997;114.1847986
X-APPLE-STRUCTURED-LOCATION;VALUE=URI;X-ADDRESS=Tin Kwong Road Recreation Ground Tin Kwong Road Mong Kok Hong Kong;X-APPLE-RADIUS=500;X-TITLE=Tin Kwong Road:geo:114.1847986,22.3219997
END:VEVENT
BEGIN:VEVENT
DTSTART;TZID=Asia/Hong_Kong:20161127T100000
DTEND;TZID=Asia/Hong_Kong:20161127T100000
DTSTAMP:20260426T061504
CREATED:20160919T104415Z
LAST-MODIFIED:20160919T104415Z
UID:10006205-1480240800-1480240800@www.bcmagazine.net
SUMMARY:HKCC v DLSWCC
DESCRIPTION:Premier League 1-Day A: HKCC v DLSWCC
URL:https://www.bcmagazine.net/event/hkcc-v-dlswcc/
LOCATION:Hong Kong Cricket Club\, 137 Wong Ngai Chung Gap Road\, Hong Kong
CATEGORIES:2016,Cricket,Free,Sport
GEO:22.258574;114.1934009
X-APPLE-STRUCTURED-LOCATION;VALUE=URI;X-ADDRESS=Hong Kong Cricket Club 137 Wong Ngai Chung Gap Road Hong Kong;X-APPLE-RADIUS=500;X-TITLE=137 Wong Ngai Chung Gap Road:geo:114.1934009,22.258574
END:VEVENT
BEGIN:VEVENT
DTSTART;TZID=Asia/Hong_Kong:20161127T100000
DTEND;TZID=Asia/Hong_Kong:20161127T100000
DTSTAMP:20260426T061504
CREATED:20160919T104416Z
LAST-MODIFIED:20160919T104416Z
UID:10006214-1480240800-1480240800@www.bcmagazine.net
SUMMARY:Guangzhou v HKCA Dragons
DESCRIPTION:Elite League B: Guangzhou v HKCA Dragons
URL:https://www.bcmagazine.net/event/guangzhou-v-hkca-dragons/
LOCATION:Guangzhou Cricket Stadium\, Guangzhou\, China
CATEGORIES:2016,Cricket,Free,Sport
GEO:23.12911;113.264385
END:VEVENT
BEGIN:VEVENT
DTSTART;TZID=Asia/Hong_Kong:20161127T100000
DTEND;TZID=Asia/Hong_Kong:20161127T100000
DTSTAMP:20260426T061504
CREATED:20160919T104416Z
LAST-MODIFIED:20160919T104416Z
UID:10006215-1480240800-1480240800@www.bcmagazine.net
SUMMARY:KCC Templars v KCC Infidels
DESCRIPTION:Elite League A: KCC Templars v KCC Infidels
URL:https://www.bcmagazine.net/event/kcc-templars-v-kcc-infidels/
LOCATION:Kowloon Cricket Club\, 10 Cox's Road\, Jordan\, Hong Kong
CATEGORIES:2016,Cricket,Free,Sport
GEO:22.3048927;114.1737401
X-APPLE-STRUCTURED-LOCATION;VALUE=URI;X-ADDRESS=Kowloon Cricket Club 10 Cox's Road Jordan Hong Kong;X-APPLE-RADIUS=500;X-TITLE=10 Cox's Road:geo:114.1737401,22.3048927
END:VEVENT
BEGIN:VEVENT
DTSTART;TZID=Asia/Hong_Kong:20161127T130000
DTEND;TZID=Asia/Hong_Kong:20161127T130000
DTSTAMP:20260426T061504
CREATED:20160919T104415Z
LAST-MODIFIED:20160919T104415Z
UID:10006206-1480251600-1480251600@www.bcmagazine.net
SUMMARY:KCC Maidens v HKCC Cavaliers
DESCRIPTION:Women’s League A: KCC Maidens v HKCC Cavaliers
URL:https://www.bcmagazine.net/event/kcc-maidens-v-hkcc-cavaliers-2/
LOCATION:Po Kong Village Road Reservoir Ground\, Po Kong Village Road\, Tsz Wan Shan\, Hong Kong
CATEGORIES:2016,Cricket,Free,Sport
GEO:22.346522;114.204203
X-APPLE-STRUCTURED-LOCATION;VALUE=URI;X-ADDRESS=Po Kong Village Road Reservoir Ground Po Kong Village Road Tsz Wan Shan Hong Kong;X-APPLE-RADIUS=500;X-TITLE=Po Kong Village Road:geo:114.204203,22.346522
END:VEVENT
END:VCALENDAR