BEGIN:VCALENDAR
VERSION:2.0
PRODID:-//bc magazine - ECPv6.15.20//NONSGML v1.0//EN
CALSCALE:GREGORIAN
METHOD:PUBLISH
X-WR-CALNAME:bc magazine
X-ORIGINAL-URL:https://www.bcmagazine.net
X-WR-CALDESC:Events for bc magazine
REFRESH-INTERVAL;VALUE=DURATION:PT1H
X-Robots-Tag:noindex
X-PUBLISHED-TTL:PT1H
BEGIN:VTIMEZONE
TZID:Asia/Hong_Kong
BEGIN:STANDARD
TZOFFSETFROM:+0800
TZOFFSETTO:+0800
TZNAME:HKT
DTSTART:20160101T000000
END:STANDARD
END:VTIMEZONE
BEGIN:VEVENT
DTSTART;TZID=Asia/Hong_Kong:20170205T093000
DTEND;TZID=Asia/Hong_Kong:20170205T093000
DTSTAMP:20260424T231120
CREATED:20160919T103753Z
LAST-MODIFIED:20160919T103753Z
UID:10006139-1486287000-1486287000@www.bcmagazine.net
SUMMARY:HKCC Willow Wielders v USRC
DESCRIPTION:Women’s T20 A: HKCC Willow Wielders v USRC
URL:https://www.bcmagazine.net/event/hkcc-willow-wielders-v-usrc/
LOCATION:Po Kong Village Road Park\, 140 Po Kong Village Road\, Diamond Hill\, Hong Kong
CATEGORIES:2017,Cricket,Free,Sport
GEO:22.3435827;114.2044989
X-APPLE-STRUCTURED-LOCATION;VALUE=URI;X-ADDRESS=Po Kong Village Road Park 140 Po Kong Village Road Diamond Hill Hong Kong;X-APPLE-RADIUS=500;X-TITLE=140 Po Kong Village Road:geo:114.2044989,22.3435827
END:VEVENT
BEGIN:VEVENT
DTSTART;TZID=Asia/Hong_Kong:20170205T093000
DTEND;TZID=Asia/Hong_Kong:20170205T093000
DTSTAMP:20260424T231120
CREATED:20160919T103753Z
LAST-MODIFIED:20160919T103753Z
UID:10006138-1486287000-1486287000@www.bcmagazine.net
SUMMARY:HKCC Wanderers v KCC Templars
DESCRIPTION:Elite League A: HKCC Wanderers v KCC Templars
URL:https://www.bcmagazine.net/event/hkcc-wanderers-v-kcc-templars/
LOCATION:Kowloon Cricket Club\, 10 Cox's Road\, Jordan\, Hong Kong
CATEGORIES:2017,Cricket,Free,Sport
GEO:22.3048927;114.1737401
X-APPLE-STRUCTURED-LOCATION;VALUE=URI;X-ADDRESS=Kowloon Cricket Club 10 Cox's Road Jordan Hong Kong;X-APPLE-RADIUS=500;X-TITLE=10 Cox's Road:geo:114.1737401,22.3048927
END:VEVENT
BEGIN:VEVENT
DTSTART;TZID=Asia/Hong_Kong:20170205T100000
DTEND;TZID=Asia/Hong_Kong:20170205T100000
DTSTAMP:20260424T231120
CREATED:20160919T103753Z
LAST-MODIFIED:20160919T103753Z
UID:10006136-1486288800-1486288800@www.bcmagazine.net
SUMMARY:HKCA Dragons v Guangzhou
DESCRIPTION:Elite League B: HKCA Dragons v Guangzhou
URL:https://www.bcmagazine.net/event/hkca-dragons-v-guangzhou/
LOCATION:Guangzhou Cricket Stadium\, Guangzhou\, China
CATEGORIES:2017,Cricket,Free,Sport
GEO:23.12911;113.264385
END:VEVENT
BEGIN:VEVENT
DTSTART;TZID=Asia/Hong_Kong:20170205T100000
DTEND;TZID=Asia/Hong_Kong:20170205T100000
DTSTAMP:20260424T231120
CREATED:20160919T103753Z
LAST-MODIFIED:20160919T103753Z
UID:10006137-1486288800-1486288800@www.bcmagazine.net
SUMMARY:Headwin Tritons SLCC v HKCC Optimists
DESCRIPTION:Elite League B: Headwin Tritons SLCC v HKCC Optimists
URL:https://www.bcmagazine.net/event/headwin-tritons-slcc-v-hkcc-optimists/
LOCATION:Hong Kong Cricket Club\, 137 Wong Ngai Chung Gap Road\, Hong Kong
CATEGORIES:2017,Cricket,Free,Sport
GEO:22.258574;114.1934009
X-APPLE-STRUCTURED-LOCATION;VALUE=URI;X-ADDRESS=Hong Kong Cricket Club 137 Wong Ngai Chung Gap Road Hong Kong;X-APPLE-RADIUS=500;X-TITLE=137 Wong Ngai Chung Gap Road:geo:114.1934009,22.258574
END:VEVENT
END:VCALENDAR