BEGIN:VCALENDAR
VERSION:2.0
PRODID:-//bc magazine - ECPv6.15.20//NONSGML v1.0//EN
CALSCALE:GREGORIAN
METHOD:PUBLISH
X-WR-CALNAME:bc magazine
X-ORIGINAL-URL:https://www.bcmagazine.net
X-WR-CALDESC:Events for bc magazine
REFRESH-INTERVAL;VALUE=DURATION:PT1H
X-Robots-Tag:noindex
X-PUBLISHED-TTL:PT1H
BEGIN:VTIMEZONE
TZID:Asia/Hong_Kong
BEGIN:STANDARD
TZOFFSETFROM:+0800
TZOFFSETTO:+0800
TZNAME:HKT
DTSTART:20160101T000000
END:STANDARD
END:VTIMEZONE
BEGIN:VEVENT
DTSTART;VALUE=DATE:20170405
DTEND;VALUE=DATE:20170406
DTSTAMP:20260424T192058
CREATED:19161019T152636Z
LAST-MODIFIED:20161019T152838Z
UID:10002288-1491350400-1491436799@www.bcmagazine.net
SUMMARY:Kowloon RugbyFest 2017
DESCRIPTION:Kowloon RugbyFest 2017\nWhen: 5 April\, 2017\nWhere: King’s Park\nHow much: free
URL:https://www.bcmagazine.net/event/kowloon-rugbyfest-2017/
LOCATION:King’s Park Sports Ground\, 11 Wylie Path\, Ho Man Tin\, Jordan\, Hong Kong
CATEGORIES:2017,Free,Rugby,Sport
END:VEVENT
BEGIN:VEVENT
DTSTART;VALUE=DATE:20170405
DTEND;VALUE=DATE:20170407
DTSTAMP:20260424T192058
CREATED:19161019T152213Z
LAST-MODIFIED:20161019T152508Z
UID:10002287-1491350400-1491523199@www.bcmagazine.net
SUMMARY:Hong Kong Tens
DESCRIPTION:Hong Kong Tens\nWhen: 5-6 April\, 2017\nWhere: Hong Kong Football Club\nHow much: tbc
URL:https://www.bcmagazine.net/event/hong-kong-tens-2017/
LOCATION:Hong Kong Football Club\, 3 Sports Road\, Causeway Bay\, Hong Kong
CATEGORIES:2017,Rugby,Sport
GEO:22.275374;114.1822239
X-APPLE-STRUCTURED-LOCATION;VALUE=URI;X-ADDRESS=Hong Kong Football Club 3 Sports Road Causeway Bay Hong Kong;X-APPLE-RADIUS=500;X-TITLE=3 Sports Road:geo:114.1822239,22.275374
END:VEVENT
END:VCALENDAR