BEGIN:VCALENDAR
VERSION:2.0
PRODID:-//bc magazine - ECPv6.15.20//NONSGML v1.0//EN
CALSCALE:GREGORIAN
METHOD:PUBLISH
X-WR-CALNAME:bc magazine
X-ORIGINAL-URL:https://www.bcmagazine.net
X-WR-CALDESC:Events for bc magazine
REFRESH-INTERVAL;VALUE=DURATION:PT1H
X-Robots-Tag:noindex
X-PUBLISHED-TTL:PT1H
BEGIN:VTIMEZONE
TZID:Asia/Hong_Kong
BEGIN:STANDARD
TZOFFSETFROM:+0800
TZOFFSETTO:+0800
TZNAME:HKT
DTSTART:20160101T000000
END:STANDARD
END:VTIMEZONE
BEGIN:VEVENT
DTSTART;VALUE=DATE:20170530
DTEND;VALUE=DATE:20170531
DTSTAMP:20260423T211626
CREATED:19170512T093526Z
LAST-MODIFIED:20170512T095244Z
UID:10002617-1496102400-1496188799@www.bcmagazine.net
SUMMARY:Stanley International Dragon Boat Championships 2017
DESCRIPTION:Stanley International Dragon Boat Championships 2017\nDate: 10am\, 30 May 2017\nVenue: Stanley Main Beach\nTickets: Free
URL:https://www.bcmagazine.net/event/stanley-international-dragon-boat-championships-2017/
LOCATION:Stanley Main Beach\, Stanley Beach Rd\, Stanley\, Hong Kong
CATEGORIES:2018,Sport
GEO:22.2217985;114.2138349
X-APPLE-STRUCTURED-LOCATION;VALUE=URI;X-ADDRESS=Stanley Main Beach Stanley Beach Rd Stanley Hong Kong;X-APPLE-RADIUS=500;X-TITLE=Stanley Beach Rd:geo:114.2138349,22.2217985
END:VEVENT
END:VCALENDAR