BEGIN:VCALENDAR
VERSION:2.0
PRODID:-//bc magazine - ECPv6.15.20//NONSGML v1.0//EN
CALSCALE:GREGORIAN
METHOD:PUBLISH
X-WR-CALNAME:bc magazine
X-ORIGINAL-URL:https://www.bcmagazine.net
X-WR-CALDESC:Events for bc magazine
REFRESH-INTERVAL;VALUE=DURATION:PT1H
X-Robots-Tag:noindex
X-PUBLISHED-TTL:PT1H
BEGIN:VTIMEZONE
TZID:Asia/Hong_Kong
BEGIN:STANDARD
TZOFFSETFROM:+0800
TZOFFSETTO:+0800
TZNAME:HKT
DTSTART:20160101T000000
END:STANDARD
END:VTIMEZONE
BEGIN:VEVENT
DTSTART;VALUE=DATE:20170825
DTEND;VALUE=DATE:20171004
DTSTAMP:20260425T031912
CREATED:19170722T041457Z
LAST-MODIFIED:20170722T052228Z
UID:10003063-1503619200-1507075199@www.bcmagazine.net
SUMMARY:Summerfest
DESCRIPTION:Summerfest\nDate: 14-22 July\, 12-20\, 25-27 August\, 2017\nVenue: Central Harbourfront\nTickets: Free
URL:https://www.bcmagazine.net/event/summerfest-august-2017/2017-08-25/
LOCATION:Central Harbourfront\,  9 Lung Wo Road\, Central\, Hong Kong
CATEGORIES:2017,Lifestyle,Other,Sport
GEO:22.2826223;114.164346
X-APPLE-STRUCTURED-LOCATION;VALUE=URI;X-ADDRESS=Central Harbourfront  9 Lung Wo Road Central Hong Kong;X-APPLE-RADIUS=500;X-TITLE=9 Lung Wo Road:geo:114.164346,22.2826223
END:VEVENT
BEGIN:VEVENT
DTSTART;VALUE=DATE:20170826
DTEND;VALUE=DATE:20171005
DTSTAMP:20260425T031912
CREATED:19170722T041457Z
LAST-MODIFIED:20170722T052228Z
UID:10003064-1503705600-1507161599@www.bcmagazine.net
SUMMARY:Summerfest
DESCRIPTION:Summerfest\nDate: 14-22 July\, 12-20\, 25-27 August\, 2017\nVenue: Central Harbourfront\nTickets: Free
URL:https://www.bcmagazine.net/event/summerfest-august-2017/2017-08-26/
LOCATION:Central Harbourfront\,  9 Lung Wo Road\, Central\, Hong Kong
CATEGORIES:2017,Lifestyle,Other,Sport
GEO:22.2826223;114.164346
X-APPLE-STRUCTURED-LOCATION;VALUE=URI;X-ADDRESS=Central Harbourfront  9 Lung Wo Road Central Hong Kong;X-APPLE-RADIUS=500;X-TITLE=9 Lung Wo Road:geo:114.164346,22.2826223
END:VEVENT
BEGIN:VEVENT
DTSTART;VALUE=DATE:20170827
DTEND;VALUE=DATE:20171006
DTSTAMP:20260425T031912
CREATED:19170722T041457Z
LAST-MODIFIED:20170722T052228Z
UID:10003065-1503792000-1507247999@www.bcmagazine.net
SUMMARY:Summerfest
DESCRIPTION:Summerfest\nDate: 14-22 July\, 12-20\, 25-27 August\, 2017\nVenue: Central Harbourfront\nTickets: Free
URL:https://www.bcmagazine.net/event/summerfest-august-2017/2017-08-27/
LOCATION:Central Harbourfront\,  9 Lung Wo Road\, Central\, Hong Kong
CATEGORIES:2017,Lifestyle,Other,Sport
GEO:22.2826223;114.164346
X-APPLE-STRUCTURED-LOCATION;VALUE=URI;X-ADDRESS=Central Harbourfront  9 Lung Wo Road Central Hong Kong;X-APPLE-RADIUS=500;X-TITLE=9 Lung Wo Road:geo:114.164346,22.2826223
END:VEVENT
BEGIN:VEVENT
DTSTART;VALUE=DATE:20171001
DTEND;VALUE=DATE:20171203
DTSTAMP:20260425T031912
CREATED:19171016T115818Z
LAST-MODIFIED:20171207T084030Z
UID:10003567-1506816000-1512259199@www.bcmagazine.net
SUMMARY:Wrestle Mania Macau
DESCRIPTION:Wrestle Mania Macau\nMacau Wrestling Culture Association\nDate: 4:30pm\, 8pm\, daily until 31 December\, 2017\nVenue: Hotel Golden Dragon\nTickets: $380 from MacauTicket
URL:https://www.bcmagazine.net/event/wrestle-mania-macau/
LOCATION:Hotel Golden Dragon\, Macau
CATEGORIES:2017,Macau,Sport
END:VEVENT
END:VCALENDAR