BEGIN:VCALENDAR
VERSION:2.0
PRODID:-//bc magazine - ECPv6.15.20//NONSGML v1.0//EN
CALSCALE:GREGORIAN
METHOD:PUBLISH
X-WR-CALNAME:bc magazine
X-ORIGINAL-URL:https://www.bcmagazine.net
X-WR-CALDESC:Events for bc magazine
REFRESH-INTERVAL;VALUE=DURATION:PT1H
X-Robots-Tag:noindex
X-PUBLISHED-TTL:PT1H
BEGIN:VTIMEZONE
TZID:Asia/Hong_Kong
BEGIN:STANDARD
TZOFFSETFROM:+0800
TZOFFSETTO:+0800
TZNAME:HKT
DTSTART:20180101T000000
END:STANDARD
END:VTIMEZONE
BEGIN:VEVENT
DTSTART;VALUE=DATE:20190215
DTEND;VALUE=DATE:20190218
DTSTAMP:20260426T054439
CREATED:19181107T110009Z
LAST-MODIFIED:20181103T091142Z
UID:10004571-1550188800-1550447999@www.bcmagazine.net
SUMMARY:Masters of Hong Kong
DESCRIPTION:Masters of Hong Kong\nDate: 15-17 February\, 2019\nVenue: AsiaWorld Expo\nTickets: $4\,000\, $3\,500\, $3\,000\, $2\,500\, $2\,250\, $2\,000\, $1\,850\, $850\, $750\, $650\, $620\, $470\, $390\, $230\, $180 from Cityline
URL:https://www.bcmagazine.net/event/masters-of-hong-kong-2019/
LOCATION:AsiaWorld-Expo\, Cheong Wing Road\, Chek Lap Kok\, Lantau\, Hong Kong
CATEGORIES:2019,Sport
GEO:22.3217383;113.9402012
X-APPLE-STRUCTURED-LOCATION;VALUE=URI;X-ADDRESS=AsiaWorld-Expo Cheong Wing Road Chek Lap Kok Lantau Hong Kong;X-APPLE-RADIUS=500;X-TITLE=Cheong Wing Road\, Chek Lap Kok:geo:113.9402012,22.3217383
END:VEVENT
END:VCALENDAR