BEGIN:VCALENDAR
VERSION:2.0
PRODID:-//bc magazine - ECPv6.15.20//NONSGML v1.0//EN
CALSCALE:GREGORIAN
METHOD:PUBLISH
X-WR-CALNAME:bc magazine
X-ORIGINAL-URL:https://www.bcmagazine.net
X-WR-CALDESC:Events for bc magazine
REFRESH-INTERVAL;VALUE=DURATION:PT1H
X-Robots-Tag:noindex
X-PUBLISHED-TTL:PT1H
BEGIN:VTIMEZONE
TZID:Asia/Hong_Kong
BEGIN:STANDARD
TZOFFSETFROM:+0800
TZOFFSETTO:+0800
TZNAME:HKT
DTSTART:20180101T000000
END:STANDARD
END:VTIMEZONE
BEGIN:VEVENT
DTSTART;TZID=Asia/Hong_Kong:20190515T190000
DTEND;TZID=Asia/Hong_Kong:20190515T190000
DTSTAMP:20260426T043004
CREATED:19181213T044512Z
LAST-MODIFIED:20190318T054511Z
UID:10004707-1557946800-1557946800@www.bcmagazine.net
SUMMARY:Dragon Storm in Spring
DESCRIPTION:Dragon Storm in Spring\nDate: 7pm\, 15-16 May\, 2019\nVenue: Youth Square\nTickets: $360\, $300
URL:https://www.bcmagazine.net/event/dragon-storm-in-spring-15-05-2019/
LOCATION:Youth Square\, Y Theatre\, 238 Chai Wan Road\, Chai Wan\, Hong Kong
CATEGORIES:2019,Sport
ATTACH;FMTTYPE=image/jpeg:https://www.bcmagazine.net/wp-content/uploads/1918/12/Dragon-Storm-spring-2019.jpg
GEO:22.26301;114.2366034
X-APPLE-STRUCTURED-LOCATION;VALUE=URI;X-ADDRESS=Youth Square Y Theatre 238 Chai Wan Road Chai Wan Hong Kong;X-APPLE-RADIUS=500;X-TITLE=238 Chai Wan Road:geo:114.2366034,22.26301
END:VEVENT
END:VCALENDAR