BEGIN:VCALENDAR
VERSION:2.0
PRODID:-//bc magazine - ECPv6.15.20//NONSGML v1.0//EN
CALSCALE:GREGORIAN
METHOD:PUBLISH
X-WR-CALNAME:bc magazine
X-ORIGINAL-URL:https://www.bcmagazine.net
X-WR-CALDESC:Events for bc magazine
REFRESH-INTERVAL;VALUE=DURATION:PT1H
X-Robots-Tag:noindex
X-PUBLISHED-TTL:PT1H
BEGIN:VTIMEZONE
TZID:Asia/Hong_Kong
BEGIN:STANDARD
TZOFFSETFROM:+0800
TZOFFSETTO:+0800
TZNAME:HKT
DTSTART:20130101T000000
END:STANDARD
END:VTIMEZONE
BEGIN:VEVENT
DTSTART;TZID=Asia/Hong_Kong:20141108T133000
DTEND;TZID=Asia/Hong_Kong:20141108T133000
DTSTAMP:20260422T162940
CREATED:20150102T040302Z
LAST-MODIFIED:20150105T231251Z
UID:10005417-1415453400-1415453400@www.bcmagazine.net
SUMMARY:Comvita City Sparkles v Societe Generale Valley Red Ladies XV
DESCRIPTION:Women’s National League 1
URL:https://www.bcmagazine.net/event/comvita-city-sparkles-v-societe-generale-valley-red-ladies-xv-3/
CATEGORIES:Rugby,Sport
END:VEVENT
BEGIN:VEVENT
DTSTART;TZID=Asia/Hong_Kong:20141108T150000
DTEND;TZID=Asia/Hong_Kong:20141108T150000
DTSTAMP:20260422T162940
CREATED:20150102T040302Z
LAST-MODIFIED:20150105T231251Z
UID:10005418-1415458800-1415458800@www.bcmagazine.net
SUMMARY:SCAA CWB Phoenix 2ndXV v Police Sirens
DESCRIPTION:Women’s National League 1
URL:https://www.bcmagazine.net/event/scaa-cwb-phoenix-2ndxv-v-police-sirens-2/
CATEGORIES:Rugby,Sport
END:VEVENT
BEGIN:VEVENT
DTSTART;TZID=Asia/Hong_Kong:20141108T163000
DTEND;TZID=Asia/Hong_Kong:20141108T163000
DTSTAMP:20260422T162940
CREATED:20150102T040301Z
LAST-MODIFIED:20150105T231251Z
UID:10005382-1415464200-1415464200@www.bcmagazine.net
SUMMARY:Gai Wu Ladies v Abacus Kowloon Ladies
DESCRIPTION:Women’s Premiership Rugby
URL:https://www.bcmagazine.net/event/gai-wu-ladies-v-abacus-kowloon-ladies-2/
CATEGORIES:Rugby,Sport
END:VEVENT
BEGIN:VEVENT
DTSTART;TZID=Asia/Hong_Kong:20141108T163000
DTEND;TZID=Asia/Hong_Kong:20141108T163000
DTSTAMP:20260422T162940
CREATED:20150102T040301Z
LAST-MODIFIED:20150105T231251Z
UID:10005381-1415464200-1415464200@www.bcmagazine.net
SUMMARY:Societe Generale Valley Black Ladies v Borrelli Walsh USRC Tigers
DESCRIPTION:Women’s Premiership Rugby
URL:https://www.bcmagazine.net/event/societe-generale-valley-black-ladies-v-borrelli-walsh-usrc-tigers-2/
LOCATION:KGV\, 2 Tin Kwong Road\, Ho Man Tin\, Hong Kong
CATEGORIES:Rugby,Sport
GEO:22.32173;114.183056
X-APPLE-STRUCTURED-LOCATION;VALUE=URI;X-ADDRESS=KGV 2 Tin Kwong Road Ho Man Tin Hong Kong;X-APPLE-RADIUS=500;X-TITLE=2 Tin Kwong Road:geo:114.183056,22.32173
END:VEVENT
BEGIN:VEVENT
DTSTART;TZID=Asia/Hong_Kong:20141108T180000
DTEND;TZID=Asia/Hong_Kong:20141108T180000
DTSTAMP:20260422T162940
CREATED:20150102T040301Z
LAST-MODIFIED:20150105T231251Z
UID:10005383-1415469600-1415469600@www.bcmagazine.net
SUMMARY:SCAA CWB Phoenix v Transact24 Taipo Dragon Ladies
DESCRIPTION:Women’s Premiership Rugby
URL:https://www.bcmagazine.net/event/scaa-cwb-phoenix-v-transact24-taipo-dragon-ladies-2/
LOCATION:KGV\, 2 Tin Kwong Road\, Ho Man Tin\, Hong Kong
CATEGORIES:Rugby,Sport
GEO:22.32173;114.183056
X-APPLE-STRUCTURED-LOCATION;VALUE=URI;X-ADDRESS=KGV 2 Tin Kwong Road Ho Man Tin Hong Kong;X-APPLE-RADIUS=500;X-TITLE=2 Tin Kwong Road:geo:114.183056,22.32173
END:VEVENT
BEGIN:VEVENT
DTSTART;TZID=Asia/Hong_Kong:20141108T180000
DTEND;TZID=Asia/Hong_Kong:20141108T180000
DTSTAMP:20260422T162940
CREATED:20150102T040302Z
LAST-MODIFIED:20150105T231251Z
UID:10005419-1415469600-1415469600@www.bcmagazine.net
SUMMARY:Revolution SRC Ladies v Bloomberg HK Scottish Kukris
DESCRIPTION:Women’s National League 1
URL:https://www.bcmagazine.net/event/revolution-src-ladies-v-bloomberg-hk-scottish-kukris/
LOCATION:Tai Hang Tung Recreation Ground\, 50 Boundary Street & Tai Hang Tung Road\, Kowloon\, Prince Edward (Exit A)\, Hong Kong
CATEGORIES:Rugby,Sport
GEO:22.396428;114.109497
X-APPLE-STRUCTURED-LOCATION;VALUE=URI;X-ADDRESS=Tai Hang Tung Recreation Ground 50 Boundary Street & Tai Hang Tung Road Kowloon Prince Edward (Exit A) Hong Kong;X-APPLE-RADIUS=500;X-TITLE=50 Boundary Street & Tai Hang Tung Road:geo:114.109497,22.396428
END:VEVENT
END:VCALENDAR