BEGIN:VCALENDAR
VERSION:2.0
PRODID:-//bc magazine - ECPv6.15.20//NONSGML v1.0//EN
CALSCALE:GREGORIAN
METHOD:PUBLISH
X-WR-CALNAME:bc magazine
X-ORIGINAL-URL:https://www.bcmagazine.net
X-WR-CALDESC:Events for bc magazine
REFRESH-INTERVAL;VALUE=DURATION:PT1H
X-Robots-Tag:noindex
X-PUBLISHED-TTL:PT1H
BEGIN:VTIMEZONE
TZID:Asia/Hong_Kong
BEGIN:STANDARD
TZOFFSETFROM:+0800
TZOFFSETTO:+0800
TZNAME:HKT
DTSTART:20140101T000000
END:STANDARD
END:VTIMEZONE
BEGIN:VEVENT
DTSTART;TZID=Asia/Hong_Kong:20150207T180000
DTEND;TZID=Asia/Hong_Kong:20150207T180000
DTSTAMP:20260422T174217
CREATED:20150102T040303Z
LAST-MODIFIED:20150203T040043Z
UID:10005454-1423332000-1423332000@www.bcmagazine.net
SUMMARY:Comvita City Sparkles v Revolution SRC Ladies
DESCRIPTION:Women’s National League 1
URL:https://www.bcmagazine.net/event/comvita-city-sparkles-v-revolution-src-ladies-3/
LOCATION:Shek Kip Mei Sports Ground\, Nam Cheong Street\, Shek Kip Mei\, Shek Kip Mei (Exit C)\, Hong Kong
CATEGORIES:Rugby,Sport
GEO:22.3342953;114.1678569
X-APPLE-STRUCTURED-LOCATION;VALUE=URI;X-ADDRESS=Shek Kip Mei Sports Ground Nam Cheong Street Shek Kip Mei Shek Kip Mei (Exit C) Hong Kong;X-APPLE-RADIUS=500;X-TITLE=Nam Cheong Street:geo:114.1678569,22.3342953
END:VEVENT
BEGIN:VEVENT
DTSTART;TZID=Asia/Hong_Kong:20150207T180000
DTEND;TZID=Asia/Hong_Kong:20150207T180000
DTSTAMP:20260422T174217
CREATED:20150102T040303Z
LAST-MODIFIED:20150105T231153Z
UID:10005452-1423332000-1423332000@www.bcmagazine.net
SUMMARY:Bloomberg HK Scottish Kukris v Societe Generale Valley Red Ladies XV
DESCRIPTION:Women’s National League 1
URL:https://www.bcmagazine.net/event/bloomberg-hk-scottish-kukris-v-societe-generale-valley-red-ladies-xv/
LOCATION:Tai Hang Tung Recreation Ground\, 50 Boundary Street & Tai Hang Tung Road\, Kowloon\, Prince Edward (Exit A)\, Hong Kong
CATEGORIES:Rugby,Sport
GEO:22.396428;114.109497
X-APPLE-STRUCTURED-LOCATION;VALUE=URI;X-ADDRESS=Tai Hang Tung Recreation Ground 50 Boundary Street & Tai Hang Tung Road Kowloon Prince Edward (Exit A) Hong Kong;X-APPLE-RADIUS=500;X-TITLE=50 Boundary Street & Tai Hang Tung Road:geo:114.109497,22.396428
END:VEVENT
BEGIN:VEVENT
DTSTART;TZID=Asia/Hong_Kong:20150207T180000
DTEND;TZID=Asia/Hong_Kong:20150207T180000
DTSTAMP:20260422T174217
CREATED:20150102T040303Z
LAST-MODIFIED:20150105T231153Z
UID:10005451-1423332000-1423332000@www.bcmagazine.net
SUMMARY:Natixis HKFC Ice v SCAA CWB Phoenix 2ndXV
DESCRIPTION:Women’s National League 1
URL:https://www.bcmagazine.net/event/natixis-hkfc-ice-v-scaa-cwb-phoenix-2ndxv/
LOCATION:Hong Kong Football Club\, 3 Sports Road\, Causeway Bay\, Hong Kong
CATEGORIES:Rugby,Sport
GEO:22.275374;114.1822239
X-APPLE-STRUCTURED-LOCATION;VALUE=URI;X-ADDRESS=Hong Kong Football Club 3 Sports Road Causeway Bay Hong Kong;X-APPLE-RADIUS=500;X-TITLE=3 Sports Road:geo:114.1822239,22.275374
END:VEVENT
BEGIN:VEVENT
DTSTART;TZID=Asia/Hong_Kong:20150207T180000
DTEND;TZID=Asia/Hong_Kong:20150207T180000
DTSTAMP:20260422T174217
CREATED:20150102T040303Z
LAST-MODIFIED:20150105T231153Z
UID:10005450-1423332000-1423332000@www.bcmagazine.net
SUMMARY:Leighton Asia HKCC Ladies v Police Sirens
DESCRIPTION:Women’s National League 1
URL:https://www.bcmagazine.net/event/leighton-asia-hkcc-ladies-v-police-sirens/
LOCATION:Aberdeen Sports Ground\, 108 Wong Chuk Hang Road\, Aberdeen\, Hong Kong
CATEGORIES:Rugby,Sport
END:VEVENT
END:VCALENDAR