BEGIN:VCALENDAR
VERSION:2.0
PRODID:-//bc magazine - ECPv6.15.20//NONSGML v1.0//EN
CALSCALE:GREGORIAN
METHOD:PUBLISH
X-WR-CALNAME:bc magazine
X-ORIGINAL-URL:https://www.bcmagazine.net
X-WR-CALDESC:Events for bc magazine
REFRESH-INTERVAL;VALUE=DURATION:PT1H
X-Robots-Tag:noindex
X-PUBLISHED-TTL:PT1H
BEGIN:VTIMEZONE
TZID:Asia/Hong_Kong
BEGIN:STANDARD
TZOFFSETFROM:+0800
TZOFFSETTO:+0800
TZNAME:HKT
DTSTART:20140101T000000
END:STANDARD
END:VTIMEZONE
BEGIN:VEVENT
DTSTART;TZID=Asia/Hong_Kong:20150213T180000
DTEND;TZID=Asia/Hong_Kong:20150214T000000
DTSTAMP:20260423T110342
CREATED:20150114T013046Z
LAST-MODIFIED:20150113T125615Z
UID:10005536-1423850400-1423872000@www.bcmagazine.net
SUMMARY:Hong Kong Masters @ AsiaWorld Expo - 13-15 February\, 2015
DESCRIPTION:A show-jumping lifestyle event featuring the world’s top 25 ranked riders who will compete over three days at AsiaWorld Expo for over US1million. If you have fond memories of the Olympic 2008 equestrian events or have been out and hopped a few fences at Beas River Equestrian Centre and want to see the best of the best up close and personal this will be the perfect oppourtunity. The Hong Kong Masters is the first event in the 2015 Masters Grand Slam Indoor which also visits Paris and Las Vegas. \nAs well as some quality show jumping there’ll be fine dining\, wine tastings\, a little bit of art and of course the ubiquitous “tailored shopping experience”. \nHong Kong Masters\nWhen: 13-15 February\, 2015\nWhere: AsiaWorld-Expo\nHow Much:\n13 February: $720 (Prestige)\, $590 (Standard)\n14 February: $720 (Prestige)\, $590 (Standard)\, $330 (Afternoon)\n15 February: $980 (Prestige)\, $850 (Standard)\nfrom Cityline\nMore info: www.longineshkmasters.com
URL:https://www.bcmagazine.net/event/hong-kong-masters-asiaworld-expo-13-15-february-2015/
LOCATION:AsiaWorld-Expo\, Cheong Wing Road\, Chek Lap Kok\, Lantau\, Hong Kong
CATEGORIES:Sport
GEO:22.3217383;113.9402012
X-APPLE-STRUCTURED-LOCATION;VALUE=URI;X-ADDRESS=AsiaWorld-Expo Cheong Wing Road Chek Lap Kok Lantau Hong Kong;X-APPLE-RADIUS=500;X-TITLE=Cheong Wing Road\, Chek Lap Kok:geo:113.9402012,22.3217383
END:VEVENT
BEGIN:VEVENT
DTSTART;TZID=Asia/Hong_Kong:20150213T180000
DTEND;TZID=Asia/Hong_Kong:20150214T000000
DTSTAMP:20260423T110342
CREATED:20250910T013046Z
LAST-MODIFIED:20250910T214646Z
UID:10011402-1423850400-1423872000@www.bcmagazine.net
SUMMARY:Hong Kong International Horse Show
DESCRIPTION:  \nHong Kong International Horse Show\nWhen: 30 January – 1 February\, 2025\nWhere: AsiaWorld-Expo\nHow Much:\n30 January: $40\,000\, $1\,000\, $700\n31 January\, 1 February: $40\,000\, $1\,199\, $959
URL:https://www.bcmagazine.net/event/hong-kong-international-horse-show/
LOCATION:AsiaWorld-Expo\, Cheong Wing Road\, Chek Lap Kok\, Lantau\, Hong Kong
CATEGORIES:2025,Sport
ATTACH;FMTTYPE=image/jpeg:https://www.bcmagazine.net/wp-content/uploads/2015/01/LHKIHS_HKJC-National-Jumping.jpg
GEO:22.3217383;113.9402012
X-APPLE-STRUCTURED-LOCATION;VALUE=URI;X-ADDRESS=AsiaWorld-Expo Cheong Wing Road Chek Lap Kok Lantau Hong Kong;X-APPLE-RADIUS=500;X-TITLE=Cheong Wing Road\, Chek Lap Kok:geo:113.9402012,22.3217383
END:VEVENT
BEGIN:VEVENT
DTSTART;TZID=Asia/Hong_Kong:20150214T090000
DTEND;TZID=Asia/Hong_Kong:20150215T000000
DTSTAMP:20260423T110342
CREATED:20150103T124759Z
LAST-MODIFIED:20150113T125846Z
UID:10005486-1423904400-1423958400@www.bcmagazine.net
SUMMARY:Hong Kong Masters @ AsiaWorld Expo - 13-15 February\, 2015
DESCRIPTION:A show-jumping lifestyle event featuring the world’s top 25 ranked riders who will compete over three days at AsiaWorld Expo for over US1million. If you have fond memories of the Olympic 2008 equestrian events or have been out and hopped a few fences at Beas River Equestrian Centre and want to see the best of the best up close and personal this will be the perfect oppourtunity. The Hong Kong Masters is the first event in the 2015 Masters Grand Slam Indoor which also visits Paris and Las Vegas. \nAs well as some quality show jumping there’ll be fine dining\, wine tastings\, a little bit of art and of course the ubiquitous “tailored shopping experience”. \nHong Kong Masters\nWhen: 13-15 February\, 2015\nWhere: AsiaWorld-Expo\nHow Much:\n13 February: $720 (Prestige)\, $590 (Standard)\n14 February: $720 (Prestige)\, $590 (Standard)\, $330 (Afternoon)\n15 February: $980 (Prestige)\, $850 (Standard)\nfrom Cityline\nMore info: www.longineshkmasters.com
URL:https://www.bcmagazine.net/event/hong-kong-masters-asiaworld-expo-13-15-february-2015-2/
LOCATION:AsiaWorld-Expo\, Cheong Wing Road\, Chek Lap Kok\, Lantau\, Hong Kong
CATEGORIES:Sport
GEO:22.3217383;113.9402012
X-APPLE-STRUCTURED-LOCATION;VALUE=URI;X-ADDRESS=AsiaWorld-Expo Cheong Wing Road Chek Lap Kok Lantau Hong Kong;X-APPLE-RADIUS=500;X-TITLE=Cheong Wing Road\, Chek Lap Kok:geo:113.9402012,22.3217383
END:VEVENT
BEGIN:VEVENT
DTSTART;TZID=Asia/Hong_Kong:20150214T163000
DTEND;TZID=Asia/Hong_Kong:20150214T200000
DTSTAMP:20260423T110342
CREATED:20150207T160819Z
LAST-MODIFIED:20150210T095422Z
UID:10005579-1423931400-1423944000@www.bcmagazine.net
SUMMARY:Gai Wu Ladies v USRC Tigers
DESCRIPTION:Women’s Premiership Rugby
URL:https://www.bcmagazine.net/event/gai-wu-ladies-v-usrc-tigers/
LOCATION:Happy Valley Recreation Ground\, 2 Sports Road\, Happy Valley\, Causeway Bay\, Hong Kong
CATEGORIES:Rugby,Sport
GEO:22.2859787;114.1914919
X-APPLE-STRUCTURED-LOCATION;VALUE=URI;X-ADDRESS=Happy Valley Recreation Ground 2 Sports Road Happy Valley Causeway Bay Hong Kong;X-APPLE-RADIUS=500;X-TITLE=2 Sports Road:geo:114.1914919,22.2859787
END:VEVENT
BEGIN:VEVENT
DTSTART;TZID=Asia/Hong_Kong:20150214T180000
DTEND;TZID=Asia/Hong_Kong:20150214T200000
DTSTAMP:20260423T110342
CREATED:20150207T161030Z
LAST-MODIFIED:20150210T095628Z
UID:10005580-1423936800-1423944000@www.bcmagazine.net
SUMMARY:Valley Black v SCAA CWB Phoenix
DESCRIPTION:Women’s Premiership Rugby
URL:https://www.bcmagazine.net/event/valley-black-v-scaa-cwb-phoenix/
LOCATION:Happy Valley Recreation Ground\, 2 Sports Road\, Happy Valley\, Causeway Bay\, Hong Kong
CATEGORIES:Rugby,Sport
GEO:22.2859787;114.1914919
X-APPLE-STRUCTURED-LOCATION;VALUE=URI;X-ADDRESS=Happy Valley Recreation Ground 2 Sports Road Happy Valley Causeway Bay Hong Kong;X-APPLE-RADIUS=500;X-TITLE=2 Sports Road:geo:114.1914919,22.2859787
END:VEVENT
BEGIN:VEVENT
DTSTART;TZID=Asia/Hong_Kong:20150215T090000
DTEND;TZID=Asia/Hong_Kong:20150215T180000
DTSTAMP:20260423T110342
CREATED:20150103T125121Z
LAST-MODIFIED:20150113T125638Z
UID:10005487-1423990800-1424023200@www.bcmagazine.net
SUMMARY:Hong Kong Masters @ AsiaWorld Expo - 13-15 February\, 2015
DESCRIPTION:A show-jumping lifestyle event featuring the world’s top 25 ranked riders who will compete over three days at AsiaWorld Expo for over US1million. If you have fond memories of the Olympic 2008 equestrian events or have been out and hopped a few fences at Beas River Equestrian Centre and want to see the best of the best up close and personal this will be the perfect oppourtunity. The Hong Kong Masters is the first event in the 2015 Masters Grand Slam Indoor which also visits Paris and Las Vegas. \nAs well as some quality show jumping there’ll be fine dining\, wine tastings\, a little bit of art and of course the ubiquitous “tailored shopping experience”. \nHong Kong Masters\nWhen: 13-15 February\, 2015\nWhere: AsiaWorld-Expo\nHow Much:\n13 February: $720 (Prestige)\, $590 (Standard)\n14 February: $720 (Prestige)\, $590 (Standard)\, $330 (Afternoon)\n15 February: $980 (Prestige)\, $850 (Standard)\nfrom Cityline\nMore info: www.longineshkmasters.com
URL:https://www.bcmagazine.net/event/hong-kong-masters-asiaworld-expo-13-15-february-2015-3/
LOCATION:AsiaWorld-Expo\, Cheong Wing Road\, Chek Lap Kok\, Lantau\, Hong Kong
CATEGORIES:Sport
GEO:22.3217383;113.9402012
X-APPLE-STRUCTURED-LOCATION;VALUE=URI;X-ADDRESS=AsiaWorld-Expo Cheong Wing Road Chek Lap Kok Lantau Hong Kong;X-APPLE-RADIUS=500;X-TITLE=Cheong Wing Road\, Chek Lap Kok:geo:113.9402012,22.3217383
END:VEVENT
END:VCALENDAR