BEGIN:VCALENDAR
VERSION:2.0
PRODID:-//bc magazine - ECPv6.15.20//NONSGML v1.0//EN
CALSCALE:GREGORIAN
METHOD:PUBLISH
X-WR-CALNAME:bc magazine
X-ORIGINAL-URL:https://www.bcmagazine.net
X-WR-CALDESC:Events for bc magazine
REFRESH-INTERVAL;VALUE=DURATION:PT1H
X-Robots-Tag:noindex
X-PUBLISHED-TTL:PT1H
BEGIN:VTIMEZONE
TZID:Asia/Hong_Kong
BEGIN:STANDARD
TZOFFSETFROM:+0800
TZOFFSETTO:+0800
TZNAME:HKT
DTSTART:20140101T000000
END:STANDARD
END:VTIMEZONE
BEGIN:VEVENT
DTSTART;VALUE=DATE:20150314
DTEND;VALUE=DATE:20150316
DTSTAMP:20260423T113900
CREATED:20150302T000506Z
LAST-MODIFIED:20150313T001011Z
UID:10005622-1426291200-1426463999@www.bcmagazine.net
SUMMARY:Hong Kong Indoor Rowing Championships & Charity Rowathon 2015
DESCRIPTION:Organized by the Hong Kong\, China Rowing Association the annual Indoor Rowing Championships and Charity Rowathon 2015 takes place at Kowloon Park Sports Centre from 14th to 15th March\, 2015 (Saturday and Sunday) \n\n\n\nCompetition Date:\n14th March\, 2015 (Sat)\n15th March\, 2015 (Sun)\n\n\nCompetition Time:\n12:40 – 16:30\n11:30 – 16:30\n\n\nMedal Presentation Ceremony:\n16:30 – 17:25\n12:45 – 13:30\n\n\n16:30 – 17:25\n\n\n \n \n\n\nEvent\nIndividual Event \nl Junior  Events \nl Para-rowing Events \nTeam Relay Event \nl Secondary Schools (Students) \nl Youth Societies / Organization \nl Para-rowing Mixed Events\nIndividual Event \nl  Open Events \nl  Lightweight Events \nTeam Relay Event \nl  Post-Secondary Institutions (Students) \nl  Government Departments \nl  Professional Bodies \nl  Disciplinary Forces \nl  Corporates \nl  Rowing\, Canoeing & Paddling Clubs \nl  Charity Rowathon \nl  Top of the Tops President Cup
URL:https://www.bcmagazine.net/event/hong-kong-indoor-rowing-championships-charity-rowathon-2015/
LOCATION:Kowloon Park Sports Centre\, 22 Austin Road\, Tsim Sha Tsui\, Hong Kong
CATEGORIES:Sport
GEO:22.3018117;114.1703658
X-APPLE-STRUCTURED-LOCATION;VALUE=URI;X-ADDRESS=Kowloon Park Sports Centre 22 Austin Road Tsim Sha Tsui Hong Kong;X-APPLE-RADIUS=500;X-TITLE=22 Austin Road:geo:114.1703658,22.3018117
END:VEVENT
BEGIN:VEVENT
DTSTART;TZID=Asia/Hong_Kong:20150314T150000
DTEND;TZID=Asia/Hong_Kong:20150314T170000
DTSTAMP:20260423T113900
CREATED:20150301T071355Z
LAST-MODIFIED:20150303T074939Z
UID:10005617-1426345200-1426352400@www.bcmagazine.net
SUMMARY:21st Country of Origin
DESCRIPTION:Looking ahead post-Grand Championship weekend\, the 21st Country of Origin Tournament will take place at King’s Park on Saturday 14th March 2015. This is an opportunity for every rugby player to pull on thier country’s jersey\, something cruelly denied to most by the poor decisions of national selectors – except for Andy Hall and Sam Pinder\, obviously… \nIf you belong to one of the below ethnic groups then this is the person to contact if you want a run…if your nation doesn’t appear then just turn up on the day with your boots and you’ll get a run with either Scotland or Wales for sure…\nPale Tauti (New Zealand) twomeke007@gmail.com\nAlex Tarleton (England) alexander.tarleton@gmail.com\nGareth Page (Wales) garpage@hotmail.com\nJohn Bruce (Scotland) john.bruce@hill-assoc.com\nRohan Cook (Australia) rohan.cook@students.mq.edu.au\nSam Sznajder (France) samsznajdr@gmail.com\nMartin Kibble (Hong Kong) kibble@mac.com\nMoses Bailey (South Africa) mosesbailey@gmail.com
URL:https://www.bcmagazine.net/event/21st-country-of-origin/
CATEGORIES:Rugby,Sport
END:VEVENT
BEGIN:VEVENT
DTSTART;TZID=Asia/Hong_Kong:20150314T201500
DTEND;TZID=Asia/Hong_Kong:20150314T220000
DTSTAMP:20260423T113900
CREATED:20150312T225804Z
LAST-MODIFIED:20150313T060513Z
UID:10005648-1426364100-1426370400@www.bcmagazine.net
SUMMARY:CIHL Championship Game - 14 March\, 2015
DESCRIPTION:CIHL Championship Final\nWhen: 8:15pm\, 14 March\, 2015\nWhere: Mega Ice\, 10/L MegaBox\, 38 Wang Chiu Road\, Kowloon Bay\nTickets: Free admission\nMore info: www.cihl.com
URL:https://www.bcmagazine.net/event/cihl-championship-game-14-march-2015/
LOCATION:Hong Kong
CATEGORIES:Sport
END:VEVENT
END:VCALENDAR