BEGIN:VCALENDAR
VERSION:2.0
PRODID:-//bc magazine - ECPv6.15.20//NONSGML v1.0//EN
CALSCALE:GREGORIAN
METHOD:PUBLISH
X-WR-CALNAME:bc magazine
X-ORIGINAL-URL:https://www.bcmagazine.net
X-WR-CALDESC:Events for bc magazine
REFRESH-INTERVAL;VALUE=DURATION:PT1H
X-Robots-Tag:noindex
X-PUBLISHED-TTL:PT1H
BEGIN:VTIMEZONE
TZID:Asia/Hong_Kong
BEGIN:STANDARD
TZOFFSETFROM:+0800
TZOFFSETTO:+0800
TZNAME:HKT
DTSTART:20140101T000000
END:STANDARD
END:VTIMEZONE
BEGIN:VEVENT
DTSTART;TZID=Asia/Hong_Kong:20150321T080000
DTEND;TZID=Asia/Hong_Kong:20150321T200000
DTSTAMP:20260421T222904
CREATED:20141222T064204Z
LAST-MODIFIED:20150320T002528Z
UID:10005363-1426924800-1426968000@www.bcmagazine.net
SUMMARY:The Hong Kong Beach 5s
DESCRIPTION:The 2015 Beach 5s take place on Repulse Bay beach on 21-22 March. This year’s event see the addition of beach football to the existing Rugby\, Netball\, Dodgeball and Volleyball. \nTeam e-registration opens at 6pm on the 26 January\, 2015 and spots are expected to be filled quickly. \nTeam numbers:\nMen’s rugby: 16 teams\nWomen’s rugby: 10 teams\nNetball: 32 teams\nFootball: 12 saturday\, 14 on the sunday\nDodgeball: 16 teams\nFitness: to be confirmed \nThe Hong Kong Beach 5s\nWhen: 21-22 March\, 2015\nWhere: Repulse Bay Beach\nHow much: Free\nMore info: www.hkbeach5s.com \n 
URL:https://www.bcmagazine.net/event/the-hong-kong-beach-5s/
LOCATION:Repulse Bay Beach\, Repulse Bay\, Hong Kong
CATEGORIES:Football,Rugby,Sport
GEO:22.2371597;114.1971229
X-APPLE-STRUCTURED-LOCATION;VALUE=URI;X-ADDRESS=Repulse Bay Beach Repulse Bay Hong Kong;X-APPLE-RADIUS=500;X-TITLE=Repulse Bay:geo:114.1971229,22.2371597
END:VEVENT
BEGIN:VEVENT
DTSTART;TZID=Asia/Hong_Kong:20150322T080000
DTEND;TZID=Asia/Hong_Kong:20150322T200000
DTSTAMP:20260421T222904
CREATED:20141222T064523Z
LAST-MODIFIED:20150319T161603Z
UID:10005364-1427011200-1427054400@www.bcmagazine.net
SUMMARY:The Hong Kong Beach 5s
DESCRIPTION:The 2015 Beach 5s take place on Repulse Bay beach on 21-22 March. This year’s event see the addition of beach football to the existing Rugby\, Netball\, Dodgeball and Volleyball. \nTeam e-registration opens at 6pm on the 26 January\, 2015 and spots are expected to be filled quickly. \nTeam numbers:\nMen’s rugby: 16 teams\nWomen’s rugby: 10 teams\nNetball: 32 teams\nFootball: 12 saturday\, 14 on the sunday\nDodgeball: 16 teams\nFitness: to be confirmed \nThe Hong Kong Beach 5s\nWhen: 21-22 March\, 2015\nWhere: Repulse Bay Beach\nHow much: Free\nMore info: www.hkbeach5s.com
URL:https://www.bcmagazine.net/event/the-hong-kong-beach-5s-2/
LOCATION:Repulse Bay Beach\, Repulse Bay\, Hong Kong
CATEGORIES:Football,Rugby,Sport
GEO:22.2371597;114.1971229
X-APPLE-STRUCTURED-LOCATION;VALUE=URI;X-ADDRESS=Repulse Bay Beach Repulse Bay Hong Kong;X-APPLE-RADIUS=500;X-TITLE=Repulse Bay:geo:114.1971229,22.2371597
END:VEVENT
END:VCALENDAR