BEGIN:VCALENDAR
VERSION:2.0
PRODID:-//bc magazine - ECPv6.15.20//NONSGML v1.0//EN
CALSCALE:GREGORIAN
METHOD:PUBLISH
X-WR-CALNAME:bc magazine
X-ORIGINAL-URL:https://www.bcmagazine.net
X-WR-CALDESC:Events for bc magazine
REFRESH-INTERVAL;VALUE=DURATION:PT1H
X-Robots-Tag:noindex
X-PUBLISHED-TTL:PT1H
BEGIN:VTIMEZONE
TZID:Asia/Hong_Kong
BEGIN:STANDARD
TZOFFSETFROM:+0800
TZOFFSETTO:+0800
TZNAME:HKT
DTSTART:20140101T000000
END:STANDARD
END:VTIMEZONE
BEGIN:VEVENT
DTSTART;TZID=Asia/Hong_Kong:20150324T200000
DTEND;TZID=Asia/Hong_Kong:20150324T230000
DTSTAMP:20260423T224818
CREATED:20150324T000843Z
LAST-MODIFIED:20150323T155519Z
UID:10005661-1427227200-1427238000@www.bcmagazine.net
SUMMARY:Sevens Carnival @ Lan Kwai Fong - 8-11pm\, 24 March\, 2015
DESCRIPTION:
URL:https://www.bcmagazine.net/event/sevens-carnival-lan-kwai-fong-8-11pm-24-march-2015/
CATEGORIES:Concert,Food,Music,Nightlife,Rugby,Sport
END:VEVENT
BEGIN:VEVENT
DTSTART;VALUE=DATE:20150325
DTEND;VALUE=DATE:20150326
DTSTAMP:20260423T224818
CREATED:20150102T062007Z
LAST-MODIFIED:20150126T062321Z
UID:10005481-1427241600-1427327999@www.bcmagazine.net
SUMMARY:Hong Kong Tens - 25-26 March\, 2015
DESCRIPTION:Hong Kong Tens\nWhen: 25-26 March\, 2015\nWhere: Hong Kong Football Club\nHow much: tbc\nMore info: www.hongkongtens.com
URL:https://www.bcmagazine.net/event/hong-kong-tens-25-26-march-2015/
LOCATION:Hong Kong Football Club\, 3 Sports Road\, Causeway Bay\, Hong Kong
CATEGORIES:Rugby,Sport
GEO:22.275374;114.1822239
X-APPLE-STRUCTURED-LOCATION;VALUE=URI;X-ADDRESS=Hong Kong Football Club 3 Sports Road Causeway Bay Hong Kong;X-APPLE-RADIUS=500;X-TITLE=3 Sports Road:geo:114.1822239,22.275374
END:VEVENT
BEGIN:VEVENT
DTSTART;TZID=Asia/Hong_Kong:20150325T090000
DTEND;TZID=Asia/Hong_Kong:20150325T210000
DTSTAMP:20260423T224818
CREATED:20141222T071133Z
LAST-MODIFIED:20150122T071157Z
UID:10005365-1427274000-1427317200@www.bcmagazine.net
SUMMARY:Kowloon RugbyFest 2015
DESCRIPTION:
URL:https://www.bcmagazine.net/event/kowloon-rugbyfest-2015/
LOCATION:King’s Park Sports Ground\, 11 Wylie Path\, Ho Man Tin\, Jordan\, Hong Kong
CATEGORIES:Rugby,Sport
END:VEVENT
BEGIN:VEVENT
DTSTART;VALUE=DATE:20150326
DTEND;VALUE=DATE:20150327
DTSTAMP:20260423T224818
CREATED:20150102T062332Z
LAST-MODIFIED:20150126T062602Z
UID:10005482-1427328000-1427414399@www.bcmagazine.net
SUMMARY:Hong Kong Tens - 25-26 March\, 2015
DESCRIPTION:Hong Kong Tens\nWhen: 25-26 March\, 2015\nWhere: Hong Kong Football Club\nHow much: tbc\nMore info: www.hongkongtens.com
URL:https://www.bcmagazine.net/event/hong-kong-tens-25-26-march-2015-2/
LOCATION:Hong Kong Football Club\, 3 Sports Road\, Causeway Bay\, Hong Kong
CATEGORIES:Rugby,Sport
GEO:22.275374;114.1822239
X-APPLE-STRUCTURED-LOCATION;VALUE=URI;X-ADDRESS=Hong Kong Football Club 3 Sports Road Causeway Bay Hong Kong;X-APPLE-RADIUS=500;X-TITLE=3 Sports Road:geo:114.1822239,22.275374
END:VEVENT
BEGIN:VEVENT
DTSTART;TZID=Asia/Hong_Kong:20150326T090000
DTEND;TZID=Asia/Hong_Kong:20150326T200000
DTSTAMP:20260423T224818
CREATED:20150108T093825Z
LAST-MODIFIED:20150218T081604Z
UID:10005522-1427360400-1427400000@www.bcmagazine.net
SUMMARY:Hong Kong Women’s Rugby 7s - 26-27 March\, 2015
DESCRIPTION:Hong Kong Women’s Rugby 7s\nWhen: 26-27 March\, 2015\nWhere: 26- Kings Park; 27- Hong Kong Football Club; Final – HK Stadium\nHow much: Free\nMore info: facebook.com/hkwr.sevens
URL:https://www.bcmagazine.net/event/hong-kong-womens-rugby-7s-26-27-march/
LOCATION:King’s Park Sports Ground\, 11 Wylie Path\, Ho Man Tin\, Jordan\, Hong Kong
CATEGORIES:Rugby,Sport
END:VEVENT
BEGIN:VEVENT
DTSTART;TZID=Asia/Hong_Kong:20150327T090000
DTEND;TZID=Asia/Hong_Kong:20150327T200000
DTSTAMP:20260423T224818
CREATED:20150108T094213Z
LAST-MODIFIED:20150218T081658Z
UID:10005523-1427446800-1427486400@www.bcmagazine.net
SUMMARY:Hong Kong Women’s Rugby 7s - 26-27 March\, 2015
DESCRIPTION:Hong Kong Women’s Rugby 7s\nWhen: 26-27 March\, 2015\nWhere: 26- Kings Park; 27- Hong Kong Football Club; Final – HK Stadium\nHow much: Free\nMore info: facebook.com/hkwr.sevens
URL:https://www.bcmagazine.net/event/hong-kong-womens-rugby-7s-26-27-march-2015/
LOCATION:Hong Kong Football Club\, 3 Sports Road\, Causeway Bay\, Hong Kong
CATEGORIES:Rugby,Sport
GEO:22.275374;114.1822239
X-APPLE-STRUCTURED-LOCATION;VALUE=URI;X-ADDRESS=Hong Kong Football Club 3 Sports Road Causeway Bay Hong Kong;X-APPLE-RADIUS=500;X-TITLE=3 Sports Road:geo:114.1822239,22.275374
END:VEVENT
BEGIN:VEVENT
DTSTART;TZID=Asia/Hong_Kong:20150327T110000
DTEND;TZID=Asia/Hong_Kong:20150327T210000
DTSTAMP:20260423T224818
CREATED:20150102T062731Z
LAST-MODIFIED:20150203T034453Z
UID:10005483-1427454000-1427490000@www.bcmagazine.net
SUMMARY:HK Sevens - 27-29 March\, 2015
DESCRIPTION:The 40th Anniversary Sevens \nHong Kong 7s\nWhen: 27-29 March\, 2015\nWhere: HK Stadium\nHow much: $1800 (sold out)\nMore info: www.hksevens.com
URL:https://www.bcmagazine.net/event/hk-sevens-27-29-march-2015-3/
LOCATION:HK Stadium\, 55 Eastern Hospital Road\, So Kon Po\, Hong Kong
CATEGORIES:Rugby,Sport
GEO:22.2730073;114.1885121
X-APPLE-STRUCTURED-LOCATION;VALUE=URI;X-ADDRESS=HK Stadium 55 Eastern Hospital Road So Kon Po Hong Kong;X-APPLE-RADIUS=500;X-TITLE=55 Eastern Hospital Road:geo:114.1885121,22.2730073
END:VEVENT
BEGIN:VEVENT
DTSTART;TZID=Asia/Hong_Kong:20150328T090000
DTEND;TZID=Asia/Hong_Kong:20150328T210000
DTSTAMP:20260423T224818
CREATED:20150102T062811Z
LAST-MODIFIED:20150203T033556Z
UID:10005484-1427533200-1427576400@www.bcmagazine.net
SUMMARY:HK Sevens - 27-29 March\, 2015
DESCRIPTION:The 40th Anniversary Sevens \nHong Kong 7s\nWhen: 27-29 March\, 2015\nWhere: HK Stadium\nHow much: $1800 (sold out)\nMore info: www.hksevens.com
URL:https://www.bcmagazine.net/event/hk-sevens-27-29-march-2015-2/
LOCATION:HK Stadium\, 55 Eastern Hospital Road\, So Kon Po\, Hong Kong
CATEGORIES:Rugby,Sport
GEO:22.2730073;114.1885121
X-APPLE-STRUCTURED-LOCATION;VALUE=URI;X-ADDRESS=HK Stadium 55 Eastern Hospital Road So Kon Po Hong Kong;X-APPLE-RADIUS=500;X-TITLE=55 Eastern Hospital Road:geo:114.1885121,22.2730073
END:VEVENT
BEGIN:VEVENT
DTSTART;TZID=Asia/Hong_Kong:20150329T090000
DTEND;TZID=Asia/Hong_Kong:20150329T200000
DTSTAMP:20260423T224818
CREATED:20150102T062815Z
LAST-MODIFIED:20150203T033729Z
UID:10005485-1427619600-1427659200@www.bcmagazine.net
SUMMARY:HK Sevens - 27-29 March\, 2015
DESCRIPTION:The 40th Anniversary Sevens \nHong Kong 7s\nWhen: 27-29 March\, 2015\nWhere: HK Stadium\nHow much: $1800 (sold out)\nMore info: www.hksevens.com
URL:https://www.bcmagazine.net/event/hk-sevens-27-29-march-2015/
LOCATION:HK Stadium\, 55 Eastern Hospital Road\, So Kon Po\, Hong Kong
CATEGORIES:Rugby,Sport
GEO:22.2730073;114.1885121
X-APPLE-STRUCTURED-LOCATION;VALUE=URI;X-ADDRESS=HK Stadium 55 Eastern Hospital Road So Kon Po Hong Kong;X-APPLE-RADIUS=500;X-TITLE=55 Eastern Hospital Road:geo:114.1885121,22.2730073
END:VEVENT
END:VCALENDAR