BEGIN:VCALENDAR
VERSION:2.0
PRODID:-//bc magazine - ECPv6.15.20//NONSGML v1.0//EN
CALSCALE:GREGORIAN
METHOD:PUBLISH
X-WR-CALNAME:bc magazine
X-ORIGINAL-URL:https://www.bcmagazine.net
X-WR-CALDESC:Events for bc magazine
REFRESH-INTERVAL;VALUE=DURATION:PT1H
X-Robots-Tag:noindex
X-PUBLISHED-TTL:PT1H
BEGIN:VTIMEZONE
TZID:Asia/Hong_Kong
BEGIN:STANDARD
TZOFFSETFROM:+0800
TZOFFSETTO:+0800
TZNAME:HKT
DTSTART:20140101T000000
END:STANDARD
END:VTIMEZONE
BEGIN:VEVENT
DTSTART;VALUE=DATE:20150403
DTEND;VALUE=DATE:20150406
DTSTAMP:20260423T114830
CREATED:20150310T005334Z
LAST-MODIFIED:20150319T005436Z
UID:10005641-1428019200-1428278399@www.bcmagazine.net
SUMMARY:HKJC Community Festival @ Shatin Racecourse - 3-5 April\, 2015
DESCRIPTION:One of many events the Hong Kong Jockey Club is hosting as part of it’s 130th Anniversary celebrations is a Community Festival. The free entry event will be held at Sha Tin Racecourse and Penfold Park during Easter from 3 to 5 April\, 2015. The festival will feature a wide array of performances\, edutaining activities\, family games\, two Guinness World Record attempts\, fitness and football clinics and a wide range of dining choices. \nTickets are free via registration\, with a daily quota of 10\,000.
URL:https://www.bcmagazine.net/event/hkjc-community-festival-shatin-racecourse-3-5-april-2015/
LOCATION:Sha Tin Racecourse\, Sha Tin\, Hong Kong
CATEGORIES:Food,Sport
END:VEVENT
BEGIN:VEVENT
DTSTART;TZID=Asia/Hong_Kong:20150404T140000
DTEND;TZID=Asia/Hong_Kong:20150404T170000
DTSTAMP:20260423T114830
CREATED:20150313T072543Z
LAST-MODIFIED:20150313T080349Z
UID:10005651-1428156000-1428166800@www.bcmagazine.net
SUMMARY:Red Bull X Fighters Jams
DESCRIPTION:The freestyle motocross event Hong Kong X-Fighters Jams on April 4th will showcase 4 top riders Gilles Dejong (Belgium)\, Marcin Lukaszczyk (Poland)\, Marcus Dubois (Sweden) and Nick Franklin (New Zealand). \nRed Bull X Fighters Jams\nWhen: 2pm\, 4 April\, 2015 (Saturday)\nWhere: Central Harbourfront Event Space\nTickets: free admission\, no ticket required.\nMore info: www.redbull.hk/xfighersjams
URL:https://www.bcmagazine.net/event/red-bull-x-fighters-jams/
LOCATION:Central Harbourfront\,  9 Lung Wo Road\, Central\, Hong Kong
CATEGORIES:Sport
GEO:22.2826223;114.164346
X-APPLE-STRUCTURED-LOCATION;VALUE=URI;X-ADDRESS=Central Harbourfront  9 Lung Wo Road Central Hong Kong;X-APPLE-RADIUS=500;X-TITLE=9 Lung Wo Road:geo:114.164346,22.2826223
END:VEVENT
BEGIN:VEVENT
DTSTART;TZID=Asia/Hong_Kong:20150404T160000
DTEND;TZID=Asia/Hong_Kong:20150404T170000
DTSTAMP:20260423T114830
CREATED:20150105T230713Z
LAST-MODIFIED:20150105T230713Z
UID:10005500-1428163200-1428166800@www.bcmagazine.net
SUMMARY:International Pillow Fight Day 2015
DESCRIPTION:Bring your own pillow and join in the fun of International Pillow Fight Day
URL:https://www.bcmagazine.net/event/international-pillow-fight-day-2015/
LOCATION:Chater Garden\, Central\, Hong Kong
CATEGORIES:Sport
END:VEVENT
END:VCALENDAR