BEGIN:VCALENDAR
VERSION:2.0
PRODID:-//bc magazine - ECPv6.15.20//NONSGML v1.0//EN
CALSCALE:GREGORIAN
METHOD:PUBLISH
X-WR-CALNAME:bc magazine
X-ORIGINAL-URL:https://www.bcmagazine.net
X-WR-CALDESC:Events for bc magazine
REFRESH-INTERVAL;VALUE=DURATION:PT1H
X-Robots-Tag:noindex
X-PUBLISHED-TTL:PT1H
BEGIN:VTIMEZONE
TZID:Asia/Hong_Kong
BEGIN:STANDARD
TZOFFSETFROM:+0800
TZOFFSETTO:+0800
TZNAME:HKT
DTSTART:20140101T000000
END:STANDARD
END:VTIMEZONE
BEGIN:VEVENT
DTSTART;TZID=Asia/Hong_Kong:20150412T070000
DTEND;TZID=Asia/Hong_Kong:20150412T113000
DTSTAMP:20260421T113908
CREATED:20150226T043930Z
LAST-MODIFIED:20150226T043930Z
UID:10005613-1428822000-1428838200@www.bcmagazine.net
SUMMARY:Cycle for Millions 2015 - 12 April\, 2015
DESCRIPTION:Organised by Pok Oi Hospital the Pok Oi Cycle for Millions 2015 will be held on Sunday\, 12 April 2015. Now in its sixth year\, over 6500 cyclists are expected to participate in this year’s ride which will be held on Stonecutters Bridge and pass through the Nam Wan Tunnel. \nThe ride route is approximately 13km\, starting on the Tsing Sha Highway. Participants will ride through Nam Wan Tunnel and onto Stonecutters Bridge. Passing the turning point on Ngong Shung Road\, riders will then return to Tsing Sha Highway and hit the finishing line. \nPollution permitting\, the route across Stonecutters Bridge – the world’s second longest cable-stayed bridge – offers a magnificent view over Rambler Channel\, while riding through the Nam Wan Tunnel offers something new. \nThe Pok Oi Cycle for Millions 2015 is the biggest cycling event in Hong Kong with participants divided into two categories – individuals and corporate teams. As it’s a charity event and money talks those raising a significant amount of donations will be rewarded with gold\, silver or bronze ‘awards of donation’. Awards will be also given to the best dressed participants and those with creatively designed bicycles. \nEnter online at www.cycleformillions.com on a first-come-first-served basis. The minimum entry ‘donation’ is $680 for individuals and $28\,000 for teams. \nPok Oi Cycle for Millions 2015\nWhen: 7am\, 12 April 2015 (Sunday)\nWhere: Tsing Yi\nEntry fee: $680 (individuals)\, $28\,000 (teams)\nMore info: www.cycleformillions.com
URL:https://www.bcmagazine.net/event/cycle-for-millions-2015-12-april-2015/
CATEGORIES:Sport
END:VEVENT
END:VCALENDAR