BEGIN:VCALENDAR
VERSION:2.0
PRODID:-//bc magazine - ECPv6.15.20//NONSGML v1.0//EN
CALSCALE:GREGORIAN
METHOD:PUBLISH
X-WR-CALNAME:bc magazine
X-ORIGINAL-URL:https://www.bcmagazine.net
X-WR-CALDESC:Events for bc magazine
REFRESH-INTERVAL;VALUE=DURATION:PT1H
X-Robots-Tag:noindex
X-PUBLISHED-TTL:PT1H
BEGIN:VTIMEZONE
TZID:Asia/Hong_Kong
BEGIN:STANDARD
TZOFFSETFROM:+0800
TZOFFSETTO:+0800
TZNAME:HKT
DTSTART:20140101T000000
END:STANDARD
END:VTIMEZONE
BEGIN:VEVENT
DTSTART;VALUE=DATE:20150517
DTEND;VALUE=DATE:20150518
DTSTAMP:20260421T221749
CREATED:20150204T064830Z
LAST-MODIFIED:20150504T065630Z
UID:10005573-1431820800-1431907199@www.bcmagazine.net
SUMMARY:58th Festival of Sport - Indoor Rowing Sprint Challenge
DESCRIPTION:58th Festival of Sport – Indoor Rowing Sprint Challenge
URL:https://www.bcmagazine.net/event/58th-festival-of-sport-indoor-rowing-sprint-challenge/
LOCATION:Hong Kong
CATEGORIES:2015,Rowing,Sport
END:VEVENT
BEGIN:VEVENT
DTSTART;TZID=Asia/Hong_Kong:20150517T100000
DTEND;TZID=Asia/Hong_Kong:20150517T130000
DTSTAMP:20260421T221749
CREATED:20150514T073128Z
LAST-MODIFIED:20150514T074613Z
UID:10005867-1431856800-1431867600@www.bcmagazine.net
SUMMARY:Hong Kong Run for Nepal
DESCRIPTION:Hong Kong Run for Nepal\nDate: 10am\, 17 May 2015\nVenue: Shing Mun Country Park\nTickets: Donation\nMore info:\nEvent Centre: Shing Mun Reservoir Main Dam\nDistance: Challenge Category – 8km; Elite Category – 13km\nTime Limit: 3 hours\nQuota: 1\,000\nRegistration Deadline: 15 May 2015\nWebsite: www.hkrunfornepal.com
URL:https://www.bcmagazine.net/event/hong-kong-run-for-nepal/
CATEGORIES:2015,Sport
END:VEVENT
END:VCALENDAR