BEGIN:VCALENDAR
VERSION:2.0
PRODID:-//bc magazine - ECPv6.15.20//NONSGML v1.0//EN
CALSCALE:GREGORIAN
METHOD:PUBLISH
X-WR-CALNAME:bc magazine
X-ORIGINAL-URL:https://www.bcmagazine.net
X-WR-CALDESC:Events for bc magazine
REFRESH-INTERVAL;VALUE=DURATION:PT1H
X-Robots-Tag:noindex
X-PUBLISHED-TTL:PT1H
BEGIN:VTIMEZONE
TZID:Asia/Hong_Kong
BEGIN:STANDARD
TZOFFSETFROM:+0800
TZOFFSETTO:+0800
TZNAME:HKT
DTSTART:20140101T000000
END:STANDARD
END:VTIMEZONE
BEGIN:VEVENT
DTSTART;TZID=Asia/Hong_Kong:20150606T143000
DTEND;TZID=Asia/Hong_Kong:20150606T170000
DTSTAMP:20260423T115318
CREATED:20150528T134144Z
LAST-MODIFIED:20150528T134144Z
UID:10005919-1433601000-1433610000@www.bcmagazine.net
SUMMARY:Street Workout World Cup - Hong Kong
DESCRIPTION:Stage 5 of 22\, with the winner qualifying for the Super Final in Moscow later in the year\nStreet Workout World Cup – Hong Kong\nDate: 2:30pm\, 6 June\, 2015\nVenue: UG2 Atrium\, The One (100 Nathan Road)\nTickets: Free
URL:https://www.bcmagazine.net/event/street-workout-world-cup-hong-kong/
CATEGORIES:2015,Sport
END:VEVENT
BEGIN:VEVENT
DTSTART;VALUE=DATE:20150607
DTEND;VALUE=DATE:20150608
DTSTAMP:20260423T115318
CREATED:20150204T065904Z
LAST-MODIFIED:20150504T070033Z
UID:10005577-1433635200-1433721599@www.bcmagazine.net
SUMMARY:Shing Mun River Regatta III
DESCRIPTION:
URL:https://www.bcmagazine.net/event/shing-mun-river-regatta-iii/
LOCATION:Shing Mun River\, Hong Kong
CATEGORIES:2015,Rowing,Sport
END:VEVENT
BEGIN:VEVENT
DTSTART;TZID=Asia/Hong_Kong:20150607T080000
DTEND;TZID=Asia/Hong_Kong:20150607T180000
DTSTAMP:20260423T115318
CREATED:20150501T081115Z
LAST-MODIFIED:20150514T081817Z
UID:10005821-1433664000-1433700000@www.bcmagazine.net
SUMMARY:LimitlessChallengeHK
DESCRIPTION:LimitlessChallengeHK\nDate: 8am 7 June\, 2015\nVenue: West Kowloon Culture District\, West Kowloon Waterfront Promenade\nTickets: $400\, $380\, $20
URL:https://www.bcmagazine.net/event/limitlesschallengehk/
LOCATION:West Kowloon Culture District\, West Kowloon Waterfront Promenade\, Hong Kong
CATEGORIES:2015,Sport
GEO:22.302243;114.155596
X-APPLE-STRUCTURED-LOCATION;VALUE=URI;X-ADDRESS=West Kowloon Culture District West Kowloon Waterfront Promenade Hong Kong;X-APPLE-RADIUS=500;X-TITLE=West Kowloon Waterfront Promenade:geo:114.155596,22.302243
END:VEVENT
BEGIN:VEVENT
DTSTART;TZID=Asia/Hong_Kong:20150607T190000
DTEND;TZID=Asia/Hong_Kong:20150607T220000
DTSTAMP:20260423T115318
CREATED:20150507T091657Z
LAST-MODIFIED:20150518T092153Z
UID:10004777-1433703600-1433714400@www.bcmagazine.net
SUMMARY:Libogen Fight Night
DESCRIPTION:Libogen Fight Night\nDate: 7pm 7 June\, 2015\nVenue: KITEC\, Rotunda 3\nTickets: $1\,000\, $800\, $500\, $300
URL:https://www.bcmagazine.net/event/libogen-fight-night/
LOCATION:KITEC\, Star Hall\, KITEC\, 1 Trademart Drive\, Kowloon Bay\, Hong Kong
CATEGORIES:2015,Boxing,Sport
GEO:22.3239575;114.2037608
X-APPLE-STRUCTURED-LOCATION;VALUE=URI;X-ADDRESS=KITEC Star Hall KITEC 1 Trademart Drive Kowloon Bay Hong Kong;X-APPLE-RADIUS=500;X-TITLE=KITEC\, 1 Trademart Drive:geo:114.2037608,22.3239575
END:VEVENT
END:VCALENDAR