BEGIN:VCALENDAR
VERSION:2.0
PRODID:-//bc magazine - ECPv6.15.20//NONSGML v1.0//EN
CALSCALE:GREGORIAN
METHOD:PUBLISH
X-WR-CALNAME:bc magazine
X-ORIGINAL-URL:https://www.bcmagazine.net
X-WR-CALDESC:Events for bc magazine
REFRESH-INTERVAL;VALUE=DURATION:PT1H
X-Robots-Tag:noindex
X-PUBLISHED-TTL:PT1H
BEGIN:VTIMEZONE
TZID:Asia/Hong_Kong
BEGIN:STANDARD
TZOFFSETFROM:+0800
TZOFFSETTO:+0800
TZNAME:HKT
DTSTART:20140101T000000
END:STANDARD
END:VTIMEZONE
BEGIN:VEVENT
DTSTART;TZID=Asia/Hong_Kong:20150616T200000
DTEND;TZID=Asia/Hong_Kong:20150616T230000
DTSTAMP:20260422T144155
CREATED:20150612T061050Z
LAST-MODIFIED:20150607T061357Z
UID:10004994-1434484800-1434495600@www.bcmagazine.net
SUMMARY:Hong Kong v Maldives
DESCRIPTION:Hong Kong v Maldives\nWorld Cup 2018 Qualifier\nDate: 8pm\, 16 June\, 2015\nVenue: Mongkok Stadium\nTickets: $130 \n 
URL:https://www.bcmagazine.net/event/hong-kong-v-maldives/
LOCATION:Mongkok Stadium\, 37 Flower Street\, Yau Ma Tai\, Prince Edward (Exit A)\, United States
CATEGORIES:2015,Football,Sport
END:VEVENT
BEGIN:VEVENT
DTSTART;VALUE=DATE:20150620
DTEND;VALUE=DATE:20150622
DTSTAMP:20260422T144155
CREATED:20150503T055602Z
LAST-MODIFIED:20150505T055929Z
UID:10005834-1434758400-1434931199@www.bcmagazine.net
SUMMARY:8th Hong Kong DanceSport Festival WDSF GrandSlam - 20-21 June\, 2015
DESCRIPTION:8th Hong Kong DanceSport Festival WDSF GrandSlam\nHong Kong DanceSport Association\nDate: 7pm\, 20-21 June\, 2015\nVenue: Queen Elizabeth Stadium\, Arena\nTickets: $500\, $300\, $200\, $100\, $50 from URBTIX
URL:https://www.bcmagazine.net/event/8th-hong-kong-dancesport-festival-wdsf-grandslam-20-21-june-2015/
LOCATION:Queen Elizabeth Stadium\, 18 Oi Kwan Road\, Wanchai\, Hong Kong
CATEGORIES:2015,Sport
GEO:22.2751271;114.1789682
X-APPLE-STRUCTURED-LOCATION;VALUE=URI;X-ADDRESS=Queen Elizabeth Stadium 18 Oi Kwan Road Wanchai Hong Kong;X-APPLE-RADIUS=500;X-TITLE=18 Oi Kwan Road:geo:114.1789682,22.2751271
END:VEVENT
BEGIN:VEVENT
DTSTART;TZID=Asia/Hong_Kong:20150620T080000
DTEND;TZID=Asia/Hong_Kong:20150620T170000
DTSTAMP:20260422T144156
CREATED:20150616T131801Z
LAST-MODIFIED:20150616T131801Z
UID:10004999-1434787200-1434819600@www.bcmagazine.net
SUMMARY:All China Gealic Games
DESCRIPTION:All China Gealic Games\nDate: 20 June\, 2015\nVenue: Kings Park\nTickets: Free
URL:https://www.bcmagazine.net/event/all-china-gealic-games/
LOCATION:Hong Kong
CATEGORIES:2015,Sport
END:VEVENT
BEGIN:VEVENT
DTSTART;TZID=Asia/Hong_Kong:20150620T103000
DTEND;TZID=Asia/Hong_Kong:20150620T183000
DTSTAMP:20260422T144156
CREATED:20150429T112327Z
LAST-MODIFIED:20150529T112632Z
UID:10005807-1434796200-1434825000@www.bcmagazine.net
SUMMARY:Stanley International Dragon Boat Championships 2015
DESCRIPTION:Stanley International Dragon Boat Championships 2015\nDate: 10:30am 20 June\, 2015\nVenue: Stanley Main Beach\nTickets: Free
URL:https://www.bcmagazine.net/event/stanley-international-dragon-boat-championships-2015/
LOCATION:Stanley Main Beach\, Stanley Beach Rd\, Stanley\, Hong Kong
CATEGORIES:2015,Sport
GEO:22.2217985;114.2138349
X-APPLE-STRUCTURED-LOCATION;VALUE=URI;X-ADDRESS=Stanley Main Beach Stanley Beach Rd Stanley Hong Kong;X-APPLE-RADIUS=500;X-TITLE=Stanley Beach Rd:geo:114.2138349,22.2217985
END:VEVENT
END:VCALENDAR