BEGIN:VCALENDAR
VERSION:2.0
PRODID:-//bc magazine - ECPv6.15.20//NONSGML v1.0//EN
CALSCALE:GREGORIAN
METHOD:PUBLISH
X-WR-CALNAME:bc magazine
X-ORIGINAL-URL:https://www.bcmagazine.net
X-WR-CALDESC:Events for bc magazine
REFRESH-INTERVAL;VALUE=DURATION:PT1H
X-Robots-Tag:noindex
X-PUBLISHED-TTL:PT1H
BEGIN:VTIMEZONE
TZID:Asia/Hong_Kong
BEGIN:STANDARD
TZOFFSETFROM:+0800
TZOFFSETTO:+0800
TZNAME:HKT
DTSTART:20140101T000000
END:STANDARD
END:VTIMEZONE
BEGIN:VEVENT
DTSTART;TZID=Asia/Hong_Kong:20150908T200000
DTEND;TZID=Asia/Hong_Kong:20150908T230000
DTSTAMP:20260424T003747
CREATED:20150624T101617Z
LAST-MODIFIED:20150625T015236Z
UID:10006031-1441742400-1441753200@www.bcmagazine.net
SUMMARY:Hong Kong v Qatar
DESCRIPTION:http://bcmagazine.smugmug.com/Bcene-photos/2015/Hong-Kong-v-Bhutan-Mongkok2015/49874690_PTCPpt#!i=4124735254&k=4BkR6xF \nTickets for the third home game in Hong Kong’s World Cup qualification campaign against Qatar at Mongkok Stadium on the 8 September go on sale on the 3 July from Cityline price $130. \nThere are currently no ticket details for the Hong Kong v China game on 17 November – although it expected that the game will take place at the HK Stadium\, subject to LCSD approval. \n \nHong Kong v Qatar\nWorld Cup Qualifier\nDate: 8pm\, 8 September\, 2015\nVenue: Mongkok Stadium\nTickets: $130 – on sale 3 July from Cityline
URL:https://www.bcmagazine.net/event/hong-kong-v-qatar/
LOCATION:Mongkok Stadium\, 37 Flower Street\, Yau Ma Tai\, Prince Edward (Exit A)\, United States
CATEGORIES:2015,Football,Sport
END:VEVENT
BEGIN:VEVENT
DTSTART;VALUE=DATE:20150912
DTEND;VALUE=DATE:20150913
DTSTAMP:20260424T003747
CREATED:20150720T110943Z
LAST-MODIFIED:20150820T111543Z
UID:10005042-1442016000-1442102399@www.bcmagazine.net
SUMMARY:Macau Beach Rugby
DESCRIPTION:Macau Beach Rugby Tournament\nWhen: 12 September\, 2015\nWhere: Hac Sa Beach\, Coloane\, Macau\nTickets: Free\nMore info: macaurugbyclub@gmail.com
URL:https://www.bcmagazine.net/event/macau-beach-rugby-2015/
CATEGORIES:2015,Macau,Rugby,Sport
END:VEVENT
END:VCALENDAR