BEGIN:VCALENDAR
VERSION:2.0
PRODID:-//bc magazine - ECPv6.15.20//NONSGML v1.0//EN
CALSCALE:GREGORIAN
METHOD:PUBLISH
X-WR-CALNAME:bc magazine
X-ORIGINAL-URL:https://www.bcmagazine.net
X-WR-CALDESC:Events for bc magazine
REFRESH-INTERVAL;VALUE=DURATION:PT1H
X-Robots-Tag:noindex
X-PUBLISHED-TTL:PT1H
BEGIN:VTIMEZONE
TZID:Asia/Hong_Kong
BEGIN:STANDARD
TZOFFSETFROM:+0800
TZOFFSETTO:+0800
TZNAME:HKT
DTSTART:20140101T000000
END:STANDARD
END:VTIMEZONE
BEGIN:VEVENT
DTSTART;VALUE=DATE:20151001
DTEND;VALUE=DATE:20151005
DTSTAMP:20260422T053331
CREATED:20150930T234610Z
LAST-MODIFIED:20150930T234610Z
UID:10005068-1443657600-1444003199@www.bcmagazine.net
SUMMARY:HK Women’s Beach Volleyball Championship
DESCRIPTION:24 teams from 13 countries will strut their stuff at the 2015 AVC Beach Volleyball Tour – Hong Kong Open Women’s Championship between October 1 to 4. The event takes place at the Kwai Chung Sports Ground and entry is free. \nHong Kong Teams: To Wing Tung (C )\, Koo Yung Yung; Ng Tin Lai (C )\, Wong Yuen Mei; Lo Wai Yan (C )\, Tam Hin Ching\, Rachel \n \nAsia Women’s Beach Volleyball Championship\nDate: 1-4 October\, 2015\nVenue: Kwai Chung Sports Ground\nTickets: Free \nImages – courtesy of Panda Man
URL:https://www.bcmagazine.net/event/hk-womens-beach-volleyball-championship/
LOCATION:Kwai Chung Sports Ground\, 93 Hing Shing Road\, Kwai Chung\, Hong Kong
CATEGORIES:2015,Beach Volleyball,Sport
GEO:22.3585465;114.1249525
X-APPLE-STRUCTURED-LOCATION;VALUE=URI;X-ADDRESS=Kwai Chung Sports Ground 93 Hing Shing Road Kwai Chung Hong Kong;X-APPLE-RADIUS=500;X-TITLE=93 Hing Shing Road:geo:114.1249525,22.3585465
END:VEVENT
BEGIN:VEVENT
DTSTART;VALUE=DATE:20151004
DTEND;VALUE=DATE:20151005
DTSTAMP:20260422T053331
CREATED:19150908T034924Z
LAST-MODIFIED:20150908T035240Z
UID:10000362-1443916800-1444003199@www.bcmagazine.net
SUMMARY:Lantau 2 Peaks 23k
DESCRIPTION:Lantau 2 Peaks 23k\nDate: 4 October\, 2015\nVenue: Lantau\nTickets: $1\,430\, $730\, $380
URL:https://www.bcmagazine.net/event/lantau-2-peaks-23k/
LOCATION:Lantau\, Lantau\, Hong Kong
CATEGORIES:2015,Sport
END:VEVENT
END:VCALENDAR