BEGIN:VCALENDAR
VERSION:2.0
PRODID:-//bc magazine - ECPv6.15.20//NONSGML v1.0//EN
CALSCALE:GREGORIAN
METHOD:PUBLISH
X-WR-CALNAME:bc magazine
X-ORIGINAL-URL:https://www.bcmagazine.net
X-WR-CALDESC:Events for bc magazine
REFRESH-INTERVAL;VALUE=DURATION:PT1H
X-Robots-Tag:noindex
X-PUBLISHED-TTL:PT1H
BEGIN:VTIMEZONE
TZID:Asia/Hong_Kong
BEGIN:STANDARD
TZOFFSETFROM:+0800
TZOFFSETTO:+0800
TZNAME:HKT
DTSTART:20140101T000000
END:STANDARD
END:VTIMEZONE
BEGIN:VEVENT
DTSTART;TZID=Asia/Hong_Kong:20151015T180000
DTEND;TZID=Asia/Hong_Kong:20151015T230000
DTSTAMP:20260421T045724
CREATED:20150921T143413Z
LAST-MODIFIED:20150921T144247Z
UID:10006076-1444932000-1444950000@www.bcmagazine.net
SUMMARY:EPL All Stars Tour Hong Kong
DESCRIPTION:EPL All Stars Tour Hong Kong\nDate: 6pm\, 15 October\, 2015\nVenue: Siu Sai Wan Sports Ground\nTickets: $680\, $250\, $150 from Cityline
URL:https://www.bcmagazine.net/event/epl-all-stars-tour-hong-kong-2015/
LOCATION:Siu Sai Wan Sports Ground\, 8 Fu Hong Street\, Siu Sai Wan\, Hong Kong
CATEGORIES:2015,Football,Sport
GEO:22.268424;114.249054
X-APPLE-STRUCTURED-LOCATION;VALUE=URI;X-ADDRESS=Siu Sai Wan Sports Ground 8 Fu Hong Street Siu Sai Wan Hong Kong;X-APPLE-RADIUS=500;X-TITLE=8 Fu Hong Street:geo:114.249054,22.268424
END:VEVENT
BEGIN:VEVENT
DTSTART;VALUE=DATE:20151017
DTEND;VALUE=DATE:20151018
DTSTAMP:20260421T045724
CREATED:20150705T074740Z
LAST-MODIFIED:20150707T080437Z
UID:10005031-1445040000-1445126399@www.bcmagazine.net
SUMMARY:Totem Run
DESCRIPTION:The second Totem Trail Run on the 17 October features three races: 16km Taste with the Wild\, 16km Chill with the Wild and 57km Fight with the Wild. All three races will finish at Tai Mo Shan Rotary Park with the two shorter races starting at the Shing Mun Reservoir Main Dam while the 57km race starts from Pak Tam Chung \nTotem Run\nDate: 17 October\, 2015\nVenue: Hong Kong\nTickets: $500 to race\, free to watch\nMore info: http://totemrun.runourcity.org/en/about/
URL:https://www.bcmagazine.net/event/totem-run/
CATEGORIES:2015,Sport
END:VEVENT
BEGIN:VEVENT
DTSTART;VALUE=DATE:20151018
DTEND;VALUE=DATE:20151019
DTSTAMP:20260421T045724
CREATED:20150609T125650Z
LAST-MODIFIED:20150609T125650Z
UID:10006017-1445126400-1445212799@www.bcmagazine.net
SUMMARY:Victoria Harbour Race 2015
DESCRIPTION:The fifth Victoria Harbour Race takes place on the 18th October from Lei Yue Mun Sam Ka Tsuen Public Pier to Quarry Bay Park Public Pier. \nOnline entry registration starts at www.hkharbourrace.com on the 10th June with the number of entries increased to 2500 this year. \nHarbour Race 2015\nDate: 18 October\, 2015\nVenue: Victoria Harbour\nTickets: Online registration starts on 10 June 2015
URL:https://www.bcmagazine.net/event/victoria-harbour-race-2015/
LOCATION:Victoria Harbour\, Hong Kong
CATEGORIES:2015,Sport
END:VEVENT
END:VCALENDAR