BEGIN:VCALENDAR
VERSION:2.0
PRODID:-//bc magazine - ECPv6.15.20//NONSGML v1.0//EN
CALSCALE:GREGORIAN
METHOD:PUBLISH
X-WR-CALNAME:bc magazine
X-ORIGINAL-URL:https://www.bcmagazine.net
X-WR-CALDESC:Events for bc magazine
REFRESH-INTERVAL;VALUE=DURATION:PT1H
X-Robots-Tag:noindex
X-PUBLISHED-TTL:PT1H
BEGIN:VTIMEZONE
TZID:Asia/Hong_Kong
BEGIN:STANDARD
TZOFFSETFROM:+0800
TZOFFSETTO:+0800
TZNAME:HKT
DTSTART:20140101T000000
END:STANDARD
END:VTIMEZONE
BEGIN:VEVENT
DTSTART;VALUE=DATE:20151117
DTEND;VALUE=DATE:20151118
DTSTAMP:20260421T234721
CREATED:20150507T071404Z
LAST-MODIFIED:20150707T072034Z
UID:10005858-1447718400-1447804799@www.bcmagazine.net
SUMMARY:Hong Kong Cup of Nations
DESCRIPTION:The Hong Kong Cup of Nations features the national teams of Portugal\, Russia\, Zimbabwe and Hong Kong who will play for a round-robin competition featuring six matches played over three match days. \nHong Kong Cup of Nations\nDate: 13. 17\, 21 November\, 2015\nVenue: tbc\nTickets: tbc
URL:https://www.bcmagazine.net/event/hong-kong-cup-of-nations-2/
CATEGORIES:2015,Rugby,Sport
END:VEVENT
BEGIN:VEVENT
DTSTART;VALUE=DATE:20151117
DTEND;VALUE=DATE:20151123
DTSTAMP:20260421T234721
CREATED:19151020T093454Z
LAST-MODIFIED:20151020T093926Z
UID:10000470-1447718400-1448236799@www.bcmagazine.net
SUMMARY:HK Badminton Open
DESCRIPTION:HK Badminton Open\nDate: 17-22 November\, 2015\nVenue: HK Coliseum\nTickets: various\nMore info: www.bwfbadminton.org
URL:https://www.bcmagazine.net/event/hk-badminton-open/
LOCATION:HK Coliseum\, 9 Cheong Wan Road\, Hung Hom\, Hong Kong
CATEGORIES:2015,Sport
GEO:22.3014169;114.1820305
X-APPLE-STRUCTURED-LOCATION;VALUE=URI;X-ADDRESS=HK Coliseum 9 Cheong Wan Road Hung Hom Hong Kong;X-APPLE-RADIUS=500;X-TITLE=9 Cheong Wan Road:geo:114.1820305,22.3014169
END:VEVENT
BEGIN:VEVENT
DTSTART;TZID=Asia/Hong_Kong:20151117T200000
DTEND;TZID=Asia/Hong_Kong:20151117T230000
DTSTAMP:20260421T234721
CREATED:20150524T101750Z
LAST-MODIFIED:20151104T005753Z
UID:10005910-1447790400-1447801200@www.bcmagazine.net
SUMMARY:Hong Kong v China
DESCRIPTION:Hong Kong v China\nWorld Cup Qualifier\nDate: 8pm\, 17 November\, 2015\nVenue: Mong Kok Stadium\nTickets: $150 from Cityline
URL:https://www.bcmagazine.net/event/4889/
LOCATION:Mongkok Stadium\, 37 Flower Street\, Yau Ma Tai\, Prince Edward (Exit A)\, United States
CATEGORIES:2015,Football,Sport
END:VEVENT
BEGIN:VEVENT
DTSTART;VALUE=DATE:20151119
DTEND;VALUE=DATE:20151123
DTSTAMP:20260421T234721
CREATED:20150504T080032Z
LAST-MODIFIED:20151024T120243Z
UID:10005839-1447891200-1448236799@www.bcmagazine.net
SUMMARY:62nd Macau Grand Prix
DESCRIPTION:The dates for this year’s Macau Grand Prix have been confirmed as the weekend of the 19-22 November\, 2015. Ticket reservations can be made online now at www.macauticket.com. \n62nd Macau Grand Prix\nDate: 19-22 November\, 2015\nVenue: Circuit Guia\nTickets: $900\, $550\, $50 ticket reservations at MacauTicket
URL:https://www.bcmagazine.net/event/62nd-macau-grand-prix-19-22-november-2015/
LOCATION:Hong Kong
CATEGORIES:Macau,Sport
END:VEVENT
BEGIN:VEVENT
DTSTART;VALUE=DATE:20151120
DTEND;VALUE=DATE:20151123
DTSTAMP:20260421T234721
CREATED:20150811T055648Z
LAST-MODIFIED:20171020T072410Z
UID:10006069-1447977600-1448236799@www.bcmagazine.net
SUMMARY:Trailwalker
DESCRIPTION:Trailwalker began in Hong Kong in 1981 as a military training exercise for the elite Queen’s Gurkha Signals Regiment. In 1986\, Oxfam Hong Kong was invited to co-organise the event and in the same year the event was open to the public. Hong Kong’s ‘reunification’ with China in 1997 saw the retreat of the Gurkhas and Oxfam Hong Kong took over the event. Through the years\, Oxfam Trailwalker has become one of the largest fundraising and hiking events\, and in 2015 will be held in 16 cities in 10 countries including Hong Kong. \nLocally Trailwalker is one of the largest fundraising sports events and since 1986\, more than 73\,000 participants have raised over HK$365 million. The 2015 edition of Trailwalker takes place on the 20-22 November\, 2015 \nTrailwalker\nWhen: 20-22 November\, 2015\nWhere: The Maclehose Trail\nWebsite: www.oxfamtrailwalker.org.hk
URL:https://www.bcmagazine.net/event/trailwalker/
CATEGORIES:2015,Sport
END:VEVENT
BEGIN:VEVENT
DTSTART;VALUE=DATE:20151121
DTEND;VALUE=DATE:20151122
DTSTAMP:20260421T234721
CREATED:20150507T071408Z
LAST-MODIFIED:20150707T071935Z
UID:10005859-1448064000-1448150399@www.bcmagazine.net
SUMMARY:Hong Kong Cup of Nations
DESCRIPTION:The Hong Kong Cup of Nations features the national teams of Portugal\, Russia\, Zimbabwe and Hong Kong who will play for a round-robin competition featuring six matches played over three match days. \nHong Kong Cup of Nations\nDate: 13. 17\, 21 November\, 2015\nVenue: tbc\nTickets: tbc
URL:https://www.bcmagazine.net/event/hong-kong-cup-of-nations/
CATEGORIES:2015,Rugby,Sport
END:VEVENT
END:VCALENDAR