BEGIN:VCALENDAR
VERSION:2.0
PRODID:-//bc magazine - ECPv6.15.20//NONSGML v1.0//EN
CALSCALE:GREGORIAN
METHOD:PUBLISH
X-WR-CALNAME:bc magazine
X-ORIGINAL-URL:https://www.bcmagazine.net
X-WR-CALDESC:Events for bc magazine
REFRESH-INTERVAL;VALUE=DURATION:PT1H
X-Robots-Tag:noindex
X-PUBLISHED-TTL:PT1H
BEGIN:VTIMEZONE
TZID:Asia/Hong_Kong
BEGIN:STANDARD
TZOFFSETFROM:+0800
TZOFFSETTO:+0800
TZNAME:HKT
DTSTART:20150101T000000
END:STANDARD
END:VTIMEZONE
BEGIN:VEVENT
DTSTART;TZID=Asia/Hong_Kong:20160609T103000
DTEND;TZID=Asia/Hong_Kong:20160609T180000
DTSTAMP:20260422T154405
CREATED:19160518T014739Z
LAST-MODIFIED:20160518T015354Z
UID:10000507-1465468200-1465495200@www.bcmagazine.net
SUMMARY:Stanley International Dragon Boat Championships
DESCRIPTION:Stanley International Dragon Boat Championships\nDate: 10:30am\, 9 June\, 2016\nVenue: Stanley Main Beach\nTickets: Free
URL:https://www.bcmagazine.net/event/stanley-international-dragon-boat-championships-2016/
LOCATION:Stanley Main Beach\, Stanley Beach Rd\, Stanley\, Hong Kong
CATEGORIES:2016,Free,Sport
GEO:22.2217985;114.2138349
X-APPLE-STRUCTURED-LOCATION;VALUE=URI;X-ADDRESS=Stanley Main Beach Stanley Beach Rd Stanley Hong Kong;X-APPLE-RADIUS=500;X-TITLE=Stanley Beach Rd:geo:114.2138349,22.2217985
END:VEVENT
BEGIN:VEVENT
DTSTART;TZID=Asia/Hong_Kong:20160610T120000
DTEND;TZID=Asia/Hong_Kong:20160610T173000
DTSTAMP:20260422T154405
CREATED:19160524T104228Z
LAST-MODIFIED:20160524T104850Z
UID:10000514-1465560000-1465579800@www.bcmagazine.net
SUMMARY:Dragon Boat Carnival
DESCRIPTION:  \nDragon Boat Carnival\nDate:10-12 June\, 2016\nVenue: Central Harbourfront\nTickets: Free\nMore info:\n10 June – 12pm to 5:30pm\n11-12 June – 8:30am to 5:30pm \n 
URL:https://www.bcmagazine.net/event/dragon-boat-carnival-2016/2016-06-10/
LOCATION:Central Harbourfront\,  9 Lung Wo Road\, Central\, Hong Kong
CATEGORIES:2016,Cultural Festival,Sport
GEO:22.2826223;114.164346
X-APPLE-STRUCTURED-LOCATION;VALUE=URI;X-ADDRESS=Central Harbourfront  9 Lung Wo Road Central Hong Kong;X-APPLE-RADIUS=500;X-TITLE=9 Lung Wo Road:geo:114.164346,22.2826223
END:VEVENT
BEGIN:VEVENT
DTSTART;TZID=Asia/Hong_Kong:20160612T183000
DTEND;TZID=Asia/Hong_Kong:20160612T183000
DTSTAMP:20260422T154405
CREATED:19160530T170703Z
LAST-MODIFIED:20160530T171008Z
UID:10000572-1465756200-1465756200@www.bcmagazine.net
SUMMARY:Hong Kong Bodybuilding Championships
DESCRIPTION:Hong Kong Bodybuilding Championships\nDate: 6:30pm\, 12 June 2016\nVenue: Queen Elizabeth Stadium\nTickets: $120\, $100 from Urbtix
URL:https://www.bcmagazine.net/event/hk-bodybuilding-championships-2016/
LOCATION:Queen Elizabeth Stadium\, 18 Oi Kwan Road\, Wanchai\, Hong Kong
CATEGORIES:2016,Sport
GEO:22.2751271;114.1789682
X-APPLE-STRUCTURED-LOCATION;VALUE=URI;X-ADDRESS=Queen Elizabeth Stadium 18 Oi Kwan Road Wanchai Hong Kong;X-APPLE-RADIUS=500;X-TITLE=18 Oi Kwan Road:geo:114.1789682,22.2751271
END:VEVENT
END:VCALENDAR