BEGIN:VCALENDAR
VERSION:2.0
PRODID:-//bc magazine - ECPv6.15.20//NONSGML v1.0//EN
CALSCALE:GREGORIAN
METHOD:PUBLISH
X-WR-CALNAME:bc magazine
X-ORIGINAL-URL:https://www.bcmagazine.net
X-WR-CALDESC:Events for bc magazine
REFRESH-INTERVAL;VALUE=DURATION:PT1H
X-Robots-Tag:noindex
X-PUBLISHED-TTL:PT1H
BEGIN:VTIMEZONE
TZID:Asia/Hong_Kong
BEGIN:STANDARD
TZOFFSETFROM:+0800
TZOFFSETTO:+0800
TZNAME:HKT
DTSTART:20150101T000000
END:STANDARD
END:VTIMEZONE
BEGIN:VEVENT
DTSTART;TZID=Asia/Hong_Kong:20160829T090000
DTEND;TZID=Asia/Hong_Kong:20160829T230000
DTSTAMP:20260422T161513
CREATED:19160824T050825Z
LAST-MODIFIED:20160824T053552Z
UID:10001955-1472461200-1472511600@www.bcmagazine.net
SUMMARY:Slide the City
DESCRIPTION:Slide the City\nDate: 9am-11pm\, 24-29 August\, 2016\nVenue: Central Harbourfront\nTickets: $540-$180
URL:https://www.bcmagazine.net/event/slide-the-city-2/2016-08-29/
LOCATION:Central Harbourfront\,  9 Lung Wo Road\, Central\, Hong Kong
CATEGORIES:2016,Sport
GEO:22.2826223;114.164346
X-APPLE-STRUCTURED-LOCATION;VALUE=URI;X-ADDRESS=Central Harbourfront  9 Lung Wo Road Central Hong Kong;X-APPLE-RADIUS=500;X-TITLE=9 Lung Wo Road:geo:114.164346,22.2826223
END:VEVENT
BEGIN:VEVENT
DTSTART;TZID=Asia/Hong_Kong:20160901T200000
DTEND;TZID=Asia/Hong_Kong:20160901T200000
DTSTAMP:20260422T161513
CREATED:19160812T160544Z
LAST-MODIFIED:20160812T164953Z
UID:10000663-1472760000-1472760000@www.bcmagazine.net
SUMMARY:Hong Kong v Cambodia
DESCRIPTION:Hong Kong v Cambodia\nDate: 8pm\, 1 September\, 2016\nVenue: Mongkok Stadium\nTickets: $150
URL:https://www.bcmagazine.net/event/hong-kong-v-cambodia-2016/
LOCATION:Mongkok Stadium\, 37 Flower Street\, Yau Ma Tai\, Prince Edward (Exit A)\, United States
CATEGORIES:2016,Football,Sport
END:VEVENT
BEGIN:VEVENT
DTSTART;VALUE=DATE:20160902
DTEND;VALUE=DATE:20160904
DTSTAMP:20260422T161513
CREATED:19160819T095015Z
LAST-MODIFIED:20160819T095426Z
UID:10001934-1472774400-1472947199@www.bcmagazine.net
SUMMARY:Asia Rugby Sevens Series
DESCRIPTION:Asia Rugby Sevens Series\nDate: 2-3 September\, 2016\nVenue: HK Football Club\nTickets: Free (tbc)\nMore info: public entry via Happy Valley infield\, via the tunnel near the HK Racing Museum
URL:https://www.bcmagazine.net/event/asia-rugby-sevens-series-2016/
LOCATION:Hong Kong Football Club\, 3 Sports Road\, Causeway Bay\, Hong Kong
CATEGORIES:2016,Rugby,Sport
GEO:22.275374;114.1822239
X-APPLE-STRUCTURED-LOCATION;VALUE=URI;X-ADDRESS=Hong Kong Football Club 3 Sports Road Causeway Bay Hong Kong;X-APPLE-RADIUS=500;X-TITLE=3 Sports Road:geo:114.1822239,22.275374
END:VEVENT
BEGIN:VEVENT
DTSTART;TZID=Asia/Hong_Kong:20160903T090000
DTEND;TZID=Asia/Hong_Kong:20160903T090000
DTSTAMP:20260422T161513
CREATED:19160829T005423Z
LAST-MODIFIED:20160829T010329Z
UID:10001966-1472893200-1472893200@www.bcmagazine.net
SUMMARY:The Green Race
DESCRIPTION:The Green Race\nDate: 9am\, 3 September\, 2016\nVenue: Plover Cove\nTickets: $400\, $350\, $225
URL:https://www.bcmagazine.net/event/the-green-race-03092016/
LOCATION:Plover Cove Reservoir\, Tai Po\, Hong Kong
CATEGORIES:2016,Sport
END:VEVENT
BEGIN:VEVENT
DTSTART;TZID=Asia/Hong_Kong:20160903T091500
DTEND;TZID=Asia/Hong_Kong:20160903T091500
DTSTAMP:20260422T161513
CREATED:20160919T105037Z
LAST-MODIFIED:20160919T105037Z
UID:10006335-1472894100-1472894100@www.bcmagazine.net
SUMMARY:PACC v USRC
DESCRIPTION:Women’s T20 A: PACC v USRC
URL:https://www.bcmagazine.net/event/pacc-v-usrc/
CATEGORIES:2016,Free,Sport
END:VEVENT
BEGIN:VEVENT
DTSTART;TZID=Asia/Hong_Kong:20160903T091500
DTEND;TZID=Asia/Hong_Kong:20160903T091500
DTSTAMP:20260422T161513
CREATED:20160919T105038Z
LAST-MODIFIED:20160919T105038Z
UID:10006337-1472894100-1472894100@www.bcmagazine.net
SUMMARY:PACC v USRC
DESCRIPTION:Women’s T20 A: PACC v USRC
URL:https://www.bcmagazine.net/event/pacc-v-usrc-2/
LOCATION:Tin Kwong Road Recreation Ground\, Tin Kwong Road\, Mong Kok\, Hong Kong
CATEGORIES:2016,Cricket,Free,Sport
GEO:22.3219997;114.1847986
X-APPLE-STRUCTURED-LOCATION;VALUE=URI;X-ADDRESS=Tin Kwong Road Recreation Ground Tin Kwong Road Mong Kok Hong Kong;X-APPLE-RADIUS=500;X-TITLE=Tin Kwong Road:geo:114.1847986,22.3219997
END:VEVENT
BEGIN:VEVENT
DTSTART;TZID=Asia/Hong_Kong:20160903T123000
DTEND;TZID=Asia/Hong_Kong:20160903T123000
DTSTAMP:20260422T161513
CREATED:20160919T105037Z
LAST-MODIFIED:20160919T105037Z
UID:10006336-1472905800-1472905800@www.bcmagazine.net
SUMMARY:DLSWCC Spartans v Centaurs
DESCRIPTION:Championship League B: DLSWCC Spartans v Centaurs
URL:https://www.bcmagazine.net/event/dlswcc-spartans-v-centaurs-2/
LOCATION:Po Kong Village Road Park\, 140 Po Kong Village Road\, Diamond Hill\, Hong Kong
CATEGORIES:2016,Cricket,Free,Sport
GEO:22.3435827;114.2044989
X-APPLE-STRUCTURED-LOCATION;VALUE=URI;X-ADDRESS=Po Kong Village Road Park 140 Po Kong Village Road Diamond Hill Hong Kong;X-APPLE-RADIUS=500;X-TITLE=140 Po Kong Village Road:geo:114.2044989,22.3435827
END:VEVENT
BEGIN:VEVENT
DTSTART;TZID=Asia/Hong_Kong:20160903T130000
DTEND;TZID=Asia/Hong_Kong:20160903T130000
DTSTAMP:20260422T161513
CREATED:20160919T105036Z
LAST-MODIFIED:20160919T105036Z
UID:10006334-1472907600-1472907600@www.bcmagazine.net
SUMMARY:KCC Tartars v CCC Jing Sun
DESCRIPTION:Championship League A: KCC Tartars v CCC Jing Sun
URL:https://www.bcmagazine.net/event/kcc-tartars-v-ccc-jing-sun-2/
LOCATION:Tin Kwong Road Recreation Ground\, Tin Kwong Road\, Mong Kok\, Hong Kong
CATEGORIES:2016,Cricket,Free,Sport
GEO:22.3219997;114.1847986
X-APPLE-STRUCTURED-LOCATION;VALUE=URI;X-ADDRESS=Tin Kwong Road Recreation Ground Tin Kwong Road Mong Kok Hong Kong;X-APPLE-RADIUS=500;X-TITLE=Tin Kwong Road:geo:114.1847986,22.3219997
END:VEVENT
BEGIN:VEVENT
DTSTART;TZID=Asia/Hong_Kong:20160904T093000
DTEND;TZID=Asia/Hong_Kong:20160904T093000
DTSTAMP:20260422T161513
CREATED:20160919T105035Z
LAST-MODIFIED:20160919T105035Z
UID:10006332-1472981400-1472981400@www.bcmagazine.net
SUMMARY:HKCC Wanderers v Pakistan Association
DESCRIPTION:Elite League A: HKCC Wanderers v Pakistan Association
URL:https://www.bcmagazine.net/event/hkcc-wanderers-v-pakistan-association-2/
LOCATION:Tin Kwong Road Recreation Ground\, Tin Kwong Road\, Mong Kok\, Hong Kong
CATEGORIES:2016,Cricket,Free,Sport
GEO:22.3219997;114.1847986
X-APPLE-STRUCTURED-LOCATION;VALUE=URI;X-ADDRESS=Tin Kwong Road Recreation Ground Tin Kwong Road Mong Kok Hong Kong;X-APPLE-RADIUS=500;X-TITLE=Tin Kwong Road:geo:114.1847986,22.3219997
END:VEVENT
BEGIN:VEVENT
DTSTART;TZID=Asia/Hong_Kong:20160904T093000
DTEND;TZID=Asia/Hong_Kong:20160904T093000
DTSTAMP:20260422T161513
CREATED:20160919T105035Z
LAST-MODIFIED:20160919T105035Z
UID:10006333-1472981400-1472981400@www.bcmagazine.net
SUMMARY:Headwin Tritons SLCC v HKCA Dragons
DESCRIPTION:Elite League B: Headwin Tritons SLCC v HKCA Dragons
URL:https://www.bcmagazine.net/event/headwin-tritons-slcc-v-hkca-dragons-2/
LOCATION:Po Kong Village Road Park\, 140 Po Kong Village Road\, Diamond Hill\, Hong Kong
CATEGORIES:2016,Cricket,Free,Sport
GEO:22.3435827;114.2044989
X-APPLE-STRUCTURED-LOCATION;VALUE=URI;X-ADDRESS=Po Kong Village Road Park 140 Po Kong Village Road Diamond Hill Hong Kong;X-APPLE-RADIUS=500;X-TITLE=140 Po Kong Village Road:geo:114.2044989,22.3435827
END:VEVENT
END:VCALENDAR