BEGIN:VCALENDAR
VERSION:2.0
PRODID:-//bc magazine - ECPv6.15.20//NONSGML v1.0//EN
CALSCALE:GREGORIAN
METHOD:PUBLISH
X-WR-CALNAME:bc magazine
X-ORIGINAL-URL:https://www.bcmagazine.net
X-WR-CALDESC:Events for bc magazine
REFRESH-INTERVAL;VALUE=DURATION:PT1H
X-Robots-Tag:noindex
X-PUBLISHED-TTL:PT1H
BEGIN:VTIMEZONE
TZID:Asia/Hong_Kong
BEGIN:STANDARD
TZOFFSETFROM:+0800
TZOFFSETTO:+0800
TZNAME:HKT
DTSTART:20150101T000000
END:STANDARD
END:VTIMEZONE
BEGIN:VEVENT
DTSTART;TZID=Asia/Hong_Kong:20160916T083000
DTEND;TZID=Asia/Hong_Kong:20160916T083000
DTSTAMP:20260424T041642
CREATED:20160919T105030Z
LAST-MODIFIED:20160919T105030Z
UID:10006321-1474014600-1474014600@www.bcmagazine.net
SUMMARY:DLSWCC Wasps v PACC
DESCRIPTION:Women’s T20 A: DLSWCC Wasps v PACC
URL:https://www.bcmagazine.net/event/dlswcc-wasps-v-pacc/
LOCATION:Tin Kwong Road Recreation Ground\, Tin Kwong Road\, Mong Kok\, Hong Kong
CATEGORIES:2016,Cricket,Free,Sport
GEO:22.3219997;114.1847986
X-APPLE-STRUCTURED-LOCATION;VALUE=URI;X-ADDRESS=Tin Kwong Road Recreation Ground Tin Kwong Road Mong Kok Hong Kong;X-APPLE-RADIUS=500;X-TITLE=Tin Kwong Road:geo:114.1847986,22.3219997
END:VEVENT
BEGIN:VEVENT
DTSTART;TZID=Asia/Hong_Kong:20160916T123000
DTEND;TZID=Asia/Hong_Kong:20160916T123000
DTSTAMP:20260424T041642
CREATED:20160919T105030Z
LAST-MODIFIED:20160919T105030Z
UID:10006322-1474029000-1474029000@www.bcmagazine.net
SUMMARY:USRC/MCC v CCC Jing Sun
DESCRIPTION:Championship League A: USRC/MCC v CCC Jing Sun
URL:https://www.bcmagazine.net/event/usrcmcc-v-ccc-jing-sun/
LOCATION:Po Kong Village Road Park\, 140 Po Kong Village Road\, Diamond Hill\, Hong Kong
CATEGORIES:2016,Cricket,Free,Sport
GEO:22.3435827;114.2044989
X-APPLE-STRUCTURED-LOCATION;VALUE=URI;X-ADDRESS=Po Kong Village Road Park 140 Po Kong Village Road Diamond Hill Hong Kong;X-APPLE-RADIUS=500;X-TITLE=140 Po Kong Village Road:geo:114.2044989,22.3435827
END:VEVENT
BEGIN:VEVENT
DTSTART;TZID=Asia/Hong_Kong:20160916T130000
DTEND;TZID=Asia/Hong_Kong:20160916T130000
DTSTAMP:20260424T041642
CREATED:20160919T105029Z
LAST-MODIFIED:20160919T105029Z
UID:10006317-1474030800-1474030800@www.bcmagazine.net
SUMMARY:HKCC Gap Ramblers v Taipan CC
DESCRIPTION:Championship League A: HKCC Gap Ramblers v Taipan CC
URL:https://www.bcmagazine.net/event/hkcc-gap-ramblers-v-taipan-cc/
LOCATION:Hong Kong Cricket Club\, 137 Wong Ngai Chung Gap Road\, Hong Kong
CATEGORIES:2016,Cricket,Free,Sport
GEO:22.258574;114.1934009
X-APPLE-STRUCTURED-LOCATION;VALUE=URI;X-ADDRESS=Hong Kong Cricket Club 137 Wong Ngai Chung Gap Road Hong Kong;X-APPLE-RADIUS=500;X-TITLE=137 Wong Ngai Chung Gap Road:geo:114.1934009,22.258574
END:VEVENT
BEGIN:VEVENT
DTSTART;TZID=Asia/Hong_Kong:20160916T130000
DTEND;TZID=Asia/Hong_Kong:20160916T130000
DTSTAMP:20260424T041642
CREATED:20160919T105029Z
LAST-MODIFIED:20160919T105029Z
UID:10006318-1474030800-1474030800@www.bcmagazine.net
SUMMARY:KCC Crusaders v KCC Saracens
DESCRIPTION:Championship League A: KCC Crusaders v KCC Saracens
URL:https://www.bcmagazine.net/event/kcc-crusaders-v-kcc-saracens/
LOCATION:Kowloon Cricket Club\, 10 Cox's Road\, Jordan\, Hong Kong
CATEGORIES:2016,Cricket,Free,Sport
GEO:22.3048927;114.1737401
X-APPLE-STRUCTURED-LOCATION;VALUE=URI;X-ADDRESS=Kowloon Cricket Club 10 Cox's Road Jordan Hong Kong;X-APPLE-RADIUS=500;X-TITLE=10 Cox's Road:geo:114.1737401,22.3048927
END:VEVENT
BEGIN:VEVENT
DTSTART;TZID=Asia/Hong_Kong:20160916T133000
DTEND;TZID=Asia/Hong_Kong:20160916T133000
DTSTAMP:20260424T041642
CREATED:20160919T105029Z
LAST-MODIFIED:20160919T105029Z
UID:10006319-1474032600-1474032600@www.bcmagazine.net
SUMMARY:HKCC Cavaliers v HKCC Willow Wielders
DESCRIPTION:Women’s T20 A: HKCC Cavaliers v HKCC Willow Wielders
URL:https://www.bcmagazine.net/event/hkcc-cavaliers-v-hkcc-willow-wielders-2/
LOCATION:Tin Kwong Road Recreation Ground\, Tin Kwong Road\, Mong Kok\, Hong Kong
CATEGORIES:2016,Cricket,Free,Sport
GEO:22.3219997;114.1847986
X-APPLE-STRUCTURED-LOCATION;VALUE=URI;X-ADDRESS=Tin Kwong Road Recreation Ground Tin Kwong Road Mong Kok Hong Kong;X-APPLE-RADIUS=500;X-TITLE=Tin Kwong Road:geo:114.1847986,22.3219997
END:VEVENT
BEGIN:VEVENT
DTSTART;TZID=Asia/Hong_Kong:20160917T091500
DTEND;TZID=Asia/Hong_Kong:20160917T091500
DTSTAMP:20260424T041642
CREATED:20160919T105028Z
LAST-MODIFIED:20160919T105028Z
UID:10006315-1474103700-1474103700@www.bcmagazine.net
SUMMARY:HKCA Bauhinia (Red) v HKCA Sail (Blue)
DESCRIPTION:Women’s Premier League A: HKCA Bauhinia (Red) v HKCA Sail (Blue)
URL:https://www.bcmagazine.net/event/hkca-bauhinia-red-v-hkca-sail-blue-2/
LOCATION:Tin Kwong Road Recreation Ground\, Tin Kwong Road\, Mong Kok\, Hong Kong
CATEGORIES:2016,Cricket,Free,Sport
GEO:22.3219997;114.1847986
X-APPLE-STRUCTURED-LOCATION;VALUE=URI;X-ADDRESS=Tin Kwong Road Recreation Ground Tin Kwong Road Mong Kok Hong Kong;X-APPLE-RADIUS=500;X-TITLE=Tin Kwong Road:geo:114.1847986,22.3219997
END:VEVENT
BEGIN:VEVENT
DTSTART;TZID=Asia/Hong_Kong:20160917T123000
DTEND;TZID=Asia/Hong_Kong:20160917T123000
DTSTAMP:20260424T041642
CREATED:20160919T105028Z
LAST-MODIFIED:20160919T105028Z
UID:10006316-1474115400-1474115400@www.bcmagazine.net
SUMMARY:HKU CC v Pioneers CC
DESCRIPTION:Championship League B: HKU CC v Pioneers CC
URL:https://www.bcmagazine.net/event/hku-cc-v-pioneers-cc/
LOCATION:Po Kong Village Road Park\, 140 Po Kong Village Road\, Diamond Hill\, Hong Kong
CATEGORIES:2016,Cricket,Free,Sport
GEO:22.3435827;114.2044989
X-APPLE-STRUCTURED-LOCATION;VALUE=URI;X-ADDRESS=Po Kong Village Road Park 140 Po Kong Village Road Diamond Hill Hong Kong;X-APPLE-RADIUS=500;X-TITLE=140 Po Kong Village Road:geo:114.2044989,22.3435827
END:VEVENT
BEGIN:VEVENT
DTSTART;TZID=Asia/Hong_Kong:20160917T130000
DTEND;TZID=Asia/Hong_Kong:20160917T130000
DTSTAMP:20260424T041642
CREATED:20160919T105026Z
LAST-MODIFIED:20160919T105026Z
UID:10006312-1474117200-1474117200@www.bcmagazine.net
SUMMARY:HKCC Witherers v KCC Crusaders
DESCRIPTION:Championship League A: HKCC Witherers v KCC Crusaders
URL:https://www.bcmagazine.net/event/hkcc-witherers-v-kcc-crusaders/
LOCATION:Hong Kong Cricket Club\, 137 Wong Ngai Chung Gap Road\, Hong Kong
CATEGORIES:2016,Cricket,Free,Sport
GEO:22.258574;114.1934009
X-APPLE-STRUCTURED-LOCATION;VALUE=URI;X-ADDRESS=Hong Kong Cricket Club 137 Wong Ngai Chung Gap Road Hong Kong;X-APPLE-RADIUS=500;X-TITLE=137 Wong Ngai Chung Gap Road:geo:114.1934009,22.258574
END:VEVENT
BEGIN:VEVENT
DTSTART;TZID=Asia/Hong_Kong:20160917T130000
DTEND;TZID=Asia/Hong_Kong:20160917T130000
DTSTAMP:20260424T041642
CREATED:20160919T105027Z
LAST-MODIFIED:20160919T105027Z
UID:10006313-1474117200-1474117200@www.bcmagazine.net
SUMMARY:HKCC Nomads v KCC Tartars
DESCRIPTION:Championship League A: HKCC Nomads v KCC Tartars
URL:https://www.bcmagazine.net/event/hkcc-nomads-v-kcc-tartars/
LOCATION:Kowloon Cricket Club\, 10 Cox's Road\, Jordan\, Hong Kong
CATEGORIES:2016,Cricket,Free,Sport
GEO:22.3048927;114.1737401
X-APPLE-STRUCTURED-LOCATION;VALUE=URI;X-ADDRESS=Kowloon Cricket Club 10 Cox's Road Jordan Hong Kong;X-APPLE-RADIUS=500;X-TITLE=10 Cox's Road:geo:114.1737401,22.3048927
END:VEVENT
BEGIN:VEVENT
DTSTART;TZID=Asia/Hong_Kong:20160917T130000
DTEND;TZID=Asia/Hong_Kong:20160917T130000
DTSTAMP:20260424T041642
CREATED:20160919T105027Z
LAST-MODIFIED:20160919T105027Z
UID:10006314-1474117200-1474117200@www.bcmagazine.net
SUMMARY:Centaurs v DLSWCC Sarjan
DESCRIPTION:Championship League B: Centaurs v DLSWCC Sarjan
URL:https://www.bcmagazine.net/event/centaurs-v-dlswcc-sarjan/
LOCATION:Tin Kwong Road Recreation Ground\, Tin Kwong Road\, Mong Kok\, Hong Kong
CATEGORIES:2016,Cricket,Free,Sport
GEO:22.3219997;114.1847986
X-APPLE-STRUCTURED-LOCATION;VALUE=URI;X-ADDRESS=Tin Kwong Road Recreation Ground Tin Kwong Road Mong Kok Hong Kong;X-APPLE-RADIUS=500;X-TITLE=Tin Kwong Road:geo:114.1847986,22.3219997
END:VEVENT
BEGIN:VEVENT
DTSTART;TZID=Asia/Hong_Kong:20160918T090000
DTEND;TZID=Asia/Hong_Kong:20160918T090000
DTSTAMP:20260424T041642
CREATED:20160919T105025Z
LAST-MODIFIED:20160919T105025Z
UID:10006311-1474189200-1474189200@www.bcmagazine.net
SUMMARY:CCC Fung Wong v DLSWCC Wasps
DESCRIPTION:Women’s T20 A: CCC Fung Wong v DLSWCC Wasps
URL:https://www.bcmagazine.net/event/ccc-fung-wong-v-dlswcc-wasps-2/
LOCATION:Po Kong Village Road Reservoir Ground\, Po Kong Village Road\, Tsz Wan Shan\, Hong Kong
CATEGORIES:2016,Cricket,Free,Sport
GEO:22.346522;114.204203
X-APPLE-STRUCTURED-LOCATION;VALUE=URI;X-ADDRESS=Po Kong Village Road Reservoir Ground Po Kong Village Road Tsz Wan Shan Hong Kong;X-APPLE-RADIUS=500;X-TITLE=Po Kong Village Road:geo:114.204203,22.346522
END:VEVENT
BEGIN:VEVENT
DTSTART;TZID=Asia/Hong_Kong:20160918T093000
DTEND;TZID=Asia/Hong_Kong:20160918T093000
DTSTAMP:20260424T041642
CREATED:20160919T105025Z
LAST-MODIFIED:20160919T105025Z
UID:10006310-1474191000-1474191000@www.bcmagazine.net
SUMMARY:DLSWCC v PACC
DESCRIPTION:Premier League 1-Day A: DLSWCC v PACC
URL:https://www.bcmagazine.net/event/dlswcc-v-pacc-3/
LOCATION:Tin Kwong Road Recreation Ground\, Tin Kwong Road\, Mong Kok\, Hong Kong
CATEGORIES:2016,Cricket,Free,Sport
GEO:22.3219997;114.1847986
X-APPLE-STRUCTURED-LOCATION;VALUE=URI;X-ADDRESS=Tin Kwong Road Recreation Ground Tin Kwong Road Mong Kok Hong Kong;X-APPLE-RADIUS=500;X-TITLE=Tin Kwong Road:geo:114.1847986,22.3219997
END:VEVENT
BEGIN:VEVENT
DTSTART;TZID=Asia/Hong_Kong:20160918T100000
DTEND;TZID=Asia/Hong_Kong:20160918T100000
DTSTAMP:20260424T041642
CREATED:20160919T105024Z
LAST-MODIFIED:20160919T105024Z
UID:10006307-1474192800-1474192800@www.bcmagazine.net
SUMMARY:KCC v HKCC
DESCRIPTION:Premier League 1-Day A: KCC v HKCC
URL:https://www.bcmagazine.net/event/kcc-v-hkcc/
LOCATION:Hong Kong Cricket Club\, 137 Wong Ngai Chung Gap Road\, Hong Kong
CATEGORIES:2016,Cricket,Free,Sport
GEO:22.258574;114.1934009
X-APPLE-STRUCTURED-LOCATION;VALUE=URI;X-ADDRESS=Hong Kong Cricket Club 137 Wong Ngai Chung Gap Road Hong Kong;X-APPLE-RADIUS=500;X-TITLE=137 Wong Ngai Chung Gap Road:geo:114.1934009,22.258574
END:VEVENT
BEGIN:VEVENT
DTSTART;TZID=Asia/Hong_Kong:20160918T123000
DTEND;TZID=Asia/Hong_Kong:20160918T123000
DTSTAMP:20260424T041642
CREATED:20160919T105024Z
LAST-MODIFIED:20160919T105024Z
UID:10006309-1474201800-1474201800@www.bcmagazine.net
SUMMARY:PACC v HKCC Cavaliers
DESCRIPTION:Women’s T20 A: PACC v HKCC Cavaliers
URL:https://www.bcmagazine.net/event/pacc-v-hkcc-cavaliers-2/
LOCATION:Po Kong Village Road Reservoir Ground\, Po Kong Village Road\, Tsz Wan Shan\, Hong Kong
CATEGORIES:2016,Cricket,Free,Sport
GEO:22.346522;114.204203
X-APPLE-STRUCTURED-LOCATION;VALUE=URI;X-ADDRESS=Po Kong Village Road Reservoir Ground Po Kong Village Road Tsz Wan Shan Hong Kong;X-APPLE-RADIUS=500;X-TITLE=Po Kong Village Road:geo:114.204203,22.346522
END:VEVENT
BEGIN:VEVENT
DTSTART;TZID=Asia/Hong_Kong:20160918T133000
DTEND;TZID=Asia/Hong_Kong:20160918T133000
DTSTAMP:20260424T041642
CREATED:20160919T105024Z
LAST-MODIFIED:20160919T105024Z
UID:10006308-1474205400-1474205400@www.bcmagazine.net
SUMMARY:USRC v KCC Maidens
DESCRIPTION:Women’s T20 A: USRC v KCC Maidens
URL:https://www.bcmagazine.net/event/usrc-v-kcc-maidens/
LOCATION:Kowloon Cricket Club\, 10 Cox's Road\, Jordan\, Hong Kong
CATEGORIES:2016,Cricket,Free,Sport
GEO:22.3048927;114.1737401
X-APPLE-STRUCTURED-LOCATION;VALUE=URI;X-ADDRESS=Kowloon Cricket Club 10 Cox's Road Jordan Hong Kong;X-APPLE-RADIUS=500;X-TITLE=10 Cox's Road:geo:114.1737401,22.3048927
END:VEVENT
END:VCALENDAR